Workbook
Name NOM: [1]DATA!#REF!
Name NOM: [1]DATA!#REF!
Name NOM: [1]DATA!#REF!
Name NOM: [1]DATA!#REF!
Name NOM: [1]DATA!#REF!
Name NOM: [1]DATA!#REF!
Name NOM: [1]DATA!#REF!
Name NOM: [1]DATA!#REF!
Name NOMBIS: [1]DATA!#REF!
Name NOMBIS: [1]DATA!#REF!
Name NOMBIS: [1]DATA!#REF!
Name NOMBIS: [1]DATA!#REF!
Name NOMBIS: [1]DATA!#REF!
Name NOMBIS: [1]DATA!#REF!
Name NOMBIS: [1]DATA!#REF!
Name NOMFSDF: [1]DATA!#REF!
Name NOMFSDF: [1]DATA!#REF!
Name NOMFSDF: [1]DATA!#REF!
Name NOMFSDF: [1]DATA!#REF!
Name NOMFSDF: [1]DATA!#REF!

Sheet GENERAL INDIV (2)
A1: ISAPP ANNEE 2026 GENERAL INDIVIDUEL
B3: CLASSEMENT INDIVIDUEL MESSIEURS | E3: T1 | F3: T2 | G3: T3 | H3: T4 | I3: T5 | J3: T6 | K3: T7
B4: NOM | C4: PRENOM | D4: CLUB | E4: Score MONTPENSIER 26/03/26 | F4: Score CHARADE 23/04/26 | G4: Score MAURIAC 04/06/26 | H4: Score MONT DORE 18/07/26 | I4: Score LES VOLCANS 20/08/26 | J4: Score VAL D'AUZON 03/09/26 | K4: Score RIOM 24/09/26 | L4: Score Total | M4: 1 er SCORE Retiré | N4: 2 ème SCORE Retiré | O4: SCORE Final 2025 | P4: Classement
B5: JEANDREAU | C5: Alain | D5: RIOM | E5: =_xlfn.IFNA(VLOOKUP(TRIM(CONCATENATE(Tableau111[[#This Row],[PRENOM]],Tableau111[[#This Row],[NOM]])),'T1'!$C$5:$E$106,3,FALSE),90) -> 53 | F5: =_xlfn.IFNA(VLOOKUP(TRIM(CONCATENATE(Tableau111[[#This Row],[PRENOM]],Tableau111[[#This Row],[NOM]])),'T2'!$C$5:$E$94,3,FALSE),90) -> 57 | G5: =_xlfn.IFNA(VLOOKUP(TRIM(CONCATENATE(Tableau111[[#This Row],[PRENOM]],Tableau111[[#This Row],[NOM]])),'T3'!$C$6:$E$115,3,FALSE),90) -> 59 | H5: =_xlfn.IFNA(VLOOKUP(TRIM(CONCATENATE(Tableau111[[#This Row],[PRENOM]],Tableau111[[#This Row],[NOM]])),'T4'!$C$5:$E$100,3,FALSE),90) -> 62 | I5: =_xlfn.IFNA(VLOOKUP(TRIM(CONCATENATE(Tableau111[[#This Row],[PRENOM]],Tableau111[[#This Row],[NOM]])),'T5'!$C$5:$E$115,3,FALSE),90) -> 62 | J5: =_xlfn.IFNA(VLOOKUP(TRIM(CONCATENATE(Tableau111[[#This Row],[PRENOM]],Tableau111[[#This Row],[NOM]])),'T6'!$C$5:$E$126,3,FALSE),90) -> 66 | K5: =_xlfn.IFNA(VLOOKUP(TRIM(CONCATENATE(Tableau111[[#This Row],[PRENOM]],Tableau111[[#This Row],[NOM]])),'T7'!$C$5:$E$113,3,FALSE),90) -> 90 | L5: =SUM(E5:K5) -> 449 | M5: =LARGE(E5:K5,1) -> 90 | N5: =LARGE(E5:K5,2) -> 66 | O5: =L5-M5-N5 -> 293 | P5: =RANK(Tableau111[[#This Row],[SCORE Final 2025]],Tableau111[SCORE Final 2025],1) -> 1
B6: MOULIN | C6: Christian | D6: RIOM | E6: =_xlfn.IFNA(VLOOKUP(TRIM(CONCATENATE(Tableau111[[#This Row],[PRENOM]],Tableau111[[#This Row],[NOM]])),'T1'!$C$5:$E$106,3,FALSE),90) -> 61 | F6: =_xlfn.IFNA(VLOOKUP(TRIM(CONCATENATE(Tableau111[[#This Row],[PRENOM]],Tableau111[[#This Row],[NOM]])),'T2'!$C$5:$E$94,3,FALSE),90) -> 62 | G6: =_xlfn.IFNA(VLOOKUP(TRIM(CONCATENATE(Tableau111[[#This Row],[PRENOM]],Tableau111[[#This Row],[NOM]])),'T3'!$C$6:$E$115,3,FALSE),90) -> 60 | H6: =_xlfn.IFNA(VLOOKUP(TRIM(CONCATENATE(Tableau111[[#This Row],[PRENOM]],Tableau111[[#This Row],[NOM]])),'T4'!$C$5:$E$100,3,FALSE),90) -> 90 | I6: =_xlfn.IFNA(VLOOKUP(TRIM(CONCATENATE(Tableau111[[#This Row],[PRENOM]],Tableau111[[#This Row],[NOM]])),'T5'!$C$5:$E$115,3,FALSE),90) -> 53 | J6: =_xlfn.IFNA(VLOOKUP(TRIM(CONCATENATE(Tableau111[[#This Row],[PRENOM]],Tableau111[[#This Row],[NOM]])),'T6'!$C$5:$E$126,3,FALSE),90) -> 61 | K6: =_xlfn.IFNA(VLOOKUP(TRIM(CONCATENATE(Tableau111[[#This Row],[PRENOM]],Tableau111[[#This Row],[NOM]])),'T7'!$C$5:$E$113,3,FALSE),90) -> 58 | L6: =SUM(E6:K6) -> 445 | M6: =LARGE(E6:K6,1) -> 90 | N6: =LARGE(E6:K6,2) -> 62 | O6: =L6-M6-N6 -> 293 | P6: =RANK(Tableau111[[#This Row],[SCORE Final 2025]],Tableau111[SCORE Final 2025],1) -> 1
B7: JUHLIEN | C7: Roland | D7: RIOM | E7: =_xlfn.IFNA(VLOOKUP(TRIM(CONCATENATE(Tableau111[[#This Row],[PRENOM]],Tableau111[[#This Row],[NOM]])),'T1'!$C$5:$E$106,3,FALSE),90) -> 61 | F7: =_xlfn.IFNA(VLOOKUP(TRIM(CONCATENATE(Tableau111[[#This Row],[PRENOM]],Tableau111[[#This Row],[NOM]])),'T2'!$C$5:$E$94,3,FALSE),90) -> 90 | G7: =_xlfn.IFNA(VLOOKUP(TRIM(CONCATENATE(Tableau111[[#This Row],[PRENOM]],Tableau111[[#This Row],[NOM]])),'T3'!$C$6:$E$115,3,FALSE),90) -> 60 | H7: =_xlfn.IFNA(VLOOKUP(TRIM(CONCATENATE(Tableau111[[#This Row],[PRENOM]],Tableau111[[#This Row],[NOM]])),'T4'!$C$5:$E$100,3,FALSE),90) -> 69 | I7: 57 | J7: 66 | K7: =_xlfn.IFNA(VLOOKUP(TRIM(CONCATENATE(Tableau111[[#This Row],[PRENOM]],Tableau111[[#This Row],[NOM]])),'T7'!$C$5:$E$113,3,FALSE),90) -> 52 | L7: =SUM(E7:K7) -> 455 | M7: =LARGE(E7:K7,1) -> 90 | N7: =LARGE(E7:K7,2) -> 69 | O7: =L7-M7-N7 -> 296 | P7: =RANK(Tableau111[[#This Row],[SCORE Final 2025]],Tableau111[SCORE Final 2025],1) -> 3
B8: PERRIER | C8: Serge | D8: CHARADE | E8: =_xlfn.IFNA(VLOOKUP(TRIM(CONCATENATE(Tableau111[[#This Row],[PRENOM]],Tableau111[[#This Row],[NOM]])),'T1'!$C$5:$E$106,3,FALSE),90) -> 58 | F8: =_xlfn.IFNA(VLOOKUP(TRIM(CONCATENATE(Tableau111[[#This Row],[PRENOM]],Tableau111[[#This Row],[NOM]])),'T2'!$C$5:$E$94,3,FALSE),90) -> 59 | G8: =_xlfn.IFNA(VLOOKUP(TRIM(CONCATENATE(Tableau111[[#This Row],[PRENOM]],Tableau111[[#This Row],[NOM]])),'T3'!$C$6:$E$115,3,FALSE),90) -> 58 | H8: =_xlfn.IFNA(VLOOKUP(TRIM(CONCATENATE(Tableau111[[#This Row],[PRENOM]],Tableau111[[#This Row],[NOM]])),'T4'!$C$5:$E$100,3,FALSE),90) -> 90 | I8: =_xlfn.IFNA(VLOOKUP(TRIM(CONCATENATE(Tableau111[[#This Row],[PRENOM]],Tableau111[[#This Row],[NOM]])),'T5'!$C$5:$E$115,3,FALSE),90) -> 61 | J8: =_xlfn.IFNA(VLOOKUP(TRIM(CONCATENATE(Tableau111[[#This Row],[PRENOM]],Tableau111[[#This Row],[NOM]])),'T6'!$C$5:$E$126,3,FALSE),90) -> 64 | K8: =_xlfn.IFNA(VLOOKUP(TRIM(CONCATENATE(Tableau111[[#This Row],[PRENOM]],Tableau111[[#This Row],[NOM]])),'T7'!$C$5:$E$113,3,FALSE),90) -> 65 | L8: =SUM(E8:K8) -> 455 | M8: =LARGE(E8:K8,1) -> 90 | N8: =LARGE(E8:K8,2) -> 65 | O8: =L8-M8-N8 -> 300 | P8: =RANK(Tableau111[[#This Row],[SCORE Final 2025]],Tableau111[SCORE Final 2025],1) -> 4
B9: JOSSIER | C9: Gilles | D9: CHARADE | E9: =_xlfn.IFNA(VLOOKUP(TRIM(CONCATENATE(Tableau111[[#This Row],[PRENOM]],Tableau111[[#This Row],[NOM]])),'T1'!$C$5:$E$106,3,FALSE),90) -> 64 | F9: =_xlfn.IFNA(VLOOKUP(TRIM(CONCATENATE(Tableau111[[#This Row],[PRENOM]],Tableau111[[#This Row],[NOM]])),'T2'!$C$5:$E$94,3,FALSE),90) -> 63 | G9: =_xlfn.IFNA(VLOOKUP(TRIM(CONCATENATE(Tableau111[[#This Row],[PRENOM]],Tableau111[[#This Row],[NOM]])),'T3'!$C$6:$E$115,3,FALSE),90) -> 56 | H9: =_xlfn.IFNA(VLOOKUP(TRIM(CONCATENATE(Tableau111[[#This Row],[PRENOM]],Tableau111[[#This Row],[NOM]])),'T4'!$C$5:$E$100,3,FALSE),90) -> 59 | I9: 64 | J9: =_xlfn.IFNA(VLOOKUP(TRIM(CONCATENATE(Tableau111[[#This Row],[PRENOM]],Tableau111[[#This Row],[NOM]])),'T6'!$C$5:$E$126,3,FALSE),90) -> 71 | K9: =_xlfn.IFNA(VLOOKUP(TRIM(CONCATENATE(Tableau111[[#This Row],[PRENOM]],Tableau111[[#This Row],[NOM]])),'T7'!$C$5:$E$113,3,FALSE),90) -> 65 | L9: =SUM(E9:K9) -> 442 | M9: =LARGE(E9:K9,1) -> 71 | N9: =LARGE(E9:K9,2) -> 65 | O9: =L9-M9-N9 -> 306 | P9: =RANK(Tableau111[[#This Row],[SCORE Final 2025]],Tableau111[SCORE Final 2025],1) -> 5
B10: VESCOVI | C10: Gilles | D10: GAZELEC CLERMONT | E10: =_xlfn.IFNA(VLOOKUP(TRIM(CONCATENATE(Tableau111[[#This Row],[PRENOM]],Tableau111[[#This Row],[NOM]])),'T1'!$C$5:$E$106,3,FALSE),90) -> 61 | F10: =_xlfn.IFNA(VLOOKUP(TRIM(CONCATENATE(Tableau111[[#This Row],[PRENOM]],Tableau111[[#This Row],[NOM]])),'T2'!$C$5:$E$94,3,FALSE),90) -> 59 | G10: =_xlfn.IFNA(VLOOKUP(TRIM(CONCATENATE(Tableau111[[#This Row],[PRENOM]],Tableau111[[#This Row],[NOM]])),'T3'!$C$6:$E$115,3,FALSE),90) -> 57 | H10: =_xlfn.IFNA(VLOOKUP(TRIM(CONCATENATE(Tableau111[[#This Row],[PRENOM]],Tableau111[[#This Row],[NOM]])),'T4'!$C$5:$E$100,3,FALSE),90) -> 66 | I10: =_xlfn.IFNA(VLOOKUP(TRIM(CONCATENATE(Tableau111[[#This Row],[PRENOM]],Tableau111[[#This Row],[NOM]])),'T5'!$C$5:$E$115,3,FALSE),90) -> 69 | J10: =_xlfn.IFNA(VLOOKUP(TRIM(CONCATENATE(Tableau111[[#This Row],[PRENOM]],Tableau111[[#This Row],[NOM]])),'T6'!$C$5:$E$126,3,FALSE),90) -> 71 | K10: =_xlfn.IFNA(VLOOKUP(TRIM(CONCATENATE(Tableau111[[#This Row],[PRENOM]],Tableau111[[#This Row],[NOM]])),'T7'!$C$5:$E$113,3,FALSE),90) -> 63 | L10: =SUM(E10:K10) -> 446 | M10: =LARGE(E10:K10,1) -> 71 | N10: =LARGE(E10:K10,2) -> 69 | O10: =L10-M10-N10 -> 306 | P10: =RANK(Tableau111[[#This Row],[SCORE Final 2025]],Tableau111[SCORE Final 2025],1) -> 5
B11: CAMBET | C11: Gérard | D11: GAZELEC CLERMONT | E11: 63 | F11: 64 | G11: =_xlfn.IFNA(VLOOKUP(TRIM(CONCATENATE(Tableau111[[#This Row],[PRENOM]],Tableau111[[#This Row],[NOM]])),'T3'!$C$6:$E$115,3,FALSE),90) -> 60 | H11: =_xlfn.IFNA(VLOOKUP(TRIM(CONCATENATE(Tableau111[[#This Row],[PRENOM]],Tableau111[[#This Row],[NOM]])),'T4'!$C$5:$E$100,3,FALSE),90) -> 67 | I11: 61 | J11: 70 | K11: =_xlfn.IFNA(VLOOKUP(TRIM(CONCATENATE(Tableau111[[#This Row],[PRENOM]],Tableau111[[#This Row],[NOM]])),'T7'!$C$5:$E$113,3,FALSE),90) -> 59 | L11: =SUM(E11:K11) -> 444 | M11: =LARGE(E11:K11,1) -> 70 | N11: =LARGE(E11:K11,2) -> 67 | O11: =L11-M11-N11 -> 307 | P11: =RANK(Tableau111[[#This Row],[SCORE Final 2025]],Tableau111[SCORE Final 2025],1) -> 7
B12: FLEURY | C12: Bruno | D12: VAL D'AUZON | E12: =_xlfn.IFNA(VLOOKUP(TRIM(CONCATENATE(Tableau111[[#This Row],[PRENOM]],Tableau111[[#This Row],[NOM]])),'T1'!$C$5:$E$106,3,FALSE),90) -> 59 | F12: =_xlfn.IFNA(VLOOKUP(TRIM(CONCATENATE(Tableau111[[#This Row],[PRENOM]],Tableau111[[#This Row],[NOM]])),'T2'!$C$5:$E$94,3,FALSE),90) -> 64 | G12: =_xlfn.IFNA(VLOOKUP(TRIM(CONCATENATE(Tableau111[[#This Row],[PRENOM]],Tableau111[[#This Row],[NOM]])),'T3'!$C$6:$E$115,3,FALSE),90) -> 63 | H12: =_xlfn.IFNA(VLOOKUP(TRIM(CONCATENATE(Tableau111[[#This Row],[PRENOM]],Tableau111[[#This Row],[NOM]])),'T4'!$C$5:$E$100,3,FALSE),90) -> 90 | I12: =_xlfn.IFNA(VLOOKUP(TRIM(CONCATENATE(Tableau111[[#This Row],[PRENOM]],Tableau111[[#This Row],[NOM]])),'T5'!$C$5:$E$115,3,FALSE),90) -> 71 | J12: =_xlfn.IFNA(VLOOKUP(TRIM(CONCATENATE(Tableau111[[#This Row],[PRENOM]],Tableau111[[#This Row],[NOM]])),'T6'!$C$5:$E$126,3,FALSE),90) -> 63 | K12: =_xlfn.IFNA(VLOOKUP(TRIM(CONCATENATE(Tableau111[[#This Row],[PRENOM]],Tableau111[[#This Row],[NOM]])),'T7'!$C$5:$E$113,3,FALSE),90) -> 61 | L12: =SUM(E12:K12) -> 471 | M12: =LARGE(E12:K12,1) -> 90 | N12: =LARGE(E12:K12,2) -> 71 | O12: =L12-M12-N12 -> 310 | P12: =RANK(Tableau111[[#This Row],[SCORE Final 2025]],Tableau111[SCORE Final 2025],1) -> 8
B13: BOURGIER | C13: Robert | D13: GAZELEC CLERMONT | E13: =_xlfn.IFNA(VLOOKUP(TRIM(CONCATENATE(Tableau111[[#This Row],[PRENOM]],Tableau111[[#This Row],[NOM]])),'T1'!$C$5:$E$106,3,FALSE),90) -> 64 | F13: =_xlfn.IFNA(VLOOKUP(TRIM(CONCATENATE(Tableau111[[#This Row],[PRENOM]],Tableau111[[#This Row],[NOM]])),'T2'!$C$5:$E$94,3,FALSE),90) -> 64 | G13: =_xlfn.IFNA(VLOOKUP(TRIM(CONCATENATE(Tableau111[[#This Row],[PRENOM]],Tableau111[[#This Row],[NOM]])),'T3'!$C$6:$E$115,3,FALSE),90) -> 56 | H13: =_xlfn.IFNA(VLOOKUP(TRIM(CONCATENATE(Tableau111[[#This Row],[PRENOM]],Tableau111[[#This Row],[NOM]])),'T4'!$C$5:$E$100,3,FALSE),90) -> 66 | I13: =_xlfn.IFNA(VLOOKUP(TRIM(CONCATENATE(Tableau111[[#This Row],[PRENOM]],Tableau111[[#This Row],[NOM]])),'T5'!$C$5:$E$115,3,FALSE),90) -> 65 | J13: =_xlfn.IFNA(VLOOKUP(TRIM(CONCATENATE(Tableau111[[#This Row],[PRENOM]],Tableau111[[#This Row],[NOM]])),'T6'!$C$5:$E$126,3,FALSE),90) -> 90 | K13: =_xlfn.IFNA(VLOOKUP(TRIM(CONCATENATE(Tableau111[[#This Row],[PRENOM]],Tableau111[[#This Row],[NOM]])),'T7'!$C$5:$E$113,3,FALSE),90) -> 65 | L13: =SUM(E13:K13) -> 470 | M13: =LARGE(E13:K13,1) -> 90 | N13: =LARGE(E13:K13,2) -> 66 | O13: =L13-M13-N13 -> 314 | P13: =RANK(Tableau111[[#This Row],[SCORE Final 2025]],Tableau111[SCORE Final 2025],1) -> 9
B14: MACHAJ | C14: Jacky | D14: RIOM | E14: =_xlfn.IFNA(VLOOKUP(TRIM(CONCATENATE(Tableau111[[#This Row],[PRENOM]],Tableau111[[#This Row],[NOM]])),'T1'!$C$5:$E$106,3,FALSE),90) -> 62 | F14: =_xlfn.IFNA(VLOOKUP(TRIM(CONCATENATE(Tableau111[[#This Row],[PRENOM]],Tableau111[[#This Row],[NOM]])),'T2'!$C$5:$E$94,3,FALSE),90) -> 64 | G14: =_xlfn.IFNA(VLOOKUP(TRIM(CONCATENATE(Tableau111[[#This Row],[PRENOM]],Tableau111[[#This Row],[NOM]])),'T3'!$C$6:$E$115,3,FALSE),90) -> 62 | H14: =_xlfn.IFNA(VLOOKUP(TRIM(CONCATENATE(Tableau111[[#This Row],[PRENOM]],Tableau111[[#This Row],[NOM]])),'T4'!$C$5:$E$100,3,FALSE),90) -> 63 | I14: =_xlfn.IFNA(VLOOKUP(TRIM(CONCATENATE(Tableau111[[#This Row],[PRENOM]],Tableau111[[#This Row],[NOM]])),'T5'!$C$5:$E$115,3,FALSE),90) -> 65 | J14: =_xlfn.IFNA(VLOOKUP(TRIM(CONCATENATE(Tableau111[[#This Row],[PRENOM]],Tableau111[[#This Row],[NOM]])),'T6'!$C$5:$E$126,3,FALSE),90) -> 90 | K14: =_xlfn.IFNA(VLOOKUP(TRIM(CONCATENATE(Tableau111[[#This Row],[PRENOM]],Tableau111[[#This Row],[NOM]])),'T7'!$C$5:$E$113,3,FALSE),90) -> 64 | L14: =SUM(E14:K14) -> 470 | M14: =LARGE(E14:K14,1) -> 90 | N14: =LARGE(E14:K14,2) -> 65 | O14: =L14-M14-N14 -> 315 | P14: =RANK(Tableau111[[#This Row],[SCORE Final 2025]],Tableau111[SCORE Final 2025],1) -> 10
B15: VEDEL | C15: Daniel | D15: VAL D'AUZON | E15: =_xlfn.IFNA(VLOOKUP(TRIM(CONCATENATE(Tableau111[[#This Row],[PRENOM]],Tableau111[[#This Row],[NOM]])),'T1'!$C$5:$E$106,3,FALSE),90) -> 90 | F15: =_xlfn.IFNA(VLOOKUP(TRIM(CONCATENATE(Tableau111[[#This Row],[PRENOM]],Tableau111[[#This Row],[NOM]])),'T2'!$C$5:$E$94,3,FALSE),90) -> 65 | G15: =_xlfn.IFNA(VLOOKUP(TRIM(CONCATENATE(Tableau111[[#This Row],[PRENOM]],Tableau111[[#This Row],[NOM]])),'T3'!$C$6:$E$115,3,FALSE),90) -> 68 | H15: =_xlfn.IFNA(VLOOKUP(TRIM(CONCATENATE(Tableau111[[#This Row],[PRENOM]],Tableau111[[#This Row],[NOM]])),'T4'!$C$5:$E$100,3,FALSE),90) -> 90 | I15: =_xlfn.IFNA(VLOOKUP(TRIM(CONCATENATE(Tableau111[[#This Row],[PRENOM]],Tableau111[[#This Row],[NOM]])),'T5'!$C$5:$E$115,3,FALSE),90) -> 66 | J15: =_xlfn.IFNA(VLOOKUP(TRIM(CONCATENATE(Tableau111[[#This Row],[PRENOM]],Tableau111[[#This Row],[NOM]])),'T6'!$C$5:$E$126,3,FALSE),90) -> 66 | K15: =_xlfn.IFNA(VLOOKUP(TRIM(CONCATENATE(Tableau111[[#This Row],[PRENOM]],Tableau111[[#This Row],[NOM]])),'T7'!$C$5:$E$113,3,FALSE),90) -> 61 | L15: =SUM(E15:K15) -> 506 | M15: =LARGE(E15:K15,1) -> 90 | N15: =LARGE(E15:K15,2) -> 90 | O15: =L15-M15-N15 -> 326 | P15: =RANK(Tableau111[[#This Row],[SCORE Final 2025]],Tableau111[SCORE Final 2025],1) -> 11
B16: BRUNEL | C16: Robert | D16: VAL D'AUZON | E16: =_xlfn.IFNA(VLOOKUP(TRIM(CONCATENATE(Tableau111[[#This Row],[PRENOM]],Tableau111[[#This Row],[NOM]])),'T1'!$C$5:$E$106,3,FALSE),90) -> 57 | F16: =_xlfn.IFNA(VLOOKUP(TRIM(CONCATENATE(Tableau111[[#This Row],[PRENOM]],Tableau111[[#This Row],[NOM]])),'T2'!$C$5:$E$94,3,FALSE),90) -> 64 | G16: =_xlfn.IFNA(VLOOKUP(TRIM(CONCATENATE(Tableau111[[#This Row],[PRENOM]],Tableau111[[#This Row],[NOM]])),'T3'!$C$6:$E$115,3,FALSE),90) -> 57 | H16: =_xlfn.IFNA(VLOOKUP(TRIM(CONCATENATE(Tableau111[[#This Row],[PRENOM]],Tableau111[[#This Row],[NOM]])),'T4'!$C$5:$E$100,3,FALSE),90) -> 90 | I16: =_xlfn.IFNA(VLOOKUP(TRIM(CONCATENATE(Tableau111[[#This Row],[PRENOM]],Tableau111[[#This Row],[NOM]])),'T5'!$C$5:$E$115,3,FALSE),90) -> 64 | J16: =_xlfn.IFNA(VLOOKUP(TRIM(CONCATENATE(Tableau111[[#This Row],[PRENOM]],Tableau111[[#This Row],[NOM]])),'T6'!$C$5:$E$126,3,FALSE),90) -> 90 | K16: =_xlfn.IFNA(VLOOKUP(TRIM(CONCATENATE(Tableau111[[#This Row],[PRENOM]],Tableau111[[#This Row],[NOM]])),'T7'!$C$5:$E$113,3,FALSE),90) -> 90 | L16: =SUM(E16:K16) -> 512 | M16: =LARGE(E16:K16,1) -> 90 | N16: =LARGE(E16:K16,2) -> 90 | O16: =L16-M16-N16 -> 332 | P16: =RANK(Tableau111[[#This Row],[SCORE Final 2025]],Tableau111[SCORE Final 2025],1) -> 12
B17: MERCIER | C17: Claude | D17: VAL D'AUZON | E17: =_xlfn.IFNA(VLOOKUP(TRIM(CONCATENATE(Tableau111[[#This Row],[PRENOM]],Tableau111[[#This Row],[NOM]])),'T1'!$C$5:$E$106,3,FALSE),90) -> 68 | F17: =_xlfn.IFNA(VLOOKUP(TRIM(CONCATENATE(Tableau111[[#This Row],[PRENOM]],Tableau111[[#This Row],[NOM]])),'T2'!$C$5:$E$94,3,FALSE),90) -> 68 | G17: =_xlfn.IFNA(VLOOKUP(TRIM(CONCATENATE(Tableau111[[#This Row],[PRENOM]],Tableau111[[#This Row],[NOM]])),'T3'!$C$6:$E$115,3,FALSE),90) -> 64 | H17: =_xlfn.IFNA(VLOOKUP(TRIM(CONCATENATE(Tableau111[[#This Row],[PRENOM]],Tableau111[[#This Row],[NOM]])),'T4'!$C$5:$E$100,3,FALSE),90) -> 90 | I17: =_xlfn.IFNA(VLOOKUP(TRIM(CONCATENATE(Tableau111[[#This Row],[PRENOM]],Tableau111[[#This Row],[NOM]])),'T5'!$C$5:$E$115,3,FALSE),90) -> 90 | J17: =_xlfn.IFNA(VLOOKUP(TRIM(CONCATENATE(Tableau111[[#This Row],[PRENOM]],Tableau111[[#This Row],[NOM]])),'T6'!$C$5:$E$126,3,FALSE),90) -> 68 | K17: =_xlfn.IFNA(VLOOKUP(TRIM(CONCATENATE(Tableau111[[#This Row],[PRENOM]],Tableau111[[#This Row],[NOM]])),'T7'!$C$5:$E$113,3,FALSE),90) -> 66 | L17: =SUM(E17:K17) -> 514 | M17: =LARGE(E17:K17,1) -> 90 | N17: =LARGE(E17:K17,2) -> 90 | O17: =L17-M17-N17 -> 334 | P17: =RANK(Tableau111[[#This Row],[SCORE Final 2025]],Tableau111[SCORE Final 2025],1) -> 13
B18: PEGEON | C18: Jacky | D18: RIOM | E18: =_xlfn.IFNA(VLOOKUP(TRIM(CONCATENATE(Tableau111[[#This Row],[PRENOM]],Tableau111[[#This Row],[NOM]])),'T1'!$C$5:$E$106,3,FALSE),90) -> 66 | F18: =_xlfn.IFNA(VLOOKUP(TRIM(CONCATENATE(Tableau111[[#This Row],[PRENOM]],Tableau111[[#This Row],[NOM]])),'T2'!$C$5:$E$94,3,FALSE),90) -> 66 | G18: =_xlfn.IFNA(VLOOKUP(TRIM(CONCATENATE(Tableau111[[#This Row],[PRENOM]],Tableau111[[#This Row],[NOM]])),'T3'!$C$6:$E$115,3,FALSE),90) -> 73 | H18: =_xlfn.IFNA(VLOOKUP(TRIM(CONCATENATE(Tableau111[[#This Row],[PRENOM]],Tableau111[[#This Row],[NOM]])),'T4'!$C$5:$E$100,3,FALSE),90) -> 90 | I18: =_xlfn.IFNA(VLOOKUP(TRIM(CONCATENATE(Tableau111[[#This Row],[PRENOM]],Tableau111[[#This Row],[NOM]])),'T5'!$C$5:$E$115,3,FALSE),90) -> 66 | J18: =_xlfn.IFNA(VLOOKUP(TRIM(CONCATENATE(Tableau111[[#This Row],[PRENOM]],Tableau111[[#This Row],[NOM]])),'T6'!$C$5:$E$126,3,FALSE),90) -> 90 | K18: =_xlfn.IFNA(VLOOKUP(TRIM(CONCATENATE(Tableau111[[#This Row],[PRENOM]],Tableau111[[#This Row],[NOM]])),'T7'!$C$5:$E$113,3,FALSE),90) -> 66 | L18: =SUM(E18:K18) -> 517 | M18: =LARGE(E18:K18,1) -> 90 | N18: =LARGE(E18:K18,2) -> 90 | O18: =L18-M18-N18 -> 337 | P18: =RANK(Tableau111[[#This Row],[SCORE Final 2025]],Tableau111[SCORE Final 2025],1) -> 14
B19: RODDE | C19: Jean Louis | D19: MAURIAC | E19: =_xlfn.IFNA(VLOOKUP(TRIM(CONCATENATE(Tableau111[[#This Row],[PRENOM]],Tableau111[[#This Row],[NOM]])),'T1'!$C$5:$E$106,3,FALSE),90) -> 90 | F19: =_xlfn.IFNA(VLOOKUP(TRIM(CONCATENATE(Tableau111[[#This Row],[PRENOM]],Tableau111[[#This Row],[NOM]])),'T2'!$C$5:$E$94,3,FALSE),90) -> 66 | G19: =_xlfn.IFNA(VLOOKUP(TRIM(CONCATENATE(Tableau111[[#This Row],[PRENOM]],Tableau111[[#This Row],[NOM]])),'T3'!$C$6:$E$115,3,FALSE),90) -> 53 | H19: =_xlfn.IFNA(VLOOKUP(TRIM(CONCATENATE(Tableau111[[#This Row],[PRENOM]],Tableau111[[#This Row],[NOM]])),'T4'!$C$5:$E$100,3,FALSE),90) -> 65 | I19: =_xlfn.IFNA(VLOOKUP(TRIM(CONCATENATE(Tableau111[[#This Row],[PRENOM]],Tableau111[[#This Row],[NOM]])),'T5'!$C$5:$E$115,3,FALSE),90) -> 90 | J19: =_xlfn.IFNA(VLOOKUP(TRIM(CONCATENATE(Tableau111[[#This Row],[PRENOM]],Tableau111[[#This Row],[NOM]])),'T6'!$C$5:$E$126,3,FALSE),90) -> 66 | K19: =_xlfn.IFNA(VLOOKUP(TRIM(CONCATENATE(Tableau111[[#This Row],[PRENOM]],Tableau111[[#This Row],[NOM]])),'T7'!$C$5:$E$113,3,FALSE),90) -> 90 | L19: =SUM(E19:K19) -> 520 | M19: =LARGE(E19:K19,1) -> 90 | N19: =LARGE(E19:K19,2) -> 90 | O19: =L19-M19-N19 -> 340 | P19: =RANK(Tableau111[[#This Row],[SCORE Final 2025]],Tableau111[SCORE Final 2025],1) -> 15
B20: HESEL | C20: Jean Marc | D20: GAZELEC CLERMONT | E20: =_xlfn.IFNA(VLOOKUP(TRIM(CONCATENATE(Tableau111[[#This Row],[PRENOM]],Tableau111[[#This Row],[NOM]])),'T1'!$C$5:$E$106,3,FALSE),90) -> 62 | F20: =_xlfn.IFNA(VLOOKUP(TRIM(CONCATENATE(Tableau111[[#This Row],[PRENOM]],Tableau111[[#This Row],[NOM]])),'T2'!$C$5:$E$94,3,FALSE),90) -> 61 | G20: =_xlfn.IFNA(VLOOKUP(TRIM(CONCATENATE(Tableau111[[#This Row],[PRENOM]],Tableau111[[#This Row],[NOM]])),'T3'!$C$6:$E$115,3,FALSE),90) -> 64 | H20: =_xlfn.IFNA(VLOOKUP(TRIM(CONCATENATE(Tableau111[[#This Row],[PRENOM]],Tableau111[[#This Row],[NOM]])),'T4'!$C$5:$E$100,3,FALSE),90) -> 90 | I20: =_xlfn.IFNA(VLOOKUP(TRIM(CONCATENATE(Tableau111[[#This Row],[PRENOM]],Tableau111[[#This Row],[NOM]])),'T5'!$C$5:$E$115,3,FALSE),90) -> 90 | J20: =_xlfn.IFNA(VLOOKUP(TRIM(CONCATENATE(Tableau111[[#This Row],[PRENOM]],Tableau111[[#This Row],[NOM]])),'T6'!$C$5:$E$126,3,FALSE),90) -> 67 | K20: =_xlfn.IFNA(VLOOKUP(TRIM(CONCATENATE(Tableau111[[#This Row],[PRENOM]],Tableau111[[#This Row],[NOM]])),'T7'!$C$5:$E$113,3,FALSE),90) -> 90 | L20: =SUM(E20:K20) -> 524 | M20: =LARGE(E20:K20,1) -> 90 | N20: =LARGE(E20:K20,2) -> 90 | O20: =L20-M20-N20 -> 344 | P20: =RANK(Tableau111[[#This Row],[SCORE Final 2025]],Tableau111[SCORE Final 2025],1) -> 16
B21: PIERROT | C21: Daniel | D21: VAL D'AUZON | E21: =_xlfn.IFNA(VLOOKUP(TRIM(CONCATENATE(Tableau111[[#This Row],[PRENOM]],Tableau111[[#This Row],[NOM]])),'T1'!$C$5:$E$106,3,FALSE),90) -> 65 | F21: =_xlfn.IFNA(VLOOKUP(TRIM(CONCATENATE(Tableau111[[#This Row],[PRENOM]],Tableau111[[#This Row],[NOM]])),'T2'!$C$5:$E$94,3,FALSE),90) -> 90 | G21: =_xlfn.IFNA(VLOOKUP(TRIM(CONCATENATE(Tableau111[[#This Row],[PRENOM]],Tableau111[[#This Row],[NOM]])),'T3'!$C$6:$E$115,3,FALSE),90) -> 60 | H21: =_xlfn.IFNA(VLOOKUP(TRIM(CONCATENATE(Tableau111[[#This Row],[PRENOM]],Tableau111[[#This Row],[NOM]])),'T4'!$C$5:$E$100,3,FALSE),90) -> 90 | I21: =_xlfn.IFNA(VLOOKUP(TRIM(CONCATENATE(Tableau111[[#This Row],[PRENOM]],Tableau111[[#This Row],[NOM]])),'T5'!$C$5:$E$115,3,FALSE),90) -> 69 | J21: =_xlfn.IFNA(VLOOKUP(TRIM(CONCATENATE(Tableau111[[#This Row],[PRENOM]],Tableau111[[#This Row],[NOM]])),'T6'!$C$5:$E$126,3,FALSE),90) -> 90 | K21: =_xlfn.IFNA(VLOOKUP(TRIM(CONCATENATE(Tableau111[[#This Row],[PRENOM]],Tableau111[[#This Row],[NOM]])),'T7'!$C$5:$E$113,3,FALSE),90) -> 60 | L21: =SUM(E21:K21) -> 524 | M21: =LARGE(E21:K21,1) -> 90 | N21: =LARGE(E21:K21,2) -> 90 | O21: =L21-M21-N21 -> 344 | P21: =RANK(Tableau111[[#This Row],[SCORE Final 2025]],Tableau111[SCORE Final 2025],1) -> 16
B22: GRAVELIN | C22: Marc | D22: CHARADE | E22: =_xlfn.IFNA(VLOOKUP(TRIM(CONCATENATE(Tableau111[[#This Row],[PRENOM]],Tableau111[[#This Row],[NOM]])),'T1'!$C$5:$E$106,3,FALSE),90) -> 64 | F22: =_xlfn.IFNA(VLOOKUP(TRIM(CONCATENATE(Tableau111[[#This Row],[PRENOM]],Tableau111[[#This Row],[NOM]])),'T2'!$C$5:$E$94,3,FALSE),90) -> 68 | G22: =_xlfn.IFNA(VLOOKUP(TRIM(CONCATENATE(Tableau111[[#This Row],[PRENOM]],Tableau111[[#This Row],[NOM]])),'T3'!$C$6:$E$115,3,FALSE),90) -> 74 | H22: =_xlfn.IFNA(VLOOKUP(TRIM(CONCATENATE(Tableau111[[#This Row],[PRENOM]],Tableau111[[#This Row],[NOM]])),'T4'!$C$5:$E$100,3,FALSE),90) -> 72 | I22: 69 | J22: =_xlfn.IFNA(VLOOKUP(TRIM(CONCATENATE(Tableau111[[#This Row],[PRENOM]],Tableau111[[#This Row],[NOM]])),'T6'!$C$5:$E$126,3,FALSE),90) -> 74 | K22: =_xlfn.IFNA(VLOOKUP(TRIM(CONCATENATE(Tableau111[[#This Row],[PRENOM]],Tableau111[[#This Row],[NOM]])),'T7'!$C$5:$E$113,3,FALSE),90) -> 78 | L22: =SUM(E22:K22) -> 499 | M22: =LARGE(E22:K22,1) -> 78 | N22: =LARGE(E22:K22,2) -> 74 | O22: =L22-M22-N22 -> 347 | P22: =RANK(Tableau111[[#This Row],[SCORE Final 2025]],Tableau111[SCORE Final 2025],1) -> 18
B23: ANAVOISARD | C23: Jacques | D23: VAL D'AUZON | E23: =_xlfn.IFNA(VLOOKUP(TRIM(CONCATENATE(Tableau111[[#This Row],[PRENOM]],Tableau111[[#This Row],[NOM]])),'T1'!$C$5:$E$106,3,FALSE),90) -> 90 | F23: =_xlfn.IFNA(VLOOKUP(TRIM(CONCATENATE(Tableau111[[#This Row],[PRENOM]],Tableau111[[#This Row],[NOM]])),'T2'!$C$5:$E$94,3,FALSE),90) -> 70 | G23: =_xlfn.IFNA(VLOOKUP(TRIM(CONCATENATE(Tableau111[[#This Row],[PRENOM]],Tableau111[[#This Row],[NOM]])),'T3'!$C$6:$E$115,3,FALSE),90) -> 70 | H23: =_xlfn.IFNA(VLOOKUP(TRIM(CONCATENATE(Tableau111[[#This Row],[PRENOM]],Tableau111[[#This Row],[NOM]])),'T4'!$C$5:$E$100,3,FALSE),90) -> 73 | I23: =_xlfn.IFNA(VLOOKUP(TRIM(CONCATENATE(Tableau111[[#This Row],[PRENOM]],Tableau111[[#This Row],[NOM]])),'T5'!$C$5:$E$115,3,FALSE),90) -> 68 | J23: =_xlfn.IFNA(VLOOKUP(TRIM(CONCATENATE(Tableau111[[#This Row],[PRENOM]],Tableau111[[#This Row],[NOM]])),'T6'!$C$5:$E$126,3,FALSE),90) -> 70 | K23: =_xlfn.IFNA(VLOOKUP(TRIM(CONCATENATE(Tableau111[[#This Row],[PRENOM]],Tableau111[[#This Row],[NOM]])),'T7'!$C$5:$E$113,3,FALSE),90) -> 75 | L23: =SUM(E23:K23) -> 516 | M23: =LARGE(E23:K23,1) -> 90 | N23: =LARGE(E23:K23,2) -> 75 | O23: =L23-M23-N23 -> 351 | P23: =RANK(Tableau111[[#This Row],[SCORE Final 2025]],Tableau111[SCORE Final 2025],1) -> 19
B24: LABAUNE | C24: Michel | D24: MAURIAC | E24: =_xlfn.IFNA(VLOOKUP(TRIM(CONCATENATE(Tableau111[[#This Row],[PRENOM]],Tableau111[[#This Row],[NOM]])),'T1'!$C$5:$E$106,3,FALSE),90) -> 68 | F24: =_xlfn.IFNA(VLOOKUP(TRIM(CONCATENATE(Tableau111[[#This Row],[PRENOM]],Tableau111[[#This Row],[NOM]])),'T2'!$C$5:$E$94,3,FALSE),90) -> 90 | G24: =_xlfn.IFNA(VLOOKUP(TRIM(CONCATENATE(Tableau111[[#This Row],[PRENOM]],Tableau111[[#This Row],[NOM]])),'T3'!$C$6:$E$115,3,FALSE),90) -> 68 | H24: =_xlfn.IFNA(VLOOKUP(TRIM(CONCATENATE(Tableau111[[#This Row],[PRENOM]],Tableau111[[#This Row],[NOM]])),'T4'!$C$5:$E$100,3,FALSE),90) -> 77 | I24: =_xlfn.IFNA(VLOOKUP(TRIM(CONCATENATE(Tableau111[[#This Row],[PRENOM]],Tableau111[[#This Row],[NOM]])),'T5'!$C$5:$E$115,3,FALSE),90) -> 69 | J24: =_xlfn.IFNA(VLOOKUP(TRIM(CONCATENATE(Tableau111[[#This Row],[PRENOM]],Tableau111[[#This Row],[NOM]])),'T6'!$C$5:$E$126,3,FALSE),90) -> 72 | K24: =_xlfn.IFNA(VLOOKUP(TRIM(CONCATENATE(Tableau111[[#This Row],[PRENOM]],Tableau111[[#This Row],[NOM]])),'T7'!$C$5:$E$113,3,FALSE),90) -> 74 | L24: =SUM(E24:K24) -> 518 | M24: =LARGE(E24:K24,1) -> 90 | N24: =LARGE(E24:K24,2) -> 77 | O24: =L24-M24-N24 -> 351 | P24: =RANK(Tableau111[[#This Row],[SCORE Final 2025]],Tableau111[SCORE Final 2025],1) -> 19
B25: CUVIER | C25: Philippe | D25: VAL D'AUZON | E25: =_xlfn.IFNA(VLOOKUP(TRIM(CONCATENATE(Tableau111[[#This Row],[PRENOM]],Tableau111[[#This Row],[NOM]])),'T1'!$C$5:$E$106,3,FALSE),90) -> 67 | F25: =_xlfn.IFNA(VLOOKUP(TRIM(CONCATENATE(Tableau111[[#This Row],[PRENOM]],Tableau111[[#This Row],[NOM]])),'T2'!$C$5:$E$94,3,FALSE),90) -> 90 | G25: =_xlfn.IFNA(VLOOKUP(TRIM(CONCATENATE(Tableau111[[#This Row],[PRENOM]],Tableau111[[#This Row],[NOM]])),'T3'!$C$6:$E$115,3,FALSE),90) -> 59 | H25: =_xlfn.IFNA(VLOOKUP(TRIM(CONCATENATE(Tableau111[[#This Row],[PRENOM]],Tableau111[[#This Row],[NOM]])),'T4'!$C$5:$E$100,3,FALSE),90) -> 90 | I25: =_xlfn.IFNA(VLOOKUP(TRIM(CONCATENATE(Tableau111[[#This Row],[PRENOM]],Tableau111[[#This Row],[NOM]])),'T5'!$C$5:$E$115,3,FALSE),90) -> 64 | J25: =_xlfn.IFNA(VLOOKUP(TRIM(CONCATENATE(Tableau111[[#This Row],[PRENOM]],Tableau111[[#This Row],[NOM]])),'T6'!$C$5:$E$126,3,FALSE),90) -> 72 | K25: =_xlfn.IFNA(VLOOKUP(TRIM(CONCATENATE(Tableau111[[#This Row],[PRENOM]],Tableau111[[#This Row],[NOM]])),'T7'!$C$5:$E$113,3,FALSE),90) -> 90 | L25: =SUM(E25:K25) -> 532 | M25: =LARGE(E25:K25,1) -> 90 | N25: =LARGE(E25:K25,2) -> 90 | O25: =L25-M25-N25 -> 352 | P25: =RANK(Tableau111[[#This Row],[SCORE Final 2025]],Tableau111[SCORE Final 2025],1) -> 21
B26: FAURIE | C26: Jean-Michel | D26: VAL D'AUZON | E26: =_xlfn.IFNA(VLOOKUP(TRIM(CONCATENATE(Tableau111[[#This Row],[PRENOM]],Tableau111[[#This Row],[NOM]])),'T1'!$C$5:$E$106,3,FALSE),90) -> 90 | F26: =_xlfn.IFNA(VLOOKUP(TRIM(CONCATENATE(Tableau111[[#This Row],[PRENOM]],Tableau111[[#This Row],[NOM]])),'T2'!$C$5:$E$94,3,FALSE),90) -> 69 | G26: =_xlfn.IFNA(VLOOKUP(TRIM(CONCATENATE(Tableau111[[#This Row],[PRENOM]],Tableau111[[#This Row],[NOM]])),'T3'!$C$6:$E$115,3,FALSE),90) -> 67 | H26: =_xlfn.IFNA(VLOOKUP(TRIM(CONCATENATE(Tableau111[[#This Row],[PRENOM]],Tableau111[[#This Row],[NOM]])),'T4'!$C$5:$E$100,3,FALSE),90) -> 71 | I26: =_xlfn.IFNA(VLOOKUP(TRIM(CONCATENATE(Tableau111[[#This Row],[PRENOM]],Tableau111[[#This Row],[NOM]])),'T5'!$C$5:$E$115,3,FALSE),90) -> 75 | J26: =_xlfn.IFNA(VLOOKUP(TRIM(CONCATENATE(Tableau111[[#This Row],[PRENOM]],Tableau111[[#This Row],[NOM]])),'T6'!$C$5:$E$126,3,FALSE),90) -> 71 | K26: =_xlfn.IFNA(VLOOKUP(TRIM(CONCATENATE(Tableau111[[#This Row],[PRENOM]],Tableau111[[#This Row],[NOM]])),'T7'!$C$5:$E$113,3,FALSE),90) -> 90 | L26: =SUM(E26:K26) -> 533 | M26: =LARGE(E26:K26,1) -> 90 | N26: =LARGE(E26:K26,2) -> 90 | O26: =L26-M26-N26 -> 353 | P26: =RANK(Tableau111[[#This Row],[SCORE Final 2025]],Tableau111[SCORE Final 2025],1) -> 22
B27: GAILLARD | C27: Hervé | D27: CHARADE | E27: =_xlfn.IFNA(VLOOKUP(TRIM(CONCATENATE(Tableau111[[#This Row],[PRENOM]],Tableau111[[#This Row],[NOM]])),'T1'!$C$5:$E$106,3,FALSE),90) -> 90 | F27: =_xlfn.IFNA(VLOOKUP(TRIM(CONCATENATE(Tableau111[[#This Row],[PRENOM]],Tableau111[[#This Row],[NOM]])),'T2'!$C$5:$E$94,3,FALSE),90) -> 90 | G27: =_xlfn.IFNA(VLOOKUP(TRIM(CONCATENATE(Tableau111[[#This Row],[PRENOM]],Tableau111[[#This Row],[NOM]])),'T3'!$C$6:$E$115,3,FALSE),90) -> 60 | H27: =_xlfn.IFNA(VLOOKUP(TRIM(CONCATENATE(Tableau111[[#This Row],[PRENOM]],Tableau111[[#This Row],[NOM]])),'T4'!$C$5:$E$100,3,FALSE),90) -> 90 | I27: =_xlfn.IFNA(VLOOKUP(TRIM(CONCATENATE(Tableau111[[#This Row],[PRENOM]],Tableau111[[#This Row],[NOM]])),'T5'!$C$5:$E$115,3,FALSE),90) -> 90 | J27: =_xlfn.IFNA(VLOOKUP(TRIM(CONCATENATE(Tableau111[[#This Row],[PRENOM]],Tableau111[[#This Row],[NOM]])),'T6'!$C$5:$E$126,3,FALSE),90) -> 57 | K27: =_xlfn.IFNA(VLOOKUP(TRIM(CONCATENATE(Tableau111[[#This Row],[PRENOM]],Tableau111[[#This Row],[NOM]])),'T7'!$C$5:$E$113,3,FALSE),90) -> 58 | L27: =SUM(E27:K27) -> 535 | M27: =LARGE(E27:K27,1) -> 90 | N27: =LARGE(E27:K27,2) -> 90 | O27: =L27-M27-N27 -> 355 | P27: =RANK(Tableau111[[#This Row],[SCORE Final 2025]],Tableau111[SCORE Final 2025],1) -> 23
B28: RAYNIERE | C28: Pierre Jean | D28: MAURIAC | E28: =_xlfn.IFNA(VLOOKUP(TRIM(CONCATENATE(Tableau111[[#This Row],[PRENOM]],Tableau111[[#This Row],[NOM]])),'T1'!$C$5:$E$106,3,FALSE),90) -> 90 | F28: =_xlfn.IFNA(VLOOKUP(TRIM(CONCATENATE(Tableau111[[#This Row],[PRENOM]],Tableau111[[#This Row],[NOM]])),'T2'!$C$5:$E$94,3,FALSE),90) -> 76 | G28: =_xlfn.IFNA(VLOOKUP(TRIM(CONCATENATE(Tableau111[[#This Row],[PRENOM]],Tableau111[[#This Row],[NOM]])),'T3'!$C$6:$E$115,3,FALSE),90) -> 70 | H28: =_xlfn.IFNA(VLOOKUP(TRIM(CONCATENATE(Tableau111[[#This Row],[PRENOM]],Tableau111[[#This Row],[NOM]])),'T4'!$C$5:$E$100,3,FALSE),90) -> 75 | I28: =_xlfn.IFNA(VLOOKUP(TRIM(CONCATENATE(Tableau111[[#This Row],[PRENOM]],Tableau111[[#This Row],[NOM]])),'T5'!$C$5:$E$115,3,FALSE),90) -> 65 | J28: =_xlfn.IFNA(VLOOKUP(TRIM(CONCATENATE(Tableau111[[#This Row],[PRENOM]],Tableau111[[#This Row],[NOM]])),'T6'!$C$5:$E$126,3,FALSE),90) -> 69 | K28: =_xlfn.IFNA(VLOOKUP(TRIM(CONCATENATE(Tableau111[[#This Row],[PRENOM]],Tableau111[[#This Row],[NOM]])),'T7'!$C$5:$E$113,3,FALSE),90) -> 90 | L28: =SUM(E28:K28) -> 535 | M28: =LARGE(E28:K28,1) -> 90 | N28: =LARGE(E28:K28,2) -> 90 | O28: =L28-M28-N28 -> 355 | P28: =RANK(Tableau111[[#This Row],[SCORE Final 2025]],Tableau111[SCORE Final 2025],1) -> 23
B29: MANOUVRIER | C29: Michel | D29: GAZELEC CLERMONT | E29: =_xlfn.IFNA(VLOOKUP(TRIM(CONCATENATE(Tableau111[[#This Row],[PRENOM]],Tableau111[[#This Row],[NOM]])),'T1'!$C$5:$E$106,3,FALSE),90) -> 64 | F29: =_xlfn.IFNA(VLOOKUP(TRIM(CONCATENATE(Tableau111[[#This Row],[PRENOM]],Tableau111[[#This Row],[NOM]])),'T2'!$C$5:$E$94,3,FALSE),90) -> 72 | G29: =_xlfn.IFNA(VLOOKUP(TRIM(CONCATENATE(Tableau111[[#This Row],[PRENOM]],Tableau111[[#This Row],[NOM]])),'T3'!$C$6:$E$115,3,FALSE),90) -> 90 | H29: =_xlfn.IFNA(VLOOKUP(TRIM(CONCATENATE(Tableau111[[#This Row],[PRENOM]],Tableau111[[#This Row],[NOM]])),'T4'!$C$5:$E$100,3,FALSE),90) -> 80 | I29: =_xlfn.IFNA(VLOOKUP(TRIM(CONCATENATE(Tableau111[[#This Row],[PRENOM]],Tableau111[[#This Row],[NOM]])),'T5'!$C$5:$E$115,3,FALSE),90) -> 72 | J29: =_xlfn.IFNA(VLOOKUP(TRIM(CONCATENATE(Tableau111[[#This Row],[PRENOM]],Tableau111[[#This Row],[NOM]])),'T6'!$C$5:$E$126,3,FALSE),90) -> 77 | K29: =_xlfn.IFNA(VLOOKUP(TRIM(CONCATENATE(Tableau111[[#This Row],[PRENOM]],Tableau111[[#This Row],[NOM]])),'T7'!$C$5:$E$113,3,FALSE),90) -> 71 | L29: =SUM(E29:K29) -> 526 | M29: =LARGE(E29:K29,1) -> 90 | N29: =LARGE(E29:K29,2) -> 80 | O29: =L29-M29-N29 -> 356 | P29: =RANK(Tableau111[[#This Row],[SCORE Final 2025]],Tableau111[SCORE Final 2025],1) -> 25
B30: ROBERT | C30: Serge | D30: CHARADE | E30: =_xlfn.IFNA(VLOOKUP(TRIM(CONCATENATE(Tableau111[[#This Row],[PRENOM]],Tableau111[[#This Row],[NOM]])),'T1'!$C$5:$E$106,3,FALSE),90) -> 65 | F30: =_xlfn.IFNA(VLOOKUP(TRIM(CONCATENATE(Tableau111[[#This Row],[PRENOM]],Tableau111[[#This Row],[NOM]])),'T2'!$C$5:$E$94,3,FALSE),90) -> 90 | G30: =_xlfn.IFNA(VLOOKUP(TRIM(CONCATENATE(Tableau111[[#This Row],[PRENOM]],Tableau111[[#This Row],[NOM]])),'T3'!$C$6:$E$115,3,FALSE),90) -> 90 | H30: =_xlfn.IFNA(VLOOKUP(TRIM(CONCATENATE(Tableau111[[#This Row],[PRENOM]],Tableau111[[#This Row],[NOM]])),'T4'!$C$5:$E$100,3,FALSE),90) -> 77 | I30: =_xlfn.IFNA(VLOOKUP(TRIM(CONCATENATE(Tableau111[[#This Row],[PRENOM]],Tableau111[[#This Row],[NOM]])),'T5'!$C$5:$E$115,3,FALSE),90) -> 66 | J30: =_xlfn.IFNA(VLOOKUP(TRIM(CONCATENATE(Tableau111[[#This Row],[PRENOM]],Tableau111[[#This Row],[NOM]])),'T6'!$C$5:$E$126,3,FALSE),90) -> 90 | K30: =_xlfn.IFNA(VLOOKUP(TRIM(CONCATENATE(Tableau111[[#This Row],[PRENOM]],Tableau111[[#This Row],[NOM]])),'T7'!$C$5:$E$113,3,FALSE),90) -> 60 | L30: =SUM(E30:K30) -> 538 | M30: =LARGE(E30:K30,1) -> 90 | N30: =LARGE(E30:K30,2) -> 90 | O30: =L30-M30-N30 -> 358 | P30: =RANK(Tableau111[[#This Row],[SCORE Final 2025]],Tableau111[SCORE Final 2025],1) -> 26
B31: FOURNIER | C31: Philippe | D31: VAL D'AUZON | E31: =_xlfn.IFNA(VLOOKUP(TRIM(CONCATENATE(Tableau111[[#This Row],[PRENOM]],Tableau111[[#This Row],[NOM]])),'T1'!$C$5:$E$106,3,FALSE),90) -> 90 | F31: =_xlfn.IFNA(VLOOKUP(TRIM(CONCATENATE(Tableau111[[#This Row],[PRENOM]],Tableau111[[#This Row],[NOM]])),'T2'!$C$5:$E$94,3,FALSE),90) -> 90 | G31: =_xlfn.IFNA(VLOOKUP(TRIM(CONCATENATE(Tableau111[[#This Row],[PRENOM]],Tableau111[[#This Row],[NOM]])),'T3'!$C$6:$E$115,3,FALSE),90) -> 59 | H31: =_xlfn.IFNA(VLOOKUP(TRIM(CONCATENATE(Tableau111[[#This Row],[PRENOM]],Tableau111[[#This Row],[NOM]])),'T4'!$C$5:$E$100,3,FALSE),90) -> 90 | I31: =_xlfn.IFNA(VLOOKUP(TRIM(CONCATENATE(Tableau111[[#This Row],[PRENOM]],Tableau111[[#This Row],[NOM]])),'T5'!$C$5:$E$115,3,FALSE),90) -> 59 | J31: =_xlfn.IFNA(VLOOKUP(TRIM(CONCATENATE(Tableau111[[#This Row],[PRENOM]],Tableau111[[#This Row],[NOM]])),'T6'!$C$5:$E$126,3,FALSE),90) -> 62 | K31: =_xlfn.IFNA(VLOOKUP(TRIM(CONCATENATE(Tableau111[[#This Row],[PRENOM]],Tableau111[[#This Row],[NOM]])),'T7'!$C$5:$E$113,3,FALSE),90) -> 90 | L31: =SUM(E31:K31) -> 540 | M31: =LARGE(E31:K31,1) -> 90 | N31: =LARGE(E31:K31,2) -> 90 | O31: =L31-M31-N31 -> 360 | P31: =RANK(Tableau111[[#This Row],[SCORE Final 2025]],Tableau111[SCORE Final 2025],1) -> 27
B32: LOUBAT | C32: Jean | D32: CHARADE | E32: =_xlfn.IFNA(VLOOKUP(TRIM(CONCATENATE(Tableau111[[#This Row],[PRENOM]],Tableau111[[#This Row],[NOM]])),'T1'!$C$5:$E$106,3,FALSE),90) -> 68 | F32: =_xlfn.IFNA(VLOOKUP(TRIM(CONCATENATE(Tableau111[[#This Row],[PRENOM]],Tableau111[[#This Row],[NOM]])),'T2'!$C$5:$E$94,3,FALSE),90) -> 90 | G32: =_xlfn.IFNA(VLOOKUP(TRIM(CONCATENATE(Tableau111[[#This Row],[PRENOM]],Tableau111[[#This Row],[NOM]])),'T3'!$C$6:$E$115,3,FALSE),90) -> 67 | H32: =_xlfn.IFNA(VLOOKUP(TRIM(CONCATENATE(Tableau111[[#This Row],[PRENOM]],Tableau111[[#This Row],[NOM]])),'T4'!$C$5:$E$100,3,FALSE),90) -> 90 | I32: 90 | J32: =_xlfn.IFNA(VLOOKUP(TRIM(CONCATENATE(Tableau111[[#This Row],[PRENOM]],Tableau111[[#This Row],[NOM]])),'T6'!$C$5:$E$126,3,FALSE),90) -> 72 | K32: =_xlfn.IFNA(VLOOKUP(TRIM(CONCATENATE(Tableau111[[#This Row],[PRENOM]],Tableau111[[#This Row],[NOM]])),'T7'!$C$5:$E$113,3,FALSE),90) -> 63 | L32: =SUM(E32:K32) -> 540 | M32: =LARGE(E32:K32,1) -> 90 | N32: =LARGE(E32:K32,2) -> 90 | O32: =L32-M32-N32 -> 360 | P32: =RANK(Tableau111[[#This Row],[SCORE Final 2025]],Tableau111[SCORE Final 2025],1) -> 27
B33: CLUZEL | C33: Jean Claude | D33: RIOM | E33: =_xlfn.IFNA(VLOOKUP(TRIM(CONCATENATE(Tableau111[[#This Row],[PRENOM]],Tableau111[[#This Row],[NOM]])),'T1'!$C$5:$E$106,3,FALSE),90) -> 64 | F33: =_xlfn.IFNA(VLOOKUP(TRIM(CONCATENATE(Tableau111[[#This Row],[PRENOM]],Tableau111[[#This Row],[NOM]])),'T2'!$C$5:$E$94,3,FALSE),90) -> 90 | G33: =_xlfn.IFNA(VLOOKUP(TRIM(CONCATENATE(Tableau111[[#This Row],[PRENOM]],Tableau111[[#This Row],[NOM]])),'T3'!$C$6:$E$115,3,FALSE),90) -> 57 | H33: =_xlfn.IFNA(VLOOKUP(TRIM(CONCATENATE(Tableau111[[#This Row],[PRENOM]],Tableau111[[#This Row],[NOM]])),'T4'!$C$5:$E$100,3,FALSE),90) -> 90 | I33: =_xlfn.IFNA(VLOOKUP(TRIM(CONCATENATE(Tableau111[[#This Row],[PRENOM]],Tableau111[[#This Row],[NOM]])),'T5'!$C$5:$E$115,3,FALSE),90) -> 90 | J33: =_xlfn.IFNA(VLOOKUP(TRIM(CONCATENATE(Tableau111[[#This Row],[PRENOM]],Tableau111[[#This Row],[NOM]])),'T6'!$C$5:$E$126,3,FALSE),90) -> 66 | K33: =_xlfn.IFNA(VLOOKUP(TRIM(CONCATENATE(Tableau111[[#This Row],[PRENOM]],Tableau111[[#This Row],[NOM]])),'T7'!$C$5:$E$113,3,FALSE),90) -> 90 | L33: =SUM(E33:K33) -> 547 | M33: =LARGE(E33:K33,1) -> 90 | N33: =LARGE(E33:K33,2) -> 90 | O33: =L33-M33-N33 -> 367 | P33: =RANK(Tableau111[[#This Row],[SCORE Final 2025]],Tableau111[SCORE Final 2025],1) -> 29
B34: SOU AH Y | C34: Christophe | D34: VAL D'AUZON | E34: =_xlfn.IFNA(VLOOKUP(TRIM(CONCATENATE(Tableau111[[#This Row],[PRENOM]],Tableau111[[#This Row],[NOM]])),'T1'!$C$5:$E$106,3,FALSE),90) -> 90 | F34: =_xlfn.IFNA(VLOOKUP(TRIM(CONCATENATE(Tableau111[[#This Row],[PRENOM]],Tableau111[[#This Row],[NOM]])),'T2'!$C$5:$E$94,3,FALSE),90) -> 90 | G34: =_xlfn.IFNA(VLOOKUP(TRIM(CONCATENATE(Tableau111[[#This Row],[PRENOM]],Tableau111[[#This Row],[NOM]])),'T3'!$C$6:$E$115,3,FALSE),90) -> 90 | H34: =_xlfn.IFNA(VLOOKUP(TRIM(CONCATENATE(Tableau111[[#This Row],[PRENOM]],Tableau111[[#This Row],[NOM]])),'T4'!$C$5:$E$100,3,FALSE),90) -> 90 | I34: =_xlfn.IFNA(VLOOKUP(TRIM(CONCATENATE(Tableau111[[#This Row],[PRENOM]],Tableau111[[#This Row],[NOM]])),'T5'!$C$5:$E$115,3,FALSE),90) -> 67 | J34: =_xlfn.IFNA(VLOOKUP(TRIM(CONCATENATE(Tableau111[[#This Row],[PRENOM]],Tableau111[[#This Row],[NOM]])),'T6'!$C$5:$E$126,3,FALSE),90) -> 60 | K34: =_xlfn.IFNA(VLOOKUP(TRIM(CONCATENATE(Tableau111[[#This Row],[PRENOM]],Tableau111[[#This Row],[NOM]])),'T7'!$C$5:$E$113,3,FALSE),90) -> 63 | L34: =SUM(E34:K34) -> 550 | M34: =LARGE(E34:K34,1) -> 90 | N34: =LARGE(E34:K34,2) -> 90 | O34: =L34-M34-N34 -> 370 | P34: =RANK(Tableau111[[#This Row],[SCORE Final 2025]],Tableau111[SCORE Final 2025],1) -> 30
B35: FONTANON | C35: Serge | D35: GAZELEC CLERMONT | E35: =_xlfn.IFNA(VLOOKUP(TRIM(CONCATENATE(Tableau111[[#This Row],[PRENOM]],Tableau111[[#This Row],[NOM]])),'T1'!$C$5:$E$106,3,FALSE),90) -> 90 | F35: =_xlfn.IFNA(VLOOKUP(TRIM(CONCATENATE(Tableau111[[#This Row],[PRENOM]],Tableau111[[#This Row],[NOM]])),'T2'!$C$5:$E$94,3,FALSE),90) -> 90 | G35: =_xlfn.IFNA(VLOOKUP(TRIM(CONCATENATE(Tableau111[[#This Row],[PRENOM]],Tableau111[[#This Row],[NOM]])),'T3'!$C$6:$E$115,3,FALSE),90) -> 70 | H35: =_xlfn.IFNA(VLOOKUP(TRIM(CONCATENATE(Tableau111[[#This Row],[PRENOM]],Tableau111[[#This Row],[NOM]])),'T4'!$C$5:$E$100,3,FALSE),90) -> 72 | I35: =_xlfn.IFNA(VLOOKUP(TRIM(CONCATENATE(Tableau111[[#This Row],[PRENOM]],Tableau111[[#This Row],[NOM]])),'T5'!$C$5:$E$115,3,FALSE),90) -> 71 | J35: =_xlfn.IFNA(VLOOKUP(TRIM(CONCATENATE(Tableau111[[#This Row],[PRENOM]],Tableau111[[#This Row],[NOM]])),'T6'!$C$5:$E$126,3,FALSE),90) -> 71 | K35: =_xlfn.IFNA(VLOOKUP(TRIM(CONCATENATE(Tableau111[[#This Row],[PRENOM]],Tableau111[[#This Row],[NOM]])),'T7'!$C$5:$E$113,3,FALSE),90) -> 90 | L35: =SUM(E35:K35) -> 554 | M35: =LARGE(E35:K35,1) -> 90 | N35: =LARGE(E35:K35,2) -> 90 | O35: =L35-M35-N35 -> 374 | P35: =RANK(Tableau111[[#This Row],[SCORE Final 2025]],Tableau111[SCORE Final 2025],1) -> 31
B36: FLORENCIO | C36: Georges | D36: GAZELEC CLERMONT | E36: =_xlfn.IFNA(VLOOKUP(TRIM(CONCATENATE(Tableau111[[#This Row],[PRENOM]],Tableau111[[#This Row],[NOM]])),'T1'!$C$5:$E$106,3,FALSE),90) -> 90 | F36: =_xlfn.IFNA(VLOOKUP(TRIM(CONCATENATE(Tableau111[[#This Row],[PRENOM]],Tableau111[[#This Row],[NOM]])),'T2'!$C$5:$E$94,3,FALSE),90) -> 90 | G36: =_xlfn.IFNA(VLOOKUP(TRIM(CONCATENATE(Tableau111[[#This Row],[PRENOM]],Tableau111[[#This Row],[NOM]])),'T3'!$C$6:$E$115,3,FALSE),90) -> 90 | H36: =_xlfn.IFNA(VLOOKUP(TRIM(CONCATENATE(Tableau111[[#This Row],[PRENOM]],Tableau111[[#This Row],[NOM]])),'T4'!$C$5:$E$100,3,FALSE),90) -> 71 | I36: =_xlfn.IFNA(VLOOKUP(TRIM(CONCATENATE(Tableau111[[#This Row],[PRENOM]],Tableau111[[#This Row],[NOM]])),'T5'!$C$5:$E$115,3,FALSE),90) -> 66 | J36: =_xlfn.IFNA(VLOOKUP(TRIM(CONCATENATE(Tableau111[[#This Row],[PRENOM]],Tableau111[[#This Row],[NOM]])),'T6'!$C$5:$E$126,3,FALSE),90) -> 90 | K36: =_xlfn.IFNA(VLOOKUP(TRIM(CONCATENATE(Tableau111[[#This Row],[PRENOM]],Tableau111[[#This Row],[NOM]])),'T7'!$C$5:$E$113,3,FALSE),90) -> 61 | L36: =SUM(E36:K36) -> 558 | M36: =LARGE(E36:K36,1) -> 90 | N36: =LARGE(E36:K36,2) -> 90 | O36: =L36-M36-N36 -> 378 | P36: =RANK(Tableau111[[#This Row],[SCORE Final 2025]],Tableau111[SCORE Final 2025],1) -> 32
B37: GEBRILLAT | C37: Maël | D37: VAL D'AUZON | E37: =_xlfn.IFNA(VLOOKUP(TRIM(CONCATENATE(Tableau111[[#This Row],[PRENOM]],Tableau111[[#This Row],[NOM]])),'T1'!$C$5:$E$106,3,FALSE),90) -> 90 | F37: =_xlfn.IFNA(VLOOKUP(TRIM(CONCATENATE(Tableau111[[#This Row],[PRENOM]],Tableau111[[#This Row],[NOM]])),'T2'!$C$5:$E$94,3,FALSE),90) -> 68 | G37: =_xlfn.IFNA(VLOOKUP(TRIM(CONCATENATE(Tableau111[[#This Row],[PRENOM]],Tableau111[[#This Row],[NOM]])),'T3'!$C$6:$E$115,3,FALSE),90) -> 90 | H37: =_xlfn.IFNA(VLOOKUP(TRIM(CONCATENATE(Tableau111[[#This Row],[PRENOM]],Tableau111[[#This Row],[NOM]])),'T4'!$C$5:$E$100,3,FALSE),90) -> 90 | I37: =_xlfn.IFNA(VLOOKUP(TRIM(CONCATENATE(Tableau111[[#This Row],[PRENOM]],Tableau111[[#This Row],[NOM]])),'T5'!$C$5:$E$115,3,FALSE),90) -> 90 | J37: =_xlfn.IFNA(VLOOKUP(TRIM(CONCATENATE(Tableau111[[#This Row],[PRENOM]],Tableau111[[#This Row],[NOM]])),'T6'!$C$5:$E$126,3,FALSE),90) -> 67 | K37: =_xlfn.IFNA(VLOOKUP(TRIM(CONCATENATE(Tableau111[[#This Row],[PRENOM]],Tableau111[[#This Row],[NOM]])),'T7'!$C$5:$E$113,3,FALSE),90) -> 69 | L37: =SUM(E37:K37) -> 564 | M37: =LARGE(E37:K37,1) -> 90 | N37: =LARGE(E37:K37,2) -> 90 | O37: =L37-M37-N37 -> 384 | P37: =RANK(Tableau111[[#This Row],[SCORE Final 2025]],Tableau111[SCORE Final 2025],1) -> 33
B38: POMARES | C38: Michel | D38: MONTPENSIER | E38: =_xlfn.IFNA(VLOOKUP(TRIM(CONCATENATE(Tableau111[[#This Row],[PRENOM]],Tableau111[[#This Row],[NOM]])),'T1'!$C$5:$E$106,3,FALSE),90) -> 90 | F38: =_xlfn.IFNA(VLOOKUP(TRIM(CONCATENATE(Tableau111[[#This Row],[PRENOM]],Tableau111[[#This Row],[NOM]])),'T2'!$C$5:$E$94,3,FALSE),90) -> 90 | G38: =_xlfn.IFNA(VLOOKUP(TRIM(CONCATENATE(Tableau111[[#This Row],[PRENOM]],Tableau111[[#This Row],[NOM]])),'T3'!$C$6:$E$115,3,FALSE),90) -> 90 | H38: =_xlfn.IFNA(VLOOKUP(TRIM(CONCATENATE(Tableau111[[#This Row],[PRENOM]],Tableau111[[#This Row],[NOM]])),'T4'!$C$5:$E$100,3,FALSE),90) -> 90 | I38: =_xlfn.IFNA(VLOOKUP(TRIM(CONCATENATE(Tableau111[[#This Row],[PRENOM]],Tableau111[[#This Row],[NOM]])),'T5'!$C$5:$E$115,3,FALSE),90) -> 90 | J38: =_xlfn.IFNA(VLOOKUP(TRIM(CONCATENATE(Tableau111[[#This Row],[PRENOM]],Tableau111[[#This Row],[NOM]])),'T6'!$C$5:$E$126,3,FALSE),90) -> 62 | K38: =_xlfn.IFNA(VLOOKUP(TRIM(CONCATENATE(Tableau111[[#This Row],[PRENOM]],Tableau111[[#This Row],[NOM]])),'T7'!$C$5:$E$113,3,FALSE),90) -> 53 | L38: =SUM(E38:K38) -> 565 | M38: =LARGE(E38:K38,1) -> 90 | N38: =LARGE(E38:K38,2) -> 90 | O38: =L38-M38-N38 -> 385 | P38: =RANK(Tableau111[[#This Row],[SCORE Final 2025]],Tableau111[SCORE Final 2025],1) -> 34
B39: LAPERNA | C39: Jean Claude | D39: RIOM | E39: =_xlfn.IFNA(VLOOKUP(TRIM(CONCATENATE(Tableau111[[#This Row],[PRENOM]],Tableau111[[#This Row],[NOM]])),'T1'!$C$5:$E$106,3,FALSE),90) -> 90 | F39: =_xlfn.IFNA(VLOOKUP(TRIM(CONCATENATE(Tableau111[[#This Row],[PRENOM]],Tableau111[[#This Row],[NOM]])),'T2'!$C$5:$E$94,3,FALSE),90) -> 90 | G39: =_xlfn.IFNA(VLOOKUP(TRIM(CONCATENATE(Tableau111[[#This Row],[PRENOM]],Tableau111[[#This Row],[NOM]])),'T3'!$C$6:$E$115,3,FALSE),90) -> 90 | H39: =_xlfn.IFNA(VLOOKUP(TRIM(CONCATENATE(Tableau111[[#This Row],[PRENOM]],Tableau111[[#This Row],[NOM]])),'T4'!$C$5:$E$100,3,FALSE),90) -> 90 | I39: =_xlfn.IFNA(VLOOKUP(TRIM(CONCATENATE(Tableau111[[#This Row],[PRENOM]],Tableau111[[#This Row],[NOM]])),'T5'!$C$5:$E$115,3,FALSE),90) -> 90 | J39: =_xlfn.IFNA(VLOOKUP(TRIM(CONCATENATE(Tableau111[[#This Row],[PRENOM]],Tableau111[[#This Row],[NOM]])),'T6'!$C$5:$E$126,3,FALSE),90) -> 61 | K39: =_xlfn.IFNA(VLOOKUP(TRIM(CONCATENATE(Tableau111[[#This Row],[PRENOM]],Tableau111[[#This Row],[NOM]])),'T7'!$C$5:$E$113,3,FALSE),90) -> 55 | L39: =SUM(E39:K39) -> 566 | M39: =LARGE(E39:K39,1) -> 90 | N39: =LARGE(E39:K39,2) -> 90 | O39: =L39-M39-N39 -> 386 | P39: =RANK(Tableau111[[#This Row],[SCORE Final 2025]],Tableau111[SCORE Final 2025],1) -> 35
B40: SAVOIE | C40: Philippe | D40: VAL D'AUZON | E40: =_xlfn.IFNA(VLOOKUP(TRIM(CONCATENATE(Tableau111[[#This Row],[PRENOM]],Tableau111[[#This Row],[NOM]])),'T1'!$C$5:$E$106,3,FALSE),90) -> 90 | F40: =_xlfn.IFNA(VLOOKUP(TRIM(CONCATENATE(Tableau111[[#This Row],[PRENOM]],Tableau111[[#This Row],[NOM]])),'T2'!$C$5:$E$94,3,FALSE),90) -> 90 | G40: =_xlfn.IFNA(VLOOKUP(TRIM(CONCATENATE(Tableau111[[#This Row],[PRENOM]],Tableau111[[#This Row],[NOM]])),'T3'!$C$6:$E$115,3,FALSE),90) -> 90 | H40: =_xlfn.IFNA(VLOOKUP(TRIM(CONCATENATE(Tableau111[[#This Row],[PRENOM]],Tableau111[[#This Row],[NOM]])),'T4'!$C$5:$E$100,3,FALSE),90) -> 76 | I40: =_xlfn.IFNA(VLOOKUP(TRIM(CONCATENATE(Tableau111[[#This Row],[PRENOM]],Tableau111[[#This Row],[NOM]])),'T5'!$C$5:$E$115,3,FALSE),90) -> 79 | J40: =_xlfn.IFNA(VLOOKUP(TRIM(CONCATENATE(Tableau111[[#This Row],[PRENOM]],Tableau111[[#This Row],[NOM]])),'T6'!$C$5:$E$126,3,FALSE),90) -> 75 | K40: =_xlfn.IFNA(VLOOKUP(TRIM(CONCATENATE(Tableau111[[#This Row],[PRENOM]],Tableau111[[#This Row],[NOM]])),'T7'!$C$5:$E$113,3,FALSE),90) -> 71 | L40: =SUM(E40:K40) -> 571 | M40: =LARGE(E40:K40,1) -> 90 | N40: =LARGE(E40:K40,2) -> 90 | O40: =L40-M40-N40 -> 391 | P40: =RANK(Tableau111[[#This Row],[SCORE Final 2025]],Tableau111[SCORE Final 2025],1) -> 36
B41: MARCUCCI | C41: Serge | D41: RIOM | E41: =_xlfn.IFNA(VLOOKUP(TRIM(CONCATENATE(Tableau111[[#This Row],[PRENOM]],Tableau111[[#This Row],[NOM]])),'T1'!$C$5:$E$106,3,FALSE),90) -> 90 | F41: =_xlfn.IFNA(VLOOKUP(TRIM(CONCATENATE(Tableau111[[#This Row],[PRENOM]],Tableau111[[#This Row],[NOM]])),'T2'!$C$5:$E$94,3,FALSE),90) -> 66 | G41: =_xlfn.IFNA(VLOOKUP(TRIM(CONCATENATE(Tableau111[[#This Row],[PRENOM]],Tableau111[[#This Row],[NOM]])),'T3'!$C$6:$E$115,3,FALSE),90) -> 90 | H41: =_xlfn.IFNA(VLOOKUP(TRIM(CONCATENATE(Tableau111[[#This Row],[PRENOM]],Tableau111[[#This Row],[NOM]])),'T4'!$C$5:$E$100,3,FALSE),90) -> 90 | I41: =_xlfn.IFNA(VLOOKUP(TRIM(CONCATENATE(Tableau111[[#This Row],[PRENOM]],Tableau111[[#This Row],[NOM]])),'T5'!$C$5:$E$115,3,FALSE),90) -> 90 | J41: =_xlfn.IFNA(VLOOKUP(TRIM(CONCATENATE(Tableau111[[#This Row],[PRENOM]],Tableau111[[#This Row],[NOM]])),'T6'!$C$5:$E$126,3,FALSE),90) -> 56 | K41: =_xlfn.IFNA(VLOOKUP(TRIM(CONCATENATE(Tableau111[[#This Row],[PRENOM]],Tableau111[[#This Row],[NOM]])),'T7'!$C$5:$E$113,3,FALSE),90) -> 90 | L41: =SUM(E41:K41) -> 572 | M41: =LARGE(E41:K41,1) -> 90 | N41: =LARGE(E41:K41,2) -> 90 | O41: =L41-M41-N41 -> 392 | P41: =RANK(Tableau111[[#This Row],[SCORE Final 2025]],Tableau111[SCORE Final 2025],1) -> 37
B42: ZANADA | C42: Dominique | D42: RIOM | E42: =_xlfn.IFNA(VLOOKUP(TRIM(CONCATENATE(Tableau111[[#This Row],[PRENOM]],Tableau111[[#This Row],[NOM]])),'T1'!$C$5:$E$106,3,FALSE),90) -> 90 | F42: =_xlfn.IFNA(VLOOKUP(TRIM(CONCATENATE(Tableau111[[#This Row],[PRENOM]],Tableau111[[#This Row],[NOM]])),'T2'!$C$5:$E$94,3,FALSE),90) -> 90 | G42: =_xlfn.IFNA(VLOOKUP(TRIM(CONCATENATE(Tableau111[[#This Row],[PRENOM]],Tableau111[[#This Row],[NOM]])),'T3'!$C$6:$E$115,3,FALSE),90) -> 90 | H42: =_xlfn.IFNA(VLOOKUP(TRIM(CONCATENATE(Tableau111[[#This Row],[PRENOM]],Tableau111[[#This Row],[NOM]])),'T4'!$C$5:$E$100,3,FALSE),90) -> 90 | I42: =_xlfn.IFNA(VLOOKUP(TRIM(CONCATENATE(Tableau111[[#This Row],[PRENOM]],Tableau111[[#This Row],[NOM]])),'T5'!$C$5:$E$115,3,FALSE),90) -> 90 | J42: =_xlfn.IFNA(VLOOKUP(TRIM(CONCATENATE(Tableau111[[#This Row],[PRENOM]],Tableau111[[#This Row],[NOM]])),'T6'!$C$5:$E$126,3,FALSE),90) -> 67 | K42: 59 | L42: =SUM(E42:K42) -> 576 | M42: =LARGE(E42:K42,1) -> 90 | N42: =LARGE(E42:K42,2) -> 90 | O42: =L42-M42-N42 -> 396 | P42: =RANK(Tableau111[[#This Row],[SCORE Final 2025]],Tableau111[SCORE Final 2025],1) -> 38
B43: RICHARD | C43: Jean Claude | D43: MONTPENSIER | E43: =_xlfn.IFNA(VLOOKUP(TRIM(CONCATENATE(Tableau111[[#This Row],[PRENOM]],Tableau111[[#This Row],[NOM]])),'T1'!$C$5:$E$106,3,FALSE),90) -> 61 | F43: =_xlfn.IFNA(VLOOKUP(TRIM(CONCATENATE(Tableau111[[#This Row],[PRENOM]],Tableau111[[#This Row],[NOM]])),'T2'!$C$5:$E$94,3,FALSE),90) -> 90 | G43: =_xlfn.IFNA(VLOOKUP(TRIM(CONCATENATE(Tableau111[[#This Row],[PRENOM]],Tableau111[[#This Row],[NOM]])),'T3'!$C$6:$E$115,3,FALSE),90) -> 90 | H43: =_xlfn.IFNA(VLOOKUP(TRIM(CONCATENATE(Tableau111[[#This Row],[PRENOM]],Tableau111[[#This Row],[NOM]])),'T4'!$C$5:$E$100,3,FALSE),90) -> 90 | I43: =_xlfn.IFNA(VLOOKUP(TRIM(CONCATENATE(Tableau111[[#This Row],[PRENOM]],Tableau111[[#This Row],[NOM]])),'T5'!$C$5:$E$115,3,FALSE),90) -> 90 | J43: 67 | K43: =_xlfn.IFNA(VLOOKUP(TRIM(CONCATENATE(Tableau111[[#This Row],[PRENOM]],Tableau111[[#This Row],[NOM]])),'T7'!$C$5:$E$113,3,FALSE),90) -> 90 | L43: =SUM(E43:K43) -> 578 | M43: =LARGE(E43:K43,1) -> 90 | N43: =LARGE(E43:K43,2) -> 90 | O43: =L43-M43-N43 -> 398 | P43: =RANK(Tableau111[[#This Row],[SCORE Final 2025]],Tableau111[SCORE Final 2025],1) -> 39
B44: SIMONIN | C44: Claude | D44: MONTPENSIER | E44: =_xlfn.IFNA(VLOOKUP(TRIM(CONCATENATE(Tableau111[[#This Row],[PRENOM]],Tableau111[[#This Row],[NOM]])),'T1'!$C$5:$E$106,3,FALSE),90) -> 90 | F44: =_xlfn.IFNA(VLOOKUP(TRIM(CONCATENATE(Tableau111[[#This Row],[PRENOM]],Tableau111[[#This Row],[NOM]])),'T2'!$C$5:$E$94,3,FALSE),90) -> 90 | G44: =_xlfn.IFNA(VLOOKUP(TRIM(CONCATENATE(Tableau111[[#This Row],[PRENOM]],Tableau111[[#This Row],[NOM]])),'T3'!$C$6:$E$115,3,FALSE),90) -> 90 | H44: =_xlfn.IFNA(VLOOKUP(TRIM(CONCATENATE(Tableau111[[#This Row],[PRENOM]],Tableau111[[#This Row],[NOM]])),'T4'!$C$5:$E$100,3,FALSE),90) -> 90 | I44: =_xlfn.IFNA(VLOOKUP(TRIM(CONCATENATE(Tableau111[[#This Row],[PRENOM]],Tableau111[[#This Row],[NOM]])),'T5'!$C$5:$E$115,3,FALSE),90) -> 90 | J44: =_xlfn.IFNA(VLOOKUP(TRIM(CONCATENATE(Tableau111[[#This Row],[PRENOM]],Tableau111[[#This Row],[NOM]])),'T6'!$C$5:$E$126,3,FALSE),90) -> 64 | K44: =_xlfn.IFNA(VLOOKUP(TRIM(CONCATENATE(Tableau111[[#This Row],[PRENOM]],Tableau111[[#This Row],[NOM]])),'T7'!$C$5:$E$113,3,FALSE),90) -> 64 | L44: =SUM(E44:K44) -> 578 | M44: =LARGE(E44:K44,1) -> 90 | N44: =LARGE(E44:K44,2) -> 90 | O44: =L44-M44-N44 -> 398 | P44: =RANK(Tableau111[[#This Row],[SCORE Final 2025]],Tableau111[SCORE Final 2025],1) -> 39
B45: MOUTREUX | C45: Jean Pierre | D45: VAL D'AUZON | E45: =_xlfn.IFNA(VLOOKUP(TRIM(CONCATENATE(Tableau111[[#This Row],[PRENOM]],Tableau111[[#This Row],[NOM]])),'T1'!$C$5:$E$106,3,FALSE),90) -> 90 | F45: =_xlfn.IFNA(VLOOKUP(TRIM(CONCATENATE(Tableau111[[#This Row],[PRENOM]],Tableau111[[#This Row],[NOM]])),'T2'!$C$5:$E$94,3,FALSE),90) -> 77 | G45: =_xlfn.IFNA(VLOOKUP(TRIM(CONCATENATE(Tableau111[[#This Row],[PRENOM]],Tableau111[[#This Row],[NOM]])),'T3'!$C$6:$E$115,3,FALSE),90) -> 73 | H45: =_xlfn.IFNA(VLOOKUP(TRIM(CONCATENATE(Tableau111[[#This Row],[PRENOM]],Tableau111[[#This Row],[NOM]])),'T4'!$C$5:$E$100,3,FALSE),90) -> 90 | I45: =_xlfn.IFNA(VLOOKUP(TRIM(CONCATENATE(Tableau111[[#This Row],[PRENOM]],Tableau111[[#This Row],[NOM]])),'T5'!$C$5:$E$115,3,FALSE),90) -> 70 | J45: =_xlfn.IFNA(VLOOKUP(TRIM(CONCATENATE(Tableau111[[#This Row],[PRENOM]],Tableau111[[#This Row],[NOM]])),'T6'!$C$5:$E$126,3,FALSE),90) -> 90 | K45: =_xlfn.IFNA(VLOOKUP(TRIM(CONCATENATE(Tableau111[[#This Row],[PRENOM]],Tableau111[[#This Row],[NOM]])),'T7'!$C$5:$E$113,3,FALSE),90) -> 90 | L45: =SUM(E45:K45) -> 580 | M45: =LARGE(E45:K45,1) -> 90 | N45: =LARGE(E45:K45,2) -> 90 | O45: =L45-M45-N45 -> 400 | P45: =RANK(Tableau111[[#This Row],[SCORE Final 2025]],Tableau111[SCORE Final 2025],1) -> 41
B46: BENAZECH | C46: Didier | D46: MAURIAC | E46: =_xlfn.IFNA(VLOOKUP(TRIM(CONCATENATE(Tableau111[[#This Row],[PRENOM]],Tableau111[[#This Row],[NOM]])),'T1'!$C$5:$E$106,3,FALSE),90) -> 90 | F46: =_xlfn.IFNA(VLOOKUP(TRIM(CONCATENATE(Tableau111[[#This Row],[PRENOM]],Tableau111[[#This Row],[NOM]])),'T2'!$C$5:$E$94,3,FALSE),90) -> 90 | G46: =_xlfn.IFNA(VLOOKUP(TRIM(CONCATENATE(Tableau111[[#This Row],[PRENOM]],Tableau111[[#This Row],[NOM]])),'T3'!$C$6:$E$115,3,FALSE),90) -> 65 | H46: =_xlfn.IFNA(VLOOKUP(TRIM(CONCATENATE(Tableau111[[#This Row],[PRENOM]],Tableau111[[#This Row],[NOM]])),'T4'!$C$5:$E$100,3,FALSE),90) -> 67 | I46: =_xlfn.IFNA(VLOOKUP(TRIM(CONCATENATE(Tableau111[[#This Row],[PRENOM]],Tableau111[[#This Row],[NOM]])),'T5'!$C$5:$E$115,3,FALSE),90) -> 90 | J46: =_xlfn.IFNA(VLOOKUP(TRIM(CONCATENATE(Tableau111[[#This Row],[PRENOM]],Tableau111[[#This Row],[NOM]])),'T6'!$C$5:$E$126,3,FALSE),90) -> 90 | K46: =_xlfn.IFNA(VLOOKUP(TRIM(CONCATENATE(Tableau111[[#This Row],[PRENOM]],Tableau111[[#This Row],[NOM]])),'T7'!$C$5:$E$113,3,FALSE),90) -> 90 | L46: =SUM(E46:K46) -> 582 | M46: =LARGE(E46:K46,1) -> 90 | N46: =LARGE(E46:K46,2) -> 90 | O46: =L46-M46-N46 -> 402 | P46: =RANK(Tableau111[[#This Row],[SCORE Final 2025]],Tableau111[SCORE Final 2025],1) -> 42
B47: CARRER | C47: Philippe | D47: MAURIAC | E47: =_xlfn.IFNA(VLOOKUP(TRIM(CONCATENATE(Tableau111[[#This Row],[PRENOM]],Tableau111[[#This Row],[NOM]])),'T1'!$C$5:$E$106,3,FALSE),90) -> 64 | F47: =_xlfn.IFNA(VLOOKUP(TRIM(CONCATENATE(Tableau111[[#This Row],[PRENOM]],Tableau111[[#This Row],[NOM]])),'T2'!$C$5:$E$94,3,FALSE),90) -> 90 | G47: =_xlfn.IFNA(VLOOKUP(TRIM(CONCATENATE(Tableau111[[#This Row],[PRENOM]],Tableau111[[#This Row],[NOM]])),'T3'!$C$6:$E$115,3,FALSE),90) -> 90 | H47: =_xlfn.IFNA(VLOOKUP(TRIM(CONCATENATE(Tableau111[[#This Row],[PRENOM]],Tableau111[[#This Row],[NOM]])),'T4'!$C$5:$E$100,3,FALSE),90) -> 90 | I47: =_xlfn.IFNA(VLOOKUP(TRIM(CONCATENATE(Tableau111[[#This Row],[PRENOM]],Tableau111[[#This Row],[NOM]])),'T5'!$C$5:$E$115,3,FALSE),90) -> 90 | J47: =_xlfn.IFNA(VLOOKUP(TRIM(CONCATENATE(Tableau111[[#This Row],[PRENOM]],Tableau111[[#This Row],[NOM]])),'T6'!$C$5:$E$126,3,FALSE),90) -> 90 | K47: =_xlfn.IFNA(VLOOKUP(TRIM(CONCATENATE(Tableau111[[#This Row],[PRENOM]],Tableau111[[#This Row],[NOM]])),'T7'!$C$5:$E$113,3,FALSE),90) -> 69 | L47: =SUM(E47:K47) -> 583 | M47: =LARGE(E47:K47,1) -> 90 | N47: =LARGE(E47:K47,2) -> 90 | O47: =L47-M47-N47 -> 403 | P47: =RANK(Tableau111[[#This Row],[SCORE Final 2025]],Tableau111[SCORE Final 2025],1) -> 43
B48: FROMAGE | C48: Gilles | D48: GAZELEC CLERMONT | E48: =_xlfn.IFNA(VLOOKUP(TRIM(CONCATENATE(Tableau111[[#This Row],[PRENOM]],Tableau111[[#This Row],[NOM]])),'T1'!$C$5:$E$106,3,FALSE),90) -> 70 | F48: =_xlfn.IFNA(VLOOKUP(TRIM(CONCATENATE(Tableau111[[#This Row],[PRENOM]],Tableau111[[#This Row],[NOM]])),'T2'!$C$5:$E$94,3,FALSE),90) -> 90 | G48: =_xlfn.IFNA(VLOOKUP(TRIM(CONCATENATE(Tableau111[[#This Row],[PRENOM]],Tableau111[[#This Row],[NOM]])),'T3'!$C$6:$E$115,3,FALSE),90) -> 76 | H48: =_xlfn.IFNA(VLOOKUP(TRIM(CONCATENATE(Tableau111[[#This Row],[PRENOM]],Tableau111[[#This Row],[NOM]])),'T4'!$C$5:$E$100,3,FALSE),90) -> 82 | I48: =_xlfn.IFNA(VLOOKUP(TRIM(CONCATENATE(Tableau111[[#This Row],[PRENOM]],Tableau111[[#This Row],[NOM]])),'T5'!$C$5:$E$115,3,FALSE),90) -> 90 | J48: =_xlfn.IFNA(VLOOKUP(TRIM(CONCATENATE(Tableau111[[#This Row],[PRENOM]],Tableau111[[#This Row],[NOM]])),'T6'!$C$5:$E$126,3,FALSE),90) -> 85 | K48: =_xlfn.IFNA(VLOOKUP(TRIM(CONCATENATE(Tableau111[[#This Row],[PRENOM]],Tableau111[[#This Row],[NOM]])),'T7'!$C$5:$E$113,3,FALSE),90) -> 90 | L48: =SUM(E48:K48) -> 583 | M48: =LARGE(E48:K48,1) -> 90 | N48: =LARGE(E48:K48,2) -> 90 | O48: =L48-M48-N48 -> 403 | P48: =RANK(Tableau111[[#This Row],[SCORE Final 2025]],Tableau111[SCORE Final 2025],1) -> 43
B49: LAURENT | C49: Noël | D49: MAURIAC | E49: =_xlfn.IFNA(VLOOKUP(TRIM(CONCATENATE(Tableau111[[#This Row],[PRENOM]],Tableau111[[#This Row],[NOM]])),'T1'!$C$5:$E$106,3,FALSE),90) -> 64 | F49: =_xlfn.IFNA(VLOOKUP(TRIM(CONCATENATE(Tableau111[[#This Row],[PRENOM]],Tableau111[[#This Row],[NOM]])),'T2'!$C$5:$E$94,3,FALSE),90) -> 69 | G49: =_xlfn.IFNA(VLOOKUP(TRIM(CONCATENATE(Tableau111[[#This Row],[PRENOM]],Tableau111[[#This Row],[NOM]])),'T3'!$C$6:$E$115,3,FALSE),90) -> 90 | H49: =_xlfn.IFNA(VLOOKUP(TRIM(CONCATENATE(Tableau111[[#This Row],[PRENOM]],Tableau111[[#This Row],[NOM]])),'T4'!$C$5:$E$100,3,FALSE),90) -> 90 | I49: =_xlfn.IFNA(VLOOKUP(TRIM(CONCATENATE(Tableau111[[#This Row],[PRENOM]],Tableau111[[#This Row],[NOM]])),'T5'!$C$5:$E$115,3,FALSE),90) -> 90 | J49: =_xlfn.IFNA(VLOOKUP(TRIM(CONCATENATE(Tableau111[[#This Row],[PRENOM]],Tableau111[[#This Row],[NOM]])),'T6'!$C$5:$E$126,3,FALSE),90) -> 90 | K49: =_xlfn.IFNA(VLOOKUP(TRIM(CONCATENATE(Tableau111[[#This Row],[PRENOM]],Tableau111[[#This Row],[NOM]])),'T7'!$C$5:$E$113,3,FALSE),90) -> 90 | L49: =SUM(E49:K49) -> 583 | M49: =LARGE(E49:K49,1) -> 90 | N49: =LARGE(E49:K49,2) -> 90 | O49: =L49-M49-N49 -> 403 | P49: =RANK(Tableau111[[#This Row],[SCORE Final 2025]],Tableau111[SCORE Final 2025],1) -> 43
B50: MAURIO | C50: Patrice | D50: MAURIAC | E50: =_xlfn.IFNA(VLOOKUP(TRIM(CONCATENATE(Tableau111[[#This Row],[PRENOM]],Tableau111[[#This Row],[NOM]])),'T1'!$C$5:$E$106,3,FALSE),90) -> 90 | F50: =_xlfn.IFNA(VLOOKUP(TRIM(CONCATENATE(Tableau111[[#This Row],[PRENOM]],Tableau111[[#This Row],[NOM]])),'T2'!$C$5:$E$94,3,FALSE),90) -> 90 | G50: =_xlfn.IFNA(VLOOKUP(TRIM(CONCATENATE(Tableau111[[#This Row],[PRENOM]],Tableau111[[#This Row],[NOM]])),'T3'!$C$6:$E$115,3,FALSE),90) -> 67 | H50: =_xlfn.IFNA(VLOOKUP(TRIM(CONCATENATE(Tableau111[[#This Row],[PRENOM]],Tableau111[[#This Row],[NOM]])),'T4'!$C$5:$E$100,3,FALSE),90) -> 90 | I50: =_xlfn.IFNA(VLOOKUP(TRIM(CONCATENATE(Tableau111[[#This Row],[PRENOM]],Tableau111[[#This Row],[NOM]])),'T5'!$C$5:$E$115,3,FALSE),90) -> 90 | J50: =_xlfn.IFNA(VLOOKUP(TRIM(CONCATENATE(Tableau111[[#This Row],[PRENOM]],Tableau111[[#This Row],[NOM]])),'T6'!$C$5:$E$126,3,FALSE),90) -> 90 | K50: =_xlfn.IFNA(VLOOKUP(TRIM(CONCATENATE(Tableau111[[#This Row],[PRENOM]],Tableau111[[#This Row],[NOM]])),'T7'!$C$5:$E$113,3,FALSE),90) -> 66 | L50: =SUM(E50:K50) -> 583 | M50: =LARGE(E50:K50,1) -> 90 | N50: =LARGE(E50:K50,2) -> 90 | O50: =L50-M50-N50 -> 403 | P50: =RANK(Tableau111[[#This Row],[SCORE Final 2025]],Tableau111[SCORE Final 2025],1) -> 43
B51: JOFFRE | C51: Pascal | D51: GAZELEC CLERMONT | E51: =_xlfn.IFNA(VLOOKUP(TRIM(CONCATENATE(Tableau111[[#This Row],[PRENOM]],Tableau111[[#This Row],[NOM]])),'T1'!$C$5:$E$106,3,FALSE),90) -> 90 | F51: =_xlfn.IFNA(VLOOKUP(TRIM(CONCATENATE(Tableau111[[#This Row],[PRENOM]],Tableau111[[#This Row],[NOM]])),'T2'!$C$5:$E$94,3,FALSE),90) -> 90 | G51: =_xlfn.IFNA(VLOOKUP(TRIM(CONCATENATE(Tableau111[[#This Row],[PRENOM]],Tableau111[[#This Row],[NOM]])),'T3'!$C$6:$E$115,3,FALSE),90) -> 90 | H51: =_xlfn.IFNA(VLOOKUP(TRIM(CONCATENATE(Tableau111[[#This Row],[PRENOM]],Tableau111[[#This Row],[NOM]])),'T4'!$C$5:$E$100,3,FALSE),90) -> 90 | I51: =_xlfn.IFNA(VLOOKUP(TRIM(CONCATENATE(Tableau111[[#This Row],[PRENOM]],Tableau111[[#This Row],[NOM]])),'T5'!$C$5:$E$115,3,FALSE),90) -> 72 | J51: =_xlfn.IFNA(VLOOKUP(TRIM(CONCATENATE(Tableau111[[#This Row],[PRENOM]],Tableau111[[#This Row],[NOM]])),'T6'!$C$5:$E$126,3,FALSE),90) -> 68 | K51: =_xlfn.IFNA(VLOOKUP(TRIM(CONCATENATE(Tableau111[[#This Row],[PRENOM]],Tableau111[[#This Row],[NOM]])),'T7'!$C$5:$E$113,3,FALSE),90) -> 90 | L51: =SUM(E51:K51) -> 590 | M51: =LARGE(E51:K51,1) -> 90 | N51: =LARGE(E51:K51,2) -> 90 | O51: =L51-M51-N51 -> 410 | P51: =RANK(Tableau111[[#This Row],[SCORE Final 2025]],Tableau111[SCORE Final 2025],1) -> 47
B52: GUEGUEN | C52: Mickaël | D52: VAL D'AUZON | E52: =_xlfn.IFNA(VLOOKUP(TRIM(CONCATENATE(Tableau111[[#This Row],[PRENOM]],Tableau111[[#This Row],[NOM]])),'T1'!$C$5:$E$106,3,FALSE),90) -> 90 | F52: =_xlfn.IFNA(VLOOKUP(TRIM(CONCATENATE(Tableau111[[#This Row],[PRENOM]],Tableau111[[#This Row],[NOM]])),'T2'!$C$5:$E$94,3,FALSE),90) -> 90 | G52: =_xlfn.IFNA(VLOOKUP(TRIM(CONCATENATE(Tableau111[[#This Row],[PRENOM]],Tableau111[[#This Row],[NOM]])),'T3'!$C$6:$E$115,3,FALSE),90) -> 90 | H52: =_xlfn.IFNA(VLOOKUP(TRIM(CONCATENATE(Tableau111[[#This Row],[PRENOM]],Tableau111[[#This Row],[NOM]])),'T4'!$C$5:$E$100,3,FALSE),90) -> 74 | I52: =_xlfn.IFNA(VLOOKUP(TRIM(CONCATENATE(Tableau111[[#This Row],[PRENOM]],Tableau111[[#This Row],[NOM]])),'T5'!$C$5:$E$115,3,FALSE),90) -> 90 | J52: =_xlfn.IFNA(VLOOKUP(TRIM(CONCATENATE(Tableau111[[#This Row],[PRENOM]],Tableau111[[#This Row],[NOM]])),'T6'!$C$5:$E$126,3,FALSE),90) -> 90 | K52: =_xlfn.IFNA(VLOOKUP(TRIM(CONCATENATE(Tableau111[[#This Row],[PRENOM]],Tableau111[[#This Row],[NOM]])),'T7'!$C$5:$E$113,3,FALSE),90) -> 67 | L52: =SUM(E52:K52) -> 591 | M52: =LARGE(E52:K52,1) -> 90 | N52: =LARGE(E52:K52,2) -> 90 | O52: =L52-M52-N52 -> 411 | P52: =RANK(Tableau111[[#This Row],[SCORE Final 2025]],Tableau111[SCORE Final 2025],1) -> 48
B53: PLOSSARD | C53: Claude | D53: VAL D'AUZON | E53: =_xlfn.IFNA(VLOOKUP(TRIM(CONCATENATE(Tableau111[[#This Row],[PRENOM]],Tableau111[[#This Row],[NOM]])),'T1'!$C$5:$E$106,3,FALSE),90) -> 90 | F53: =_xlfn.IFNA(VLOOKUP(TRIM(CONCATENATE(Tableau111[[#This Row],[PRENOM]],Tableau111[[#This Row],[NOM]])),'T2'!$C$5:$E$94,3,FALSE),90) -> 90 | G53: =_xlfn.IFNA(VLOOKUP(TRIM(CONCATENATE(Tableau111[[#This Row],[PRENOM]],Tableau111[[#This Row],[NOM]])),'T3'!$C$6:$E$115,3,FALSE),90) -> 90 | H53: =_xlfn.IFNA(VLOOKUP(TRIM(CONCATENATE(Tableau111[[#This Row],[PRENOM]],Tableau111[[#This Row],[NOM]])),'T4'!$C$5:$E$100,3,FALSE),90) -> 90 | I53: =_xlfn.IFNA(VLOOKUP(TRIM(CONCATENATE(Tableau111[[#This Row],[PRENOM]],Tableau111[[#This Row],[NOM]])),'T5'!$C$5:$E$115,3,FALSE),90) -> 90 | J53: =_xlfn.IFNA(VLOOKUP(TRIM(CONCATENATE(Tableau111[[#This Row],[PRENOM]],Tableau111[[#This Row],[NOM]])),'T6'!$C$5:$E$126,3,FALSE),90) -> 72 | K53: =_xlfn.IFNA(VLOOKUP(TRIM(CONCATENATE(Tableau111[[#This Row],[PRENOM]],Tableau111[[#This Row],[NOM]])),'T7'!$C$5:$E$113,3,FALSE),90) -> 70 | L53: =SUM(E53:K53) -> 592 | M53: =LARGE(E53:K53,1) -> 90 | N53: =LARGE(E53:K53,2) -> 90 | O53: =L53-M53-N53 -> 412 | P53: =RANK(Tableau111[[#This Row],[SCORE Final 2025]],Tableau111[SCORE Final 2025],1) -> 49
B54: DUCHER | C54: Philippe | D54: MONTPENSIER | E54: =_xlfn.IFNA(VLOOKUP(TRIM(CONCATENATE(Tableau111[[#This Row],[PRENOM]],Tableau111[[#This Row],[NOM]])),'T1'!$C$5:$E$106,3,FALSE),90) -> 59 | F54: =_xlfn.IFNA(VLOOKUP(TRIM(CONCATENATE(Tableau111[[#This Row],[PRENOM]],Tableau111[[#This Row],[NOM]])),'T2'!$C$5:$E$94,3,FALSE),90) -> 90 | G54: =_xlfn.IFNA(VLOOKUP(TRIM(CONCATENATE(Tableau111[[#This Row],[PRENOM]],Tableau111[[#This Row],[NOM]])),'T3'!$C$6:$E$115,3,FALSE),90) -> 90 | H54: =_xlfn.IFNA(VLOOKUP(TRIM(CONCATENATE(Tableau111[[#This Row],[PRENOM]],Tableau111[[#This Row],[NOM]])),'T4'!$C$5:$E$100,3,FALSE),90) -> 90 | I54: =_xlfn.IFNA(VLOOKUP(TRIM(CONCATENATE(Tableau111[[#This Row],[PRENOM]],Tableau111[[#This Row],[NOM]])),'T5'!$C$5:$E$115,3,FALSE),90) -> 90 | J54: =_xlfn.IFNA(VLOOKUP(TRIM(CONCATENATE(Tableau111[[#This Row],[PRENOM]],Tableau111[[#This Row],[NOM]])),'T6'!$C$5:$E$126,3,FALSE),90) -> 90 | K54: =_xlfn.IFNA(VLOOKUP(TRIM(CONCATENATE(Tableau111[[#This Row],[PRENOM]],Tableau111[[#This Row],[NOM]])),'T7'!$C$5:$E$113,3,FALSE),90) -> 90 | L54: =SUM(E54:K54) -> 599 | M54: =LARGE(E54:K54,1) -> 90 | N54: =LARGE(E54:K54,2) -> 90 | O54: =L54-M54-N54 -> 419 | P54: =RANK(Tableau111[[#This Row],[SCORE Final 2025]],Tableau111[SCORE Final 2025],1) -> 50
B55: BABUT | C55: Jean Luc | D55: VAL D'AUZON | E55: =_xlfn.IFNA(VLOOKUP(TRIM(CONCATENATE(Tableau111[[#This Row],[PRENOM]],Tableau111[[#This Row],[NOM]])),'T1'!$C$5:$E$106,3,FALSE),90) -> 90 | F55: =_xlfn.IFNA(VLOOKUP(TRIM(CONCATENATE(Tableau111[[#This Row],[PRENOM]],Tableau111[[#This Row],[NOM]])),'T2'!$C$5:$E$94,3,FALSE),90) -> 90 | G55: =_xlfn.IFNA(VLOOKUP(TRIM(CONCATENATE(Tableau111[[#This Row],[PRENOM]],Tableau111[[#This Row],[NOM]])),'T3'!$C$6:$E$115,3,FALSE),90) -> 90 | H55: =_xlfn.IFNA(VLOOKUP(TRIM(CONCATENATE(Tableau111[[#This Row],[PRENOM]],Tableau111[[#This Row],[NOM]])),'T4'!$C$5:$E$100,3,FALSE),90) -> 90 | I55: =_xlfn.IFNA(VLOOKUP(TRIM(CONCATENATE(Tableau111[[#This Row],[PRENOM]],Tableau111[[#This Row],[NOM]])),'T5'!$C$5:$E$115,3,FALSE),90) -> 90 | J55: =_xlfn.IFNA(VLOOKUP(TRIM(CONCATENATE(Tableau111[[#This Row],[PRENOM]],Tableau111[[#This Row],[NOM]])),'T6'!$C$5:$E$126,3,FALSE),90) -> 76 | K55: =_xlfn.IFNA(VLOOKUP(TRIM(CONCATENATE(Tableau111[[#This Row],[PRENOM]],Tableau111[[#This Row],[NOM]])),'T7'!$C$5:$E$113,3,FALSE),90) -> 74 | L55: =SUM(E55:K55) -> 600 | M55: =LARGE(E55:K55,1) -> 90 | N55: =LARGE(E55:K55,2) -> 90 | O55: =L55-M55-N55 -> 420 | P55: =RANK(Tableau111[[#This Row],[SCORE Final 2025]],Tableau111[SCORE Final 2025],1) -> 51
... B64: MIGUET | C64: Jean Marc | D64: VAL D'AUZON | E64: =_xlfn.IFNA(VLOOKUP(TRIM(CONCATENATE(Tableau111[[#This Row],[PRENOM]],Tableau111[[#This Row],[NOM]])),'T1'!$C$5:$E$106,3,FALSE),90) -> 90 | F64: =_xlfn.IFNA(VLOOKUP(TRIM(CONCATENATE(Tableau111[[#This Row],[PRENOM]],Tableau111[[#This Row],[NOM]])),'T2'!$C$5:$E$94,3,FALSE),90) -> 90 | G64: =_xlfn.IFNA(VLOOKUP(TRIM(CONCATENATE(Tableau111[[#This Row],[PRENOM]],Tableau111[[#This Row],[NOM]])),'T3'!$C$6:$E$115,3,FALSE),90) -> 90 | H64: =_xlfn.IFNA(VLOOKUP(TRIM(CONCATENATE(Tableau111[[#This Row],[PRENOM]],Tableau111[[#This Row],[NOM]])),'T4'!$C$5:$E$100,3,FALSE),90) -> 90 | I64: =_xlfn.IFNA(VLOOKUP(TRIM(CONCATENATE(Tableau111[[#This Row],[PRENOM]],Tableau111[[#This Row],[NOM]])),'T5'!$C$5:$E$115,3,FALSE),90) -> 90 | J64: =_xlfn.IFNA(VLOOKUP(TRIM(CONCATENATE(Tableau111[[#This Row],[PRENOM]],Tableau111[[#This Row],[NOM]])),'T6'!$C$5:$E$126,3,FALSE),90) -> 78 | K64: =_xlfn.IFNA(VLOOKUP(TRIM(CONCATENATE(Tableau111[[#This Row],[PRENOM]],Tableau111[[#This Row],[NOM]])),'T7'!$C$5:$E$113,3,FALSE),90) -> 90 | L64: =SUM(E64:K64) -> 618 | M64: =LARGE(E64:K64,1) -> 90 | N64: =LARGE(E64:K64,2) -> 90 | O64: =L64-M64-N64 -> 438 | P64: =RANK(Tableau111[[#This Row],[SCORE Final 2025]],Tableau111[SCORE Final 2025],1) -> 59
B66: CLASSEMENT INDIVIDUEL Dames | E66: T1 | F66: T2 | G66: T3 | H66: T4 | I66: T5 | J66: T6 | K66: T7
B67: NOM | C67: PRENOM | D67: CLUB | E67: Score MONTPENSIER 26/03/26 | F67: Score CHARADE 23/04/26 | G67: Score MAURIAC 04/06/26 | H67: Score MONT DORE 18/06/26 | I67: Score LES VOLCANS 20/08/26 | J67: Score VAL D'AUZON 03/09/26 | K67: Score RIOM 24/09/26 | L67: Score Total | M67: 1 er SCORE Retiré | N67: 2 ème SCORE Retiré | O67: SCORE Final 2024 | P67: Classement | Q67: 12
B68: CIBERT GOTHON | C68: Michelle | D68: VAL D'AUZON | E68: =_xlfn.IFNA(VLOOKUP(TRIM(CONCATENATE(Tableau262[[#This Row],[PRENOM]],Tableau262[[#This Row],[NOM]])),'T1'!$C$5:$E$106,3,FALSE),90) -> 67 | F68: =_xlfn.IFNA(VLOOKUP(TRIM(CONCATENATE(Tableau262[[#This Row],[PRENOM]],Tableau262[[#This Row],[NOM]])),'T2'!$C$5:$E$94,3,FALSE),90) -> 71 | G68: =_xlfn.IFNA(VLOOKUP(TRIM(CONCATENATE(Tableau262[[#This Row],[PRENOM]],Tableau262[[#This Row],[NOM]])),'T3'!$C$6:$E$115,3,FALSE),90) -> 78 | H68: =_xlfn.IFNA(VLOOKUP(TRIM(CONCATENATE(Tableau262[[#This Row],[PRENOM]],Tableau262[[#This Row],[NOM]])),'T4'!$C$5:$E$100,3,FALSE),90) -> 69 | I68: =_xlfn.IFNA(VLOOKUP(TRIM(CONCATENATE(Tableau262[[#This Row],[PRENOM]],Tableau262[[#This Row],[NOM]])),'T5'!$C$5:$E$115,3,FALSE),90) -> 76 | J68: =_xlfn.IFNA(VLOOKUP(TRIM(CONCATENATE(Tableau262[[#This Row],[PRENOM]],Tableau262[[#This Row],[NOM]])),'T6'!$C$5:$E$126,3,FALSE),90) -> 69 | K68: =_xlfn.IFNA(VLOOKUP(TRIM(CONCATENATE(Tableau262[[#This Row],[PRENOM]],Tableau262[[#This Row],[NOM]])),'T7'!$C$5:$E$113,3,FALSE),90) -> 67 | L68: =SUM(E68:K68) -> 497 | M68: =LARGE(E68:K68,1) -> 78 | N68: =LARGE(E68:K68,2) -> 76 | O68: =L68-M68-N68 -> 343 | P68: =RANK(Tableau262[[#This Row],[SCORE Final 2024]],Tableau262[SCORE Final 2024],1) -> 1
B69: VESCOVI | C69: Régine | D69: GAZELEC CLERMONT | E69: =_xlfn.IFNA(VLOOKUP(TRIM(CONCATENATE(Tableau262[[#This Row],[PRENOM]],Tableau262[[#This Row],[NOM]])),'T1'!$C$5:$E$106,3,FALSE),90) -> 68 | F69: =_xlfn.IFNA(VLOOKUP(TRIM(CONCATENATE(Tableau262[[#This Row],[PRENOM]],Tableau262[[#This Row],[NOM]])),'T2'!$C$5:$E$94,3,FALSE),90) -> 67 | G69: =_xlfn.IFNA(VLOOKUP(TRIM(CONCATENATE(Tableau262[[#This Row],[PRENOM]],Tableau262[[#This Row],[NOM]])),'T3'!$C$6:$E$115,3,FALSE),90) -> 65 | H69: =_xlfn.IFNA(VLOOKUP(TRIM(CONCATENATE(Tableau262[[#This Row],[PRENOM]],Tableau262[[#This Row],[NOM]])),'T4'!$C$5:$E$100,3,FALSE),90) -> 77 | I69: =_xlfn.IFNA(VLOOKUP(TRIM(CONCATENATE(Tableau262[[#This Row],[PRENOM]],Tableau262[[#This Row],[NOM]])),'T5'!$C$5:$E$115,3,FALSE),90) -> 77 | J69: =_xlfn.IFNA(VLOOKUP(TRIM(CONCATENATE(Tableau262[[#This Row],[PRENOM]],Tableau262[[#This Row],[NOM]])),'T6'!$C$5:$E$126,3,FALSE),90) -> 73 | K69: =_xlfn.IFNA(VLOOKUP(TRIM(CONCATENATE(Tableau262[[#This Row],[PRENOM]],Tableau262[[#This Row],[NOM]])),'T7'!$C$5:$E$113,3,FALSE),90) -> 72 | L69: =SUM(E69:K69) -> 499 | M69: =LARGE(E69:K69,1) -> 77 | N69: =LARGE(E69:K69,2) -> 77 | O69: =L69-M69-N69 -> 345 | P69: =RANK(Tableau262[[#This Row],[SCORE Final 2024]],Tableau262[SCORE Final 2024],1) -> 2
B70: MEYNIAL | C70: Elisabeth | D70: CHARADE | E70: =_xlfn.IFNA(VLOOKUP(TRIM(CONCATENATE(Tableau262[[#This Row],[PRENOM]],Tableau262[[#This Row],[NOM]])),'T1'!$C$5:$E$106,3,FALSE),90) -> 65 | F70: =_xlfn.IFNA(VLOOKUP(TRIM(CONCATENATE(Tableau262[[#This Row],[PRENOM]],Tableau262[[#This Row],[NOM]])),'T2'!$C$5:$E$94,3,FALSE),90) -> 70 | G70: =_xlfn.IFNA(VLOOKUP(TRIM(CONCATENATE(Tableau262[[#This Row],[PRENOM]],Tableau262[[#This Row],[NOM]])),'T3'!$C$6:$E$115,3,FALSE),90) -> 70 | H70: =_xlfn.IFNA(VLOOKUP(TRIM(CONCATENATE(Tableau262[[#This Row],[PRENOM]],Tableau262[[#This Row],[NOM]])),'T4'!$C$5:$E$100,3,FALSE),90) -> 90 | I70: =_xlfn.IFNA(VLOOKUP(TRIM(CONCATENATE(Tableau262[[#This Row],[PRENOM]],Tableau262[[#This Row],[NOM]])),'T5'!$C$5:$E$115,3,FALSE),90) -> 66 | J70: =_xlfn.IFNA(VLOOKUP(TRIM(CONCATENATE(Tableau262[[#This Row],[PRENOM]],Tableau262[[#This Row],[NOM]])),'T6'!$C$5:$E$126,3,FALSE),90) -> 75 | K70: =_xlfn.IFNA(VLOOKUP(TRIM(CONCATENATE(Tableau262[[#This Row],[PRENOM]],Tableau262[[#This Row],[NOM]])),'T7'!$C$5:$E$113,3,FALSE),90) -> 75 | L70: =SUM(E70:K70) -> 511 | M70: =LARGE(E70:K70,1) -> 90 | N70: =LARGE(E70:K70,2) -> 75 | O70: =L70-M70-N70 -> 346 | P70: =RANK(Tableau262[[#This Row],[SCORE Final 2024]],Tableau262[SCORE Final 2024],1) -> 3
B71: BRIDIER | C71: Elisabeth | D71: RIOM | E71: =_xlfn.IFNA(VLOOKUP(TRIM(CONCATENATE(Tableau262[[#This Row],[PRENOM]],Tableau262[[#This Row],[NOM]])),'T1'!$C$5:$E$106,3,FALSE),90) -> 63 | F71: =_xlfn.IFNA(VLOOKUP(TRIM(CONCATENATE(Tableau262[[#This Row],[PRENOM]],Tableau262[[#This Row],[NOM]])),'T2'!$C$5:$E$94,3,FALSE),90) -> 79 | G71: 70 | H71: =_xlfn.IFNA(VLOOKUP(TRIM(CONCATENATE(Tableau262[[#This Row],[PRENOM]],Tableau262[[#This Row],[NOM]])),'T4'!$C$5:$E$100,3,FALSE),90) -> 78 | I71: =_xlfn.IFNA(VLOOKUP(TRIM(CONCATENATE(Tableau262[[#This Row],[PRENOM]],Tableau262[[#This Row],[NOM]])),'T5'!$C$5:$E$115,3,FALSE),90) -> 68 | J71: =_xlfn.IFNA(VLOOKUP(TRIM(CONCATENATE(Tableau262[[#This Row],[PRENOM]],Tableau262[[#This Row],[NOM]])),'T6'!$C$5:$E$126,3,FALSE),90) -> 69 | K71: =_xlfn.IFNA(VLOOKUP(TRIM(CONCATENATE(Tableau262[[#This Row],[PRENOM]],Tableau262[[#This Row],[NOM]])),'T7'!$C$5:$E$113,3,FALSE),90) -> 90 | L71: =SUM(E71:K71) -> 517 | M71: =LARGE(E71:K71,1) -> 90 | N71: =LARGE(E71:K71,2) -> 79 | O71: =L71-M71-N71 -> 348 | P71: =RANK(Tableau262[[#This Row],[SCORE Final 2024]],Tableau262[SCORE Final 2024],1) -> 4
B72: PERRIER | C72: Huguette | D72: CHARADE | E72: =_xlfn.IFNA(VLOOKUP(TRIM(CONCATENATE(Tableau262[[#This Row],[PRENOM]],Tableau262[[#This Row],[NOM]])),'T1'!$C$5:$E$106,3,FALSE),90) -> 68 | F72: =_xlfn.IFNA(VLOOKUP(TRIM(CONCATENATE(Tableau262[[#This Row],[PRENOM]],Tableau262[[#This Row],[NOM]])),'T2'!$C$5:$E$94,3,FALSE),90) -> 68 | G72: =_xlfn.IFNA(VLOOKUP(TRIM(CONCATENATE(Tableau262[[#This Row],[PRENOM]],Tableau262[[#This Row],[NOM]])),'T3'!$C$6:$E$115,3,FALSE),90) -> 71 | H72: =_xlfn.IFNA(VLOOKUP(TRIM(CONCATENATE(Tableau262[[#This Row],[PRENOM]],Tableau262[[#This Row],[NOM]])),'T4'!$C$5:$E$100,3,FALSE),90) -> 81 | I72: =_xlfn.IFNA(VLOOKUP(TRIM(CONCATENATE(Tableau262[[#This Row],[PRENOM]],Tableau262[[#This Row],[NOM]])),'T5'!$C$5:$E$115,3,FALSE),90) -> 80 | J72: =_xlfn.IFNA(VLOOKUP(TRIM(CONCATENATE(Tableau262[[#This Row],[PRENOM]],Tableau262[[#This Row],[NOM]])),'T6'!$C$5:$E$126,3,FALSE),90) -> 76 | K72: =_xlfn.IFNA(VLOOKUP(TRIM(CONCATENATE(Tableau262[[#This Row],[PRENOM]],Tableau262[[#This Row],[NOM]])),'T7'!$C$5:$E$113,3,FALSE),90) -> 67 | L72: =SUM(E72:K72) -> 511 | M72: =LARGE(E72:K72,1) -> 81 | N72: =LARGE(E72:K72,2) -> 80 | O72: =L72-M72-N72 -> 350 | P72: =RANK(Tableau262[[#This Row],[SCORE Final 2024]],Tableau262[SCORE Final 2024],1) -> 5
B73: FLORENCIO | C73: Janine | D73: GAZELEC CLERMONT | E73: =_xlfn.IFNA(VLOOKUP(TRIM(CONCATENATE(Tableau262[[#This Row],[PRENOM]],Tableau262[[#This Row],[NOM]])),'T1'!$C$5:$E$106,3,FALSE),90) -> 90 | F73: =_xlfn.IFNA(VLOOKUP(TRIM(CONCATENATE(Tableau262[[#This Row],[PRENOM]],Tableau262[[#This Row],[NOM]])),'T2'!$C$5:$E$94,3,FALSE),90) -> 90 | G73: =_xlfn.IFNA(VLOOKUP(TRIM(CONCATENATE(Tableau262[[#This Row],[PRENOM]],Tableau262[[#This Row],[NOM]])),'T3'!$C$6:$E$115,3,FALSE),90) -> 90 | H73: =_xlfn.IFNA(VLOOKUP(TRIM(CONCATENATE(Tableau262[[#This Row],[PRENOM]],Tableau262[[#This Row],[NOM]])),'T4'!$C$5:$E$100,3,FALSE),90) -> 71 | I73: =_xlfn.IFNA(VLOOKUP(TRIM(CONCATENATE(Tableau262[[#This Row],[PRENOM]],Tableau262[[#This Row],[NOM]])),'T5'!$C$5:$E$115,3,FALSE),90) -> 70 | J73: =_xlfn.IFNA(VLOOKUP(TRIM(CONCATENATE(Tableau262[[#This Row],[PRENOM]],Tableau262[[#This Row],[NOM]])),'T6'!$C$5:$E$126,3,FALSE),90) -> 78 | K73: =_xlfn.IFNA(VLOOKUP(TRIM(CONCATENATE(Tableau262[[#This Row],[PRENOM]],Tableau262[[#This Row],[NOM]])),'T7'!$C$5:$E$113,3,FALSE),90) -> 68 | L73: =SUM(E73:K73) -> 557 | M73: =LARGE(E73:K73,1) -> 90 | N73: =LARGE(E73:K73,2) -> 90 | O73: =L73-M73-N73 -> 377 | P73: =RANK(Tableau262[[#This Row],[SCORE Final 2024]],Tableau262[SCORE Final 2024],1) -> 6
B74: VACHOT | C74: Martine | D74: MAURIAC | E74: =_xlfn.IFNA(VLOOKUP(TRIM(CONCATENATE(Tableau262[[#This Row],[PRENOM]],Tableau262[[#This Row],[NOM]])),'T1'!$C$5:$E$106,3,FALSE),90) -> 74 | F74: =_xlfn.IFNA(VLOOKUP(TRIM(CONCATENATE(Tableau262[[#This Row],[PRENOM]],Tableau262[[#This Row],[NOM]])),'T2'!$C$5:$E$94,3,FALSE),90) -> 90 | G74: =_xlfn.IFNA(VLOOKUP(TRIM(CONCATENATE(Tableau262[[#This Row],[PRENOM]],Tableau262[[#This Row],[NOM]])),'T3'!$C$6:$E$115,3,FALSE),90) -> 90 | H74: =_xlfn.IFNA(VLOOKUP(TRIM(CONCATENATE(Tableau262[[#This Row],[PRENOM]],Tableau262[[#This Row],[NOM]])),'T4'!$C$5:$E$100,3,FALSE),90) -> 90 | I74: =_xlfn.IFNA(VLOOKUP(TRIM(CONCATENATE(Tableau262[[#This Row],[PRENOM]],Tableau262[[#This Row],[NOM]])),'T5'!$C$5:$E$115,3,FALSE),90) -> 73 | J74: =_xlfn.IFNA(VLOOKUP(TRIM(CONCATENATE(Tableau262[[#This Row],[PRENOM]],Tableau262[[#This Row],[NOM]])),'T6'!$C$5:$E$126,3,FALSE),90) -> 75 | K74: =_xlfn.IFNA(VLOOKUP(TRIM(CONCATENATE(Tableau262[[#This Row],[PRENOM]],Tableau262[[#This Row],[NOM]])),'T7'!$C$5:$E$113,3,FALSE),90) -> 66 | L74: =SUM(E74:K74) -> 558 | M74: =LARGE(E74:K74,1) -> 90 | N74: =LARGE(E74:K74,2) -> 90 | O74: =L74-M74-N74 -> 378 | P74: =RANK(Tableau262[[#This Row],[SCORE Final 2024]],Tableau262[SCORE Final 2024],1) -> 7
B75: CARRER | C75: Jacqueline | D75: MAURIAC | E75: =_xlfn.IFNA(VLOOKUP(TRIM(CONCATENATE(Tableau262[[#This Row],[PRENOM]],Tableau262[[#This Row],[NOM]])),'T1'!$C$5:$E$106,3,FALSE),90) -> 66 | F75: =_xlfn.IFNA(VLOOKUP(TRIM(CONCATENATE(Tableau262[[#This Row],[PRENOM]],Tableau262[[#This Row],[NOM]])),'T2'!$C$5:$E$94,3,FALSE),90) -> 69 | G75: =_xlfn.IFNA(VLOOKUP(TRIM(CONCATENATE(Tableau262[[#This Row],[PRENOM]],Tableau262[[#This Row],[NOM]])),'T3'!$C$6:$E$115,3,FALSE),90) -> 90 | H75: =_xlfn.IFNA(VLOOKUP(TRIM(CONCATENATE(Tableau262[[#This Row],[PRENOM]],Tableau262[[#This Row],[NOM]])),'T4'!$C$5:$E$100,3,FALSE),90) -> 90 | I75: =_xlfn.IFNA(VLOOKUP(TRIM(CONCATENATE(Tableau262[[#This Row],[PRENOM]],Tableau262[[#This Row],[NOM]])),'T5'!$C$5:$E$115,3,FALSE),90) -> 90 | J75: =_xlfn.IFNA(VLOOKUP(TRIM(CONCATENATE(Tableau262[[#This Row],[PRENOM]],Tableau262[[#This Row],[NOM]])),'T6'!$C$5:$E$126,3,FALSE),90) -> 90 | K75: =_xlfn.IFNA(VLOOKUP(TRIM(CONCATENATE(Tableau262[[#This Row],[PRENOM]],Tableau262[[#This Row],[NOM]])),'T7'!$C$5:$E$113,3,FALSE),90) -> 76 | L75: =SUM(E75:K75) -> 571 | M75: =LARGE(E75:K75,1) -> 90 | N75: =LARGE(E75:K75,2) -> 90 | O75: =L75-M75-N75 -> 391 | P75: =RANK(Tableau262[[#This Row],[SCORE Final 2024]],Tableau262[SCORE Final 2024],1) -> 8
B76: MOUTH | C76: Martine | D76: MONTPENSIER | E76: =_xlfn.IFNA(VLOOKUP(TRIM(CONCATENATE(Tableau262[[#This Row],[PRENOM]],Tableau262[[#This Row],[NOM]])),'T1'!$C$5:$E$106,3,FALSE),90) -> 69 | F76: =_xlfn.IFNA(VLOOKUP(TRIM(CONCATENATE(Tableau262[[#This Row],[PRENOM]],Tableau262[[#This Row],[NOM]])),'T2'!$C$5:$E$94,3,FALSE),90) -> 90 | G76: =_xlfn.IFNA(VLOOKUP(TRIM(CONCATENATE(Tableau262[[#This Row],[PRENOM]],Tableau262[[#This Row],[NOM]])),'T3'!$C$6:$E$115,3,FALSE),90) -> 90 | H76: =_xlfn.IFNA(VLOOKUP(TRIM(CONCATENATE(Tableau262[[#This Row],[PRENOM]],Tableau262[[#This Row],[NOM]])),'T4'!$C$5:$E$100,3,FALSE),90) -> 85 | I76: =_xlfn.IFNA(VLOOKUP(TRIM(CONCATENATE(Tableau262[[#This Row],[PRENOM]],Tableau262[[#This Row],[NOM]])),'T5'!$C$5:$E$115,3,FALSE),90) -> 90 | J76: =_xlfn.IFNA(VLOOKUP(TRIM(CONCATENATE(Tableau262[[#This Row],[PRENOM]],Tableau262[[#This Row],[NOM]])),'T6'!$C$5:$E$126,3,FALSE),90) -> 79 | K76: =_xlfn.IFNA(VLOOKUP(TRIM(CONCATENATE(Tableau262[[#This Row],[PRENOM]],Tableau262[[#This Row],[NOM]])),'T7'!$C$5:$E$113,3,FALSE),90) -> 72 | L76: =SUM(E76:K76) -> 575 | M76: =LARGE(E76:K76,1) -> 90 | N76: =LARGE(E76:K76,2) -> 90 | O76: =L76-M76-N76 -> 395 | P76: =RANK(Tableau262[[#This Row],[SCORE Final 2024]],Tableau262[SCORE Final 2024],1) -> 9
B77: ROSSI | C77: Annie | D77: RIOM | E77: =_xlfn.IFNA(VLOOKUP(TRIM(CONCATENATE(Tableau262[[#This Row],[PRENOM]],Tableau262[[#This Row],[NOM]])),'T1'!$C$5:$E$106,3,FALSE),90) -> 90 | F77: =_xlfn.IFNA(VLOOKUP(TRIM(CONCATENATE(Tableau262[[#This Row],[PRENOM]],Tableau262[[#This Row],[NOM]])),'T2'!$C$5:$E$94,3,FALSE),90) -> 73 | G77: =_xlfn.IFNA(VLOOKUP(TRIM(CONCATENATE(Tableau262[[#This Row],[PRENOM]],Tableau262[[#This Row],[NOM]])),'T3'!$C$6:$E$115,3,FALSE),90) -> 77 | H77: =_xlfn.IFNA(VLOOKUP(TRIM(CONCATENATE(Tableau262[[#This Row],[PRENOM]],Tableau262[[#This Row],[NOM]])),'T4'!$C$5:$E$100,3,FALSE),90) -> 77 | I77: =_xlfn.IFNA(VLOOKUP(TRIM(CONCATENATE(Tableau262[[#This Row],[PRENOM]],Tableau262[[#This Row],[NOM]])),'T5'!$C$5:$E$115,3,FALSE),90) -> 90 | J77: =_xlfn.IFNA(VLOOKUP(TRIM(CONCATENATE(Tableau262[[#This Row],[PRENOM]],Tableau262[[#This Row],[NOM]])),'T6'!$C$5:$E$126,3,FALSE),90) -> 83 | K77: =_xlfn.IFNA(VLOOKUP(TRIM(CONCATENATE(Tableau262[[#This Row],[PRENOM]],Tableau262[[#This Row],[NOM]])),'T7'!$C$5:$E$113,3,FALSE),90) -> 90 | L77: =SUM(E77:K77) -> 580 | M77: =LARGE(E77:K77,1) -> 90 | N77: =LARGE(E77:K77,2) -> 90 | O77: =L77-M77-N77 -> 400 | P77: =RANK(Tableau262[[#This Row],[SCORE Final 2024]],Tableau262[SCORE Final 2024],1) -> 10
B78: RUSZNIEWSKI | C78: Sylvie | D78: MONTPENSIER | E78: =_xlfn.IFNA(VLOOKUP(TRIM(CONCATENATE(Tableau262[[#This Row],[PRENOM]],Tableau262[[#This Row],[NOM]])),'T1'!$C$5:$E$106,3,FALSE),90) -> 71 | F78: =_xlfn.IFNA(VLOOKUP(TRIM(CONCATENATE(Tableau262[[#This Row],[PRENOM]],Tableau262[[#This Row],[NOM]])),'T2'!$C$5:$E$94,3,FALSE),90) -> 90 | G78: =_xlfn.IFNA(VLOOKUP(TRIM(CONCATENATE(Tableau262[[#This Row],[PRENOM]],Tableau262[[#This Row],[NOM]])),'T3'!$C$6:$E$115,3,FALSE),90) -> 90 | H78: =_xlfn.IFNA(VLOOKUP(TRIM(CONCATENATE(Tableau262[[#This Row],[PRENOM]],Tableau262[[#This Row],[NOM]])),'T4'!$C$5:$E$100,3,FALSE),90) -> 73 | I78: =_xlfn.IFNA(VLOOKUP(TRIM(CONCATENATE(Tableau262[[#This Row],[PRENOM]],Tableau262[[#This Row],[NOM]])),'T5'!$C$5:$E$115,3,FALSE),90) -> 90 | J78: 83 | K78: =_xlfn.IFNA(VLOOKUP(TRIM(CONCATENATE(Tableau262[[#This Row],[PRENOM]],Tableau262[[#This Row],[NOM]])),'T7'!$C$5:$E$113,3,FALSE),90) -> 90 | L78: =SUM(E78:K78) -> 587 | M78: =LARGE(E78:K78,1) -> 90 | N78: =LARGE(E78:K78,2) -> 90 | O78: =L78-M78-N78 -> 407 | P78: =RANK(Tableau262[[#This Row],[SCORE Final 2024]],Tableau262[SCORE Final 2024],1) -> 11
B79: JOFFRE | C79: Caroline | D79: GAZELEC CLERMONT | E79: =_xlfn.IFNA(VLOOKUP(TRIM(CONCATENATE(Tableau262[[#This Row],[PRENOM]],Tableau262[[#This Row],[NOM]])),'T1'!$C$5:$E$106,3,FALSE),90) -> 90 | F79: =_xlfn.IFNA(VLOOKUP(TRIM(CONCATENATE(Tableau262[[#This Row],[PRENOM]],Tableau262[[#This Row],[NOM]])),'T2'!$C$5:$E$94,3,FALSE),90) -> 90 | G79: =_xlfn.IFNA(VLOOKUP(TRIM(CONCATENATE(Tableau262[[#This Row],[PRENOM]],Tableau262[[#This Row],[NOM]])),'T3'!$C$6:$E$115,3,FALSE),90) -> 90 | H79: =_xlfn.IFNA(VLOOKUP(TRIM(CONCATENATE(Tableau262[[#This Row],[PRENOM]],Tableau262[[#This Row],[NOM]])),'T4'!$C$5:$E$100,3,FALSE),90) -> 90 | I79: =_xlfn.IFNA(VLOOKUP(TRIM(CONCATENATE(Tableau262[[#This Row],[PRENOM]],Tableau262[[#This Row],[NOM]])),'T5'!$C$5:$E$115,3,FALSE),90) -> 68 | J79: =_xlfn.IFNA(VLOOKUP(TRIM(CONCATENATE(Tableau262[[#This Row],[PRENOM]],Tableau262[[#This Row],[NOM]])),'T6'!$C$5:$E$126,3,FALSE),90) -> 70 | K79: =_xlfn.IFNA(VLOOKUP(TRIM(CONCATENATE(Tableau262[[#This Row],[PRENOM]],Tableau262[[#This Row],[NOM]])),'T7'!$C$5:$E$113,3,FALSE),90) -> 90 | L79: =SUM(E79:K79) -> 588 | M79: =LARGE(E79:K79,1) -> 90 | N79: =LARGE(E79:K79,2) -> 90 | O79: =L79-M79-N79 -> 408 | P79: =RANK(Tableau262[[#This Row],[SCORE Final 2024]],Tableau262[SCORE Final 2024],1) -> 12
B80: MONCHAUX | C80: Marie Hélène | D80: MAURIAC | E80: =_xlfn.IFNA(VLOOKUP(TRIM(CONCATENATE(Tableau262[[#This Row],[PRENOM]],Tableau262[[#This Row],[NOM]])),'T1'!$C$5:$E$106,3,FALSE),90) -> 79 | F80: =_xlfn.IFNA(VLOOKUP(TRIM(CONCATENATE(Tableau262[[#This Row],[PRENOM]],Tableau262[[#This Row],[NOM]])),'T2'!$C$5:$E$94,3,FALSE),90) -> 89 | G80: =_xlfn.IFNA(VLOOKUP(TRIM(CONCATENATE(Tableau262[[#This Row],[PRENOM]],Tableau262[[#This Row],[NOM]])),'T3'!$C$6:$E$115,3,FALSE),90) -> 90 | H80: =_xlfn.IFNA(VLOOKUP(TRIM(CONCATENATE(Tableau262[[#This Row],[PRENOM]],Tableau262[[#This Row],[NOM]])),'T4'!$C$5:$E$100,3,FALSE),90) -> 90 | I80: =_xlfn.IFNA(VLOOKUP(TRIM(CONCATENATE(Tableau262[[#This Row],[PRENOM]],Tableau262[[#This Row],[NOM]])),'T5'!$C$5:$E$115,3,FALSE),90) -> 78 | J80: =_xlfn.IFNA(VLOOKUP(TRIM(CONCATENATE(Tableau262[[#This Row],[PRENOM]],Tableau262[[#This Row],[NOM]])),'T6'!$C$5:$E$126,3,FALSE),90) -> 85 | K80: =_xlfn.IFNA(VLOOKUP(TRIM(CONCATENATE(Tableau262[[#This Row],[PRENOM]],Tableau262[[#This Row],[NOM]])),'T7'!$C$5:$E$113,3,FALSE),90) -> 79 | L80: =SUM(E80:K80) -> 590 | M80: =LARGE(E80:K80,1) -> 90 | N80: =LARGE(E80:K80,2) -> 90 | O80: =L80-M80-N80 -> 410 | P80: =RANK(Tableau262[[#This Row],[SCORE Final 2024]],Tableau262[SCORE Final 2024],1) -> 13
B81: BOURNAT | C81: Christiane | D81: MONTPENSIER | E81: =_xlfn.IFNA(VLOOKUP(TRIM(CONCATENATE(Tableau262[[#This Row],[PRENOM]],Tableau262[[#This Row],[NOM]])),'T1'!$C$5:$E$106,3,FALSE),90) -> 63 | F81: =_xlfn.IFNA(VLOOKUP(TRIM(CONCATENATE(Tableau262[[#This Row],[PRENOM]],Tableau262[[#This Row],[NOM]])),'T2'!$C$5:$E$94,3,FALSE),90) -> 90 | G81: =_xlfn.IFNA(VLOOKUP(TRIM(CONCATENATE(Tableau262[[#This Row],[PRENOM]],Tableau262[[#This Row],[NOM]])),'T3'!$C$6:$E$115,3,FALSE),90) -> 90 | H81: =_xlfn.IFNA(VLOOKUP(TRIM(CONCATENATE(Tableau262[[#This Row],[PRENOM]],Tableau262[[#This Row],[NOM]])),'T4'!$C$5:$E$100,3,FALSE),90) -> 90 | I81: =_xlfn.IFNA(VLOOKUP(TRIM(CONCATENATE(Tableau262[[#This Row],[PRENOM]],Tableau262[[#This Row],[NOM]])),'T5'!$C$5:$E$115,3,FALSE),90) -> 90 | J81: =_xlfn.IFNA(VLOOKUP(TRIM(CONCATENATE(Tableau262[[#This Row],[PRENOM]],Tableau262[[#This Row],[NOM]])),'T6'!$C$5:$E$126,3,FALSE),90) -> 90 | K81: =_xlfn.IFNA(VLOOKUP(TRIM(CONCATENATE(Tableau262[[#This Row],[PRENOM]],Tableau262[[#This Row],[NOM]])),'T7'!$C$5:$E$113,3,FALSE),90) -> 78 | L81: =SUM(E81:K81) -> 591 | M81: =LARGE(E81:K81,1) -> 90 | N81: =LARGE(E81:K81,2) -> 90 | O81: =L81-M81-N81 -> 411 | P81: =RANK(Tableau262[[#This Row],[SCORE Final 2024]],Tableau262[SCORE Final 2024],1) -> 14
B82: BARON | C82: Yvette | D82: MONTPENSIER | E82: =_xlfn.IFNA(VLOOKUP(TRIM(CONCATENATE(Tableau262[[#This Row],[PRENOM]],Tableau262[[#This Row],[NOM]])),'T1'!$C$5:$E$106,3,FALSE),90) -> 69 | F82: =_xlfn.IFNA(VLOOKUP(TRIM(CONCATENATE(Tableau262[[#This Row],[PRENOM]],Tableau262[[#This Row],[NOM]])),'T2'!$C$5:$E$94,3,FALSE),90) -> 90 | G82: =_xlfn.IFNA(VLOOKUP(TRIM(CONCATENATE(Tableau262[[#This Row],[PRENOM]],Tableau262[[#This Row],[NOM]])),'T3'!$C$6:$E$115,3,FALSE),90) -> 90 | H82: =_xlfn.IFNA(VLOOKUP(TRIM(CONCATENATE(Tableau262[[#This Row],[PRENOM]],Tableau262[[#This Row],[NOM]])),'T4'!$C$5:$E$100,3,FALSE),90) -> 90 | I82: =_xlfn.IFNA(VLOOKUP(TRIM(CONCATENATE(Tableau262[[#This Row],[PRENOM]],Tableau262[[#This Row],[NOM]])),'T5'!$C$5:$E$115,3,FALSE),90) -> 90 | J82: =_xlfn.IFNA(VLOOKUP(TRIM(CONCATENATE(Tableau262[[#This Row],[PRENOM]],Tableau262[[#This Row],[NOM]])),'T6'!$C$5:$E$126,3,FALSE),90) -> 90 | K82: =_xlfn.IFNA(VLOOKUP(TRIM(CONCATENATE(Tableau262[[#This Row],[PRENOM]],Tableau262[[#This Row],[NOM]])),'T7'!$C$5:$E$113,3,FALSE),90) -> 76 | L82: =SUM(E82:K82) -> 595 | M82: =LARGE(E82:K82,1) -> 90 | N82: =LARGE(E82:K82,2) -> 90 | O82: =L82-M82-N82 -> 415 | P82: =RANK(Tableau262[[#This Row],[SCORE Final 2024]],Tableau262[SCORE Final 2024],1) -> 15
B83: KUCHCIK | C83: Joëlle | D83: RIOM | E83: =_xlfn.IFNA(VLOOKUP(TRIM(CONCATENATE(Tableau262[[#This Row],[PRENOM]],Tableau262[[#This Row],[NOM]])),'T1'!$C$5:$E$106,3,FALSE),90) -> 90 | F83: =_xlfn.IFNA(VLOOKUP(TRIM(CONCATENATE(Tableau262[[#This Row],[PRENOM]],Tableau262[[#This Row],[NOM]])),'T2'!$C$5:$E$94,3,FALSE),90) -> 90 | G83: =_xlfn.IFNA(VLOOKUP(TRIM(CONCATENATE(Tableau262[[#This Row],[PRENOM]],Tableau262[[#This Row],[NOM]])),'T3'!$C$6:$E$115,3,FALSE),90) -> 78 | H83: =_xlfn.IFNA(VLOOKUP(TRIM(CONCATENATE(Tableau262[[#This Row],[PRENOM]],Tableau262[[#This Row],[NOM]])),'T4'!$C$5:$E$100,3,FALSE),90) -> 90 | I83: =_xlfn.IFNA(VLOOKUP(TRIM(CONCATENATE(Tableau262[[#This Row],[PRENOM]],Tableau262[[#This Row],[NOM]])),'T5'!$C$5:$E$115,3,FALSE),90) -> 81 | J83: =_xlfn.IFNA(VLOOKUP(TRIM(CONCATENATE(Tableau262[[#This Row],[PRENOM]],Tableau262[[#This Row],[NOM]])),'T6'!$C$5:$E$126,3,FALSE),90) -> 90 | K83: =_xlfn.IFNA(VLOOKUP(TRIM(CONCATENATE(Tableau262[[#This Row],[PRENOM]],Tableau262[[#This Row],[NOM]])),'T7'!$C$5:$E$113,3,FALSE),90) -> 77 | L83: =SUM(E83:K83) -> 596 | M83: =LARGE(E83:K83,1) -> 90 | N83: =LARGE(E83:K83,2) -> 90 | O83: =L83-M83-N83 -> 416 | P83: =RANK(Tableau262[[#This Row],[SCORE Final 2024]],Tableau262[SCORE Final 2024],1) -> 16
B84: LARIVIERE | C84: Ghislaine | D84: VAL D'AUZON | E84: =_xlfn.IFNA(VLOOKUP(TRIM(CONCATENATE(Tableau262[[#This Row],[PRENOM]],Tableau262[[#This Row],[NOM]])),'T1'!$C$5:$E$106,3,FALSE),90) -> 73 | F84: =_xlfn.IFNA(VLOOKUP(TRIM(CONCATENATE(Tableau262[[#This Row],[PRENOM]],Tableau262[[#This Row],[NOM]])),'T2'!$C$5:$E$94,3,FALSE),90) -> 75 | G84: =_xlfn.IFNA(VLOOKUP(TRIM(CONCATENATE(Tableau262[[#This Row],[PRENOM]],Tableau262[[#This Row],[NOM]])),'T3'!$C$6:$E$115,3,FALSE),90) -> 90 | H84: =_xlfn.IFNA(VLOOKUP(TRIM(CONCATENATE(Tableau262[[#This Row],[PRENOM]],Tableau262[[#This Row],[NOM]])),'T4'!$C$5:$E$100,3,FALSE),90) -> 90 | I84: =_xlfn.IFNA(VLOOKUP(TRIM(CONCATENATE(Tableau262[[#This Row],[PRENOM]],Tableau262[[#This Row],[NOM]])),'T5'!$C$5:$E$115,3,FALSE),90) -> 90 | J84: =_xlfn.IFNA(VLOOKUP(TRIM(CONCATENATE(Tableau262[[#This Row],[PRENOM]],Tableau262[[#This Row],[NOM]])),'T6'!$C$5:$E$126,3,FALSE),90) -> 90 | K84: =_xlfn.IFNA(VLOOKUP(TRIM(CONCATENATE(Tableau262[[#This Row],[PRENOM]],Tableau262[[#This Row],[NOM]])),'T7'!$C$5:$E$113,3,FALSE),90) -> 90 | L84: =SUM(E84:K84) -> 598 | M84: =LARGE(E84:K84,1) -> 90 | N84: =LARGE(E84:K84,2) -> 90 | O84: =L84-M84-N84 -> 418 | P84: =RANK(Tableau262[[#This Row],[SCORE Final 2024]],Tableau262[SCORE Final 2024],1) -> 17
B85: VIDAL | C85: Odile | D85: MONTPENSIER | E85: =_xlfn.IFNA(VLOOKUP(TRIM(CONCATENATE(Tableau262[[#This Row],[PRENOM]],Tableau262[[#This Row],[NOM]])),'T1'!$C$5:$E$106,3,FALSE),90) -> 73 | F85: =_xlfn.IFNA(VLOOKUP(TRIM(CONCATENATE(Tableau262[[#This Row],[PRENOM]],Tableau262[[#This Row],[NOM]])),'T2'!$C$5:$E$94,3,FALSE),90) -> 90 | G85: =_xlfn.IFNA(VLOOKUP(TRIM(CONCATENATE(Tableau262[[#This Row],[PRENOM]],Tableau262[[#This Row],[NOM]])),'T3'!$C$6:$E$115,3,FALSE),90) -> 90 | H85: =_xlfn.IFNA(VLOOKUP(TRIM(CONCATENATE(Tableau262[[#This Row],[PRENOM]],Tableau262[[#This Row],[NOM]])),'T4'!$C$5:$E$100,3,FALSE),90) -> 90 | I85: =_xlfn.IFNA(VLOOKUP(TRIM(CONCATENATE(Tableau262[[#This Row],[PRENOM]],Tableau262[[#This Row],[NOM]])),'T5'!$C$5:$E$115,3,FALSE),90) -> 90 | J85: =_xlfn.IFNA(VLOOKUP(TRIM(CONCATENATE(Tableau262[[#This Row],[PRENOM]],Tableau262[[#This Row],[NOM]])),'T6'!$C$5:$E$126,3,FALSE),90) -> 78 | K85: =_xlfn.IFNA(VLOOKUP(TRIM(CONCATENATE(Tableau262[[#This Row],[PRENOM]],Tableau262[[#This Row],[NOM]])),'T7'!$C$5:$E$113,3,FALSE),90) -> 90 | L85: =SUM(E85:K85) -> 601 | M85: =LARGE(E85:K85,1) -> 90 | N85: =LARGE(E85:K85,2) -> 90 | O85: =L85-M85-N85 -> 421 | P85: =RANK(Tableau262[[#This Row],[SCORE Final 2024]],Tableau262[SCORE Final 2024],1) -> 18
B86: TIXIER | C86: Corinne | D86: GAZELEC CLERMONT | E86: =_xlfn.IFNA(VLOOKUP(TRIM(CONCATENATE(Tableau262[[#This Row],[PRENOM]],Tableau262[[#This Row],[NOM]])),'T1'!$C$5:$E$106,3,FALSE),90) -> 76 | F86: =_xlfn.IFNA(VLOOKUP(TRIM(CONCATENATE(Tableau262[[#This Row],[PRENOM]],Tableau262[[#This Row],[NOM]])),'T2'!$C$5:$E$94,3,FALSE),90) -> 90 | G86: =_xlfn.IFNA(VLOOKUP(TRIM(CONCATENATE(Tableau262[[#This Row],[PRENOM]],Tableau262[[#This Row],[NOM]])),'T3'!$C$6:$E$115,3,FALSE),90) -> 90 | H86: =_xlfn.IFNA(VLOOKUP(TRIM(CONCATENATE(Tableau262[[#This Row],[PRENOM]],Tableau262[[#This Row],[NOM]])),'T4'!$C$5:$E$100,3,FALSE),90) -> 85 | I86: =_xlfn.IFNA(VLOOKUP(TRIM(CONCATENATE(Tableau262[[#This Row],[PRENOM]],Tableau262[[#This Row],[NOM]])),'T5'!$C$5:$E$115,3,FALSE),90) -> 90 | J86: =_xlfn.IFNA(VLOOKUP(TRIM(CONCATENATE(Tableau262[[#This Row],[PRENOM]],Tableau262[[#This Row],[NOM]])),'T6'!$C$5:$E$126,3,FALSE),90) -> 90 | K86: =_xlfn.IFNA(VLOOKUP(TRIM(CONCATENATE(Tableau262[[#This Row],[PRENOM]],Tableau262[[#This Row],[NOM]])),'T7'!$C$5:$E$113,3,FALSE),90) -> 81 | L86: =SUM(E86:K86) -> 602 | M86: =LARGE(E86:K86,1) -> 90 | N86: =LARGE(E86:K86,2) -> 90 | O86: =L86-M86-N86 -> 422 | P86: =RANK(Tableau262[[#This Row],[SCORE Final 2024]],Tableau262[SCORE Final 2024],1) -> 19
B87: SOUTHON | C87: Sylvie | D87: VAL D'AUZON | E87: =_xlfn.IFNA(VLOOKUP(TRIM(CONCATENATE(Tableau262[[#This Row],[PRENOM]],Tableau262[[#This Row],[NOM]])),'T1'!$C$5:$E$106,3,FALSE),90) -> 90 | F87: =_xlfn.IFNA(VLOOKUP(TRIM(CONCATENATE(Tableau262[[#This Row],[PRENOM]],Tableau262[[#This Row],[NOM]])),'T2'!$C$5:$E$94,3,FALSE),90) -> 85 | G87: =_xlfn.IFNA(VLOOKUP(TRIM(CONCATENATE(Tableau262[[#This Row],[PRENOM]],Tableau262[[#This Row],[NOM]])),'T3'!$C$6:$E$115,3,FALSE),90) -> 90 | H87: =_xlfn.IFNA(VLOOKUP(TRIM(CONCATENATE(Tableau262[[#This Row],[PRENOM]],Tableau262[[#This Row],[NOM]])),'T4'!$C$5:$E$100,3,FALSE),90) -> 90 | I87: =_xlfn.IFNA(VLOOKUP(TRIM(CONCATENATE(Tableau262[[#This Row],[PRENOM]],Tableau262[[#This Row],[NOM]])),'T5'!$C$5:$E$115,3,FALSE),90) -> 90 | J87: 85 | K87: =_xlfn.IFNA(VLOOKUP(TRIM(CONCATENATE(Tableau262[[#This Row],[PRENOM]],Tableau262[[#This Row],[NOM]])),'T7'!$C$5:$E$113,3,FALSE),90) -> 75 | L87: =SUM(E87:K87) -> 605 | M87: =LARGE(E87:K87,1) -> 90 | N87: =LARGE(E87:K87,2) -> 90 | O87: =L87-M87-N87 -> 425 | P87: =RANK(Tableau262[[#This Row],[SCORE Final 2024]],Tableau262[SCORE Final 2024],1) -> 20
B88: DUBERT | C88: Corinne | D88: MONTPENSIER | E88: =_xlfn.IFNA(VLOOKUP(TRIM(CONCATENATE(Tableau262[[#This Row],[PRENOM]],Tableau262[[#This Row],[NOM]])),'T1'!$C$5:$E$106,3,FALSE),90) -> 90 | F88: =_xlfn.IFNA(VLOOKUP(TRIM(CONCATENATE(Tableau262[[#This Row],[PRENOM]],Tableau262[[#This Row],[NOM]])),'T2'!$C$5:$E$94,3,FALSE),90) -> 90 | G88: =_xlfn.IFNA(VLOOKUP(TRIM(CONCATENATE(Tableau262[[#This Row],[PRENOM]],Tableau262[[#This Row],[NOM]])),'T3'!$C$6:$E$115,3,FALSE),90) -> 90 | H88: =_xlfn.IFNA(VLOOKUP(TRIM(CONCATENATE(Tableau262[[#This Row],[PRENOM]],Tableau262[[#This Row],[NOM]])),'T4'!$C$5:$E$100,3,FALSE),90) -> 90 | I88: =_xlfn.IFNA(VLOOKUP(TRIM(CONCATENATE(Tableau262[[#This Row],[PRENOM]],Tableau262[[#This Row],[NOM]])),'T5'!$C$5:$E$115,3,FALSE),90) -> 90 | J88: =_xlfn.IFNA(VLOOKUP(TRIM(CONCATENATE(Tableau262[[#This Row],[PRENOM]],Tableau262[[#This Row],[NOM]])),'T6'!$C$5:$E$126,3,FALSE),90) -> 90 | K88: =_xlfn.IFNA(VLOOKUP(TRIM(CONCATENATE(Tableau262[[#This Row],[PRENOM]],Tableau262[[#This Row],[NOM]])),'T7'!$C$5:$E$113,3,FALSE),90) -> 66 | L88: =SUM(E88:K88) -> 606 | M88: =LARGE(E88:K88,1) -> 90 | N88: =LARGE(E88:K88,2) -> 90 | O88: =L88-M88-N88 -> 426 | P88: =RANK(Tableau262[[#This Row],[SCORE Final 2024]],Tableau262[SCORE Final 2024],1) -> 21
B89: HEBERT | C89: Françoise | D89: MAURIAC | E89: =_xlfn.IFNA(VLOOKUP(TRIM(CONCATENATE(Tableau262[[#This Row],[PRENOM]],Tableau262[[#This Row],[NOM]])),'T1'!$C$5:$E$106,3,FALSE),90) -> 90 | F89: =_xlfn.IFNA(VLOOKUP(TRIM(CONCATENATE(Tableau262[[#This Row],[PRENOM]],Tableau262[[#This Row],[NOM]])),'T2'!$C$5:$E$94,3,FALSE),90) -> 90 | G89: =_xlfn.IFNA(VLOOKUP(TRIM(CONCATENATE(Tableau262[[#This Row],[PRENOM]],Tableau262[[#This Row],[NOM]])),'T3'!$C$6:$E$115,3,FALSE),90) -> 67 | H89: =_xlfn.IFNA(VLOOKUP(TRIM(CONCATENATE(Tableau262[[#This Row],[PRENOM]],Tableau262[[#This Row],[NOM]])),'T4'!$C$5:$E$100,3,FALSE),90) -> 90 | I89: =_xlfn.IFNA(VLOOKUP(TRIM(CONCATENATE(Tableau262[[#This Row],[PRENOM]],Tableau262[[#This Row],[NOM]])),'T5'!$C$5:$E$115,3,FALSE),90) -> 90 | J89: =_xlfn.IFNA(VLOOKUP(TRIM(CONCATENATE(Tableau262[[#This Row],[PRENOM]],Tableau262[[#This Row],[NOM]])),'T6'!$C$5:$E$126,3,FALSE),90) -> 90 | K89: =_xlfn.IFNA(VLOOKUP(TRIM(CONCATENATE(Tableau262[[#This Row],[PRENOM]],Tableau262[[#This Row],[NOM]])),'T7'!$C$5:$E$113,3,FALSE),90) -> 90 | L89: =SUM(E89:K89) -> 607 | M89: =LARGE(E89:K89,1) -> 90 | N89: =LARGE(E89:K89,2) -> 90 | O89: =L89-M89-N89 -> 427 | P89: =RANK(Tableau262[[#This Row],[SCORE Final 2024]],Tableau262[SCORE Final 2024],1) -> 22
B90: MAZUEL | C90: Nicole | D90: GAZELEC CLERMONT | E90: =_xlfn.IFNA(VLOOKUP(TRIM(CONCATENATE(Tableau262[[#This Row],[PRENOM]],Tableau262[[#This Row],[NOM]])),'T1'!$C$5:$E$106,3,FALSE),90) -> 90 | F90: =_xlfn.IFNA(VLOOKUP(TRIM(CONCATENATE(Tableau262[[#This Row],[PRENOM]],Tableau262[[#This Row],[NOM]])),'T2'!$C$5:$E$94,3,FALSE),90) -> 90 | G90: =_xlfn.IFNA(VLOOKUP(TRIM(CONCATENATE(Tableau262[[#This Row],[PRENOM]],Tableau262[[#This Row],[NOM]])),'T3'!$C$6:$E$115,3,FALSE),90) -> 90 | H90: =_xlfn.IFNA(VLOOKUP(TRIM(CONCATENATE(Tableau262[[#This Row],[PRENOM]],Tableau262[[#This Row],[NOM]])),'T4'!$C$5:$E$100,3,FALSE),90) -> 90 | I90: =_xlfn.IFNA(VLOOKUP(TRIM(CONCATENATE(Tableau262[[#This Row],[PRENOM]],Tableau262[[#This Row],[NOM]])),'T5'!$C$5:$E$115,3,FALSE),90) -> 90 | J90: =_xlfn.IFNA(VLOOKUP(TRIM(CONCATENATE(Tableau262[[#This Row],[PRENOM]],Tableau262[[#This Row],[NOM]])),'T6'!$C$5:$E$126,3,FALSE),90) -> 85 | K90: =_xlfn.IFNA(VLOOKUP(TRIM(CONCATENATE(Tableau262[[#This Row],[PRENOM]],Tableau262[[#This Row],[NOM]])),'T7'!$C$5:$E$113,3,FALSE),90) -> 72 | L90: =SUM(E90:K90) -> 607 | M90: =LARGE(E90:K90,1) -> 90 | N90: =LARGE(E90:K90,2) -> 90 | O90: =L90-M90-N90 -> 427 | P90: =RANK(Tableau262[[#This Row],[SCORE Final 2024]],Tableau262[SCORE Final 2024],1) -> 22
B91: DOMY | C91: Monique | D91: MAURIAC | E91: =_xlfn.IFNA(VLOOKUP(TRIM(CONCATENATE(Tableau262[[#This Row],[PRENOM]],Tableau262[[#This Row],[NOM]])),'T1'!$C$5:$E$106,3,FALSE),90) -> 90 | F91: =_xlfn.IFNA(VLOOKUP(TRIM(CONCATENATE(Tableau262[[#This Row],[PRENOM]],Tableau262[[#This Row],[NOM]])),'T2'!$C$5:$E$94,3,FALSE),90) -> 90 | G91: =_xlfn.IFNA(VLOOKUP(TRIM(CONCATENATE(Tableau262[[#This Row],[PRENOM]],Tableau262[[#This Row],[NOM]])),'T3'!$C$6:$E$115,3,FALSE),90) -> 90 | H91: =_xlfn.IFNA(VLOOKUP(TRIM(CONCATENATE(Tableau262[[#This Row],[PRENOM]],Tableau262[[#This Row],[NOM]])),'T4'!$C$5:$E$100,3,FALSE),90) -> 71 | I91: =_xlfn.IFNA(VLOOKUP(TRIM(CONCATENATE(Tableau262[[#This Row],[PRENOM]],Tableau262[[#This Row],[NOM]])),'T5'!$C$5:$E$115,3,FALSE),90) -> 90 | J91: =_xlfn.IFNA(VLOOKUP(TRIM(CONCATENATE(Tableau262[[#This Row],[PRENOM]],Tableau262[[#This Row],[NOM]])),'T6'!$C$5:$E$126,3,FALSE),90) -> 90 | K91: =_xlfn.IFNA(VLOOKUP(TRIM(CONCATENATE(Tableau262[[#This Row],[PRENOM]],Tableau262[[#This Row],[NOM]])),'T7'!$C$5:$E$113,3,FALSE),90) -> 90 | L91: =SUM(E91:K91) -> 611 | M91: =LARGE(E91:K91,1) -> 90 | N91: =LARGE(E91:K91,2) -> 90 | O91: =L91-M91-N91 -> 431 | P91: =RANK(Tableau262[[#This Row],[SCORE Final 2024]],Tableau262[SCORE Final 2024],1) -> 24
B92: FLECHE | C92: Agnés | D92: MONTPENSIER | E92: =_xlfn.IFNA(VLOOKUP(TRIM(CONCATENATE(Tableau262[[#This Row],[PRENOM]],Tableau262[[#This Row],[NOM]])),'T1'!$C$5:$E$106,3,FALSE),90) -> 79 | F92: =_xlfn.IFNA(VLOOKUP(TRIM(CONCATENATE(Tableau262[[#This Row],[PRENOM]],Tableau262[[#This Row],[NOM]])),'T2'!$C$5:$E$94,3,FALSE),90) -> 90 | G92: =_xlfn.IFNA(VLOOKUP(TRIM(CONCATENATE(Tableau262[[#This Row],[PRENOM]],Tableau262[[#This Row],[NOM]])),'T3'!$C$6:$E$115,3,FALSE),90) -> 90 | H92: =_xlfn.IFNA(VLOOKUP(TRIM(CONCATENATE(Tableau262[[#This Row],[PRENOM]],Tableau262[[#This Row],[NOM]])),'T4'!$C$5:$E$100,3,FALSE),90) -> 90 | I92: =_xlfn.IFNA(VLOOKUP(TRIM(CONCATENATE(Tableau262[[#This Row],[PRENOM]],Tableau262[[#This Row],[NOM]])),'T5'!$C$5:$E$115,3,FALSE),90) -> 90 | J92: 85 | K92: =_xlfn.IFNA(VLOOKUP(TRIM(CONCATENATE(Tableau262[[#This Row],[PRENOM]],Tableau262[[#This Row],[NOM]])),'T7'!$C$5:$E$113,3,FALSE),90) -> 90 | L92: =SUM(E92:K92) -> 614 | M92: =LARGE(E92:K92,1) -> 90 | N92: =LARGE(E92:K92,2) -> 90 | O92: =L92-M92-N92 -> 434 | P92: =RANK(Tableau262[[#This Row],[SCORE Final 2024]],Tableau262[SCORE Final 2024],1) -> 25
B93: LOUBAT | C93: Christiane | D93: CHARADE | E93: =_xlfn.IFNA(VLOOKUP(TRIM(CONCATENATE(Tableau262[[#This Row],[PRENOM]],Tableau262[[#This Row],[NOM]])),'T1'!$C$5:$E$106,3,FALSE),90) -> 90 | F93: =_xlfn.IFNA(VLOOKUP(TRIM(CONCATENATE(Tableau262[[#This Row],[PRENOM]],Tableau262[[#This Row],[NOM]])),'T2'!$C$5:$E$94,3,FALSE),90) -> 90 | G93: =_xlfn.IFNA(VLOOKUP(TRIM(CONCATENATE(Tableau262[[#This Row],[PRENOM]],Tableau262[[#This Row],[NOM]])),'T3'!$C$6:$E$115,3,FALSE),90) -> 90 | H93: =_xlfn.IFNA(VLOOKUP(TRIM(CONCATENATE(Tableau262[[#This Row],[PRENOM]],Tableau262[[#This Row],[NOM]])),'T4'!$C$5:$E$100,3,FALSE),90) -> 90 | I93: =_xlfn.IFNA(VLOOKUP(TRIM(CONCATENATE(Tableau262[[#This Row],[PRENOM]],Tableau262[[#This Row],[NOM]])),'T5'!$C$5:$E$115,3,FALSE),90) -> 85 | J93: =_xlfn.IFNA(VLOOKUP(TRIM(CONCATENATE(Tableau262[[#This Row],[PRENOM]],Tableau262[[#This Row],[NOM]])),'T6'!$C$5:$E$126,3,FALSE),90) -> 85 | K93: =_xlfn.IFNA(VLOOKUP(TRIM(CONCATENATE(Tableau262[[#This Row],[PRENOM]],Tableau262[[#This Row],[NOM]])),'T7'!$C$5:$E$113,3,FALSE),90) -> 90 | L93: =SUM(E93:K93) -> 620 | M93: =LARGE(E93:K93,1) -> 90 | N93: =LARGE(E93:K93,2) -> 90 | O93: =L93-M93-N93 -> 440 | P93: =RANK(Tableau262[[#This Row],[SCORE Final 2024]],Tableau262[SCORE Final 2024],1) -> 26
B94: RAY | C94: Odile | D94: MONTPENSIER | E94: =_xlfn.IFNA(VLOOKUP(TRIM(CONCATENATE(Tableau262[[#This Row],[PRENOM]],Tableau262[[#This Row],[NOM]])),'T1'!$C$5:$E$106,3,FALSE),90) -> 90 | F94: =_xlfn.IFNA(VLOOKUP(TRIM(CONCATENATE(Tableau262[[#This Row],[PRENOM]],Tableau262[[#This Row],[NOM]])),'T2'!$C$5:$E$94,3,FALSE),90) -> 90 | G94: =_xlfn.IFNA(VLOOKUP(TRIM(CONCATENATE(Tableau262[[#This Row],[PRENOM]],Tableau262[[#This Row],[NOM]])),'T3'!$C$6:$E$115,3,FALSE),90) -> 90 | H94: =_xlfn.IFNA(VLOOKUP(TRIM(CONCATENATE(Tableau262[[#This Row],[PRENOM]],Tableau262[[#This Row],[NOM]])),'T4'!$C$5:$E$100,3,FALSE),90) -> 80 | I94: =_xlfn.IFNA(VLOOKUP(TRIM(CONCATENATE(Tableau262[[#This Row],[PRENOM]],Tableau262[[#This Row],[NOM]])),'T5'!$C$5:$E$115,3,FALSE),90) -> 90 | J94: =_xlfn.IFNA(VLOOKUP(TRIM(CONCATENATE(Tableau262[[#This Row],[PRENOM]],Tableau262[[#This Row],[NOM]])),'T6'!$C$5:$E$126,3,FALSE),90) -> 90 | K94: =_xlfn.IFNA(VLOOKUP(TRIM(CONCATENATE(Tableau262[[#This Row],[PRENOM]],Tableau262[[#This Row],[NOM]])),'T7'!$C$5:$E$113,3,FALSE),90) -> 90 | L94: =SUM(E94:K94) -> 620 | M94: =LARGE(E94:K94,1) -> 90 | N94: =LARGE(E94:K94,2) -> 90 | O94: =L94-M94-N94 -> 440 | P94: =RANK(Tableau262[[#This Row],[SCORE Final 2024]],Tableau262[SCORE Final 2024],1) -> 26
B95: BONNET | C95: Monique | D95: VAL D'AUZON | E95: =_xlfn.IFNA(VLOOKUP(TRIM(CONCATENATE(Tableau262[[#This Row],[PRENOM]],Tableau262[[#This Row],[NOM]])),'T1'!$C$5:$E$106,3,FALSE),90) -> 90 | F95: =_xlfn.IFNA(VLOOKUP(TRIM(CONCATENATE(Tableau262[[#This Row],[PRENOM]],Tableau262[[#This Row],[NOM]])),'T2'!$C$5:$E$94,3,FALSE),90) -> 90 | G95: =_xlfn.IFNA(VLOOKUP(TRIM(CONCATENATE(Tableau262[[#This Row],[PRENOM]],Tableau262[[#This Row],[NOM]])),'T3'!$C$6:$E$115,3,FALSE),90) -> 90 | H95: =_xlfn.IFNA(VLOOKUP(TRIM(CONCATENATE(Tableau262[[#This Row],[PRENOM]],Tableau262[[#This Row],[NOM]])),'T4'!$C$5:$E$100,3,FALSE),90) -> 90 | I95: =_xlfn.IFNA(VLOOKUP(TRIM(CONCATENATE(Tableau262[[#This Row],[PRENOM]],Tableau262[[#This Row],[NOM]])),'T5'!$C$5:$E$115,3,FALSE),90) -> 90 | J95: =_xlfn.IFNA(VLOOKUP(TRIM(CONCATENATE(Tableau262[[#This Row],[PRENOM]],Tableau262[[#This Row],[NOM]])),'T6'!$C$5:$E$126,3,FALSE),90) -> 82 | K95: =_xlfn.IFNA(VLOOKUP(TRIM(CONCATENATE(Tableau262[[#This Row],[PRENOM]],Tableau262[[#This Row],[NOM]])),'T7'!$C$5:$E$113,3,FALSE),90) -> 90 | L95: =SUM(E95:K95) -> 622 | M95: =LARGE(E95:K95,1) -> 90 | N95: =LARGE(E95:K95,2) -> 90 | O95: =L95-M95-N95 -> 442 | P95: =RANK(Tableau262[[#This Row],[SCORE Final 2024]],Tableau262[SCORE Final 2024],1) -> 28
B96: GEIGER | C96: Yael | D96: GAZELEC CLERMONT | E96: =_xlfn.IFNA(VLOOKUP(TRIM(CONCATENATE(Tableau262[[#This Row],[PRENOM]],Tableau262[[#This Row],[NOM]])),'T1'!$C$5:$E$106,3,FALSE),90) -> 90 | F96: =_xlfn.IFNA(VLOOKUP(TRIM(CONCATENATE(Tableau262[[#This Row],[PRENOM]],Tableau262[[#This Row],[NOM]])),'T2'!$C$5:$E$94,3,FALSE),90) -> 90 | G96: =_xlfn.IFNA(VLOOKUP(TRIM(CONCATENATE(Tableau262[[#This Row],[PRENOM]],Tableau262[[#This Row],[NOM]])),'T3'!$C$6:$E$115,3,FALSE),90) -> 90 | H96: =_xlfn.IFNA(VLOOKUP(TRIM(CONCATENATE(Tableau262[[#This Row],[PRENOM]],Tableau262[[#This Row],[NOM]])),'T4'!$C$5:$E$100,3,FALSE),90) -> 90 | I96: =_xlfn.IFNA(VLOOKUP(TRIM(CONCATENATE(Tableau262[[#This Row],[PRENOM]],Tableau262[[#This Row],[NOM]])),'T5'!$C$5:$E$115,3,FALSE),90) -> 83 | J96: =_xlfn.IFNA(VLOOKUP(TRIM(CONCATENATE(Tableau262[[#This Row],[PRENOM]],Tableau262[[#This Row],[NOM]])),'T6'!$C$5:$E$126,3,FALSE),90) -> 90 | K96: =_xlfn.IFNA(VLOOKUP(TRIM(CONCATENATE(Tableau262[[#This Row],[PRENOM]],Tableau262[[#This Row],[NOM]])),'T7'!$C$5:$E$113,3,FALSE),90) -> 90 | L96: =SUM(E96:K96) -> 623 | M96: =LARGE(E96:K96,1) -> 90 | N96: =LARGE(E96:K96,2) -> 90 | O96: =L96-M96-N96 -> 443 | P96: =RANK(Tableau262[[#This Row],[SCORE Final 2024]],Tableau262[SCORE Final 2024],1) -> 29
B97: CAMBET | C97: Jocelyne | D97: GAZELEC CLERMONT | E97: =_xlfn.IFNA(VLOOKUP(TRIM(CONCATENATE(Tableau262[[#This Row],[PRENOM]],Tableau262[[#This Row],[NOM]])),'T1'!$C$5:$E$106,3,FALSE),90) -> 90 | F97: =_xlfn.IFNA(VLOOKUP(TRIM(CONCATENATE(Tableau262[[#This Row],[PRENOM]],Tableau262[[#This Row],[NOM]])),'T2'!$C$5:$E$94,3,FALSE),90) -> 90 | G97: =_xlfn.IFNA(VLOOKUP(TRIM(CONCATENATE(Tableau262[[#This Row],[PRENOM]],Tableau262[[#This Row],[NOM]])),'T3'!$C$6:$E$115,3,FALSE),90) -> 90 | H97: =_xlfn.IFNA(VLOOKUP(TRIM(CONCATENATE(Tableau262[[#This Row],[PRENOM]],Tableau262[[#This Row],[NOM]])),'T4'!$C$5:$E$100,3,FALSE),90) -> 85 | I97: =_xlfn.IFNA(VLOOKUP(TRIM(CONCATENATE(Tableau262[[#This Row],[PRENOM]],Tableau262[[#This Row],[NOM]])),'T5'!$C$5:$E$115,3,FALSE),90) -> 90 | J97: =_xlfn.IFNA(VLOOKUP(TRIM(CONCATENATE(Tableau262[[#This Row],[PRENOM]],Tableau262[[#This Row],[NOM]])),'T6'!$C$5:$E$126,3,FALSE),90) -> 90 | K97: =_xlfn.IFNA(VLOOKUP(TRIM(CONCATENATE(Tableau262[[#This Row],[PRENOM]],Tableau262[[#This Row],[NOM]])),'T7'!$C$5:$E$113,3,FALSE),90) -> 90 | L97: =SUM(E97:K97) -> 625 | M97: =LARGE(E97:K97,1) -> 90 | N97: =LARGE(E97:K97,2) -> 90 | O97: =L97-M97-N97 -> 445 | P97: =RANK(Tableau262[[#This Row],[SCORE Final 2024]],Tableau262[SCORE Final 2024],1) -> 30
B98: MICHAUDEL | C98: Marie Martine | D98: MONTPENSIER | E98: =_xlfn.IFNA(VLOOKUP(TRIM(CONCATENATE(Tableau262[[#This Row],[PRENOM]],Tableau262[[#This Row],[NOM]])),'T1'!$C$5:$E$106,3,FALSE),90) -> 90 | F98: =_xlfn.IFNA(VLOOKUP(TRIM(CONCATENATE(Tableau262[[#This Row],[PRENOM]],Tableau262[[#This Row],[NOM]])),'T2'!$C$5:$E$94,3,FALSE),90) -> 90 | G98: =_xlfn.IFNA(VLOOKUP(TRIM(CONCATENATE(Tableau262[[#This Row],[PRENOM]],Tableau262[[#This Row],[NOM]])),'T3'!$C$6:$E$115,3,FALSE),90) -> 90 | H98: =_xlfn.IFNA(VLOOKUP(TRIM(CONCATENATE(Tableau262[[#This Row],[PRENOM]],Tableau262[[#This Row],[NOM]])),'T4'!$C$5:$E$100,3,FALSE),90) -> 90 | I98: =_xlfn.IFNA(VLOOKUP(TRIM(CONCATENATE(Tableau262[[#This Row],[PRENOM]],Tableau262[[#This Row],[NOM]])),'T5'!$C$5:$E$115,3,FALSE),90) -> 90 | J98: =_xlfn.IFNA(VLOOKUP(TRIM(CONCATENATE(Tableau262[[#This Row],[PRENOM]],Tableau262[[#This Row],[NOM]])),'T6'!$C$5:$E$126,3,FALSE),90) -> 90 | K98: =_xlfn.IFNA(VLOOKUP(TRIM(CONCATENATE(Tableau262[[#This Row],[PRENOM]],Tableau262[[#This Row],[NOM]])),'T7'!$C$5:$E$113,3,FALSE),90) -> 90 | L98: =SUM(E98:K98) -> 630 | M98: =LARGE(E98:K98,1) -> 90 | N98: =LARGE(E98:K98,2) -> 90 | O98: =L98-M98-N98 -> 450 | P98: =RANK(Tableau262[[#This Row],[SCORE Final 2024]],Tableau262[SCORE Final 2024],1) -> 31
B99: POMARES | C99: Valérie | D99: MONTPENSIER | E99: =_xlfn.IFNA(VLOOKUP(TRIM(CONCATENATE(Tableau262[[#This Row],[PRENOM]],Tableau262[[#This Row],[NOM]])),'T1'!$C$5:$E$106,3,FALSE),90) -> 90 | F99: =_xlfn.IFNA(VLOOKUP(TRIM(CONCATENATE(Tableau262[[#This Row],[PRENOM]],Tableau262[[#This Row],[NOM]])),'T2'!$C$5:$E$94,3,FALSE),90) -> 90 | G99: =_xlfn.IFNA(VLOOKUP(TRIM(CONCATENATE(Tableau262[[#This Row],[PRENOM]],Tableau262[[#This Row],[NOM]])),'T3'!$C$6:$E$115,3,FALSE),90) -> 90 | H99: =_xlfn.IFNA(VLOOKUP(TRIM(CONCATENATE(Tableau262[[#This Row],[PRENOM]],Tableau262[[#This Row],[NOM]])),'T4'!$C$5:$E$100,3,FALSE),90) -> 90 | I99: =_xlfn.IFNA(VLOOKUP(TRIM(CONCATENATE(Tableau262[[#This Row],[PRENOM]],Tableau262[[#This Row],[NOM]])),'T5'!$C$5:$E$115,3,FALSE),90) -> 90 | J99: =_xlfn.IFNA(VLOOKUP(TRIM(CONCATENATE(Tableau262[[#This Row],[PRENOM]],Tableau262[[#This Row],[NOM]])),'T6'!$C$5:$E$126,3,FALSE),90) -> 90 | K99: =_xlfn.IFNA(VLOOKUP(TRIM(CONCATENATE(Tableau262[[#This Row],[PRENOM]],Tableau262[[#This Row],[NOM]])),'T7'!$C$5:$E$113,3,FALSE),90) -> 90 | L99: =SUM(E99:K99) -> 630 | M99: =LARGE(E99:K99,1) -> 90 | N99: =LARGE(E99:K99,2) -> 90 | O99: =L99-M99-N99 -> 450 | P99: =RANK(Tableau262[[#This Row],[SCORE Final 2024]],Tableau262[SCORE Final 2024],1) -> 31
B100: ROUSSEAU | C100: Maryline | D100: RIOM | E100: =_xlfn.IFNA(VLOOKUP(TRIM(CONCATENATE(Tableau262[[#This Row],[PRENOM]],Tableau262[[#This Row],[NOM]])),'T1'!$C$5:$E$106,3,FALSE),90) -> 90 | F100: =_xlfn.IFNA(VLOOKUP(TRIM(CONCATENATE(Tableau262[[#This Row],[PRENOM]],Tableau262[[#This Row],[NOM]])),'T2'!$C$5:$E$94,3,FALSE),90) -> 90 | G100: =_xlfn.IFNA(VLOOKUP(TRIM(CONCATENATE(Tableau262[[#This Row],[PRENOM]],Tableau262[[#This Row],[NOM]])),'T3'!$C$6:$E$115,3,FALSE),90) -> 90 | H100: =_xlfn.IFNA(VLOOKUP(TRIM(CONCATENATE(Tableau262[[#This Row],[PRENOM]],Tableau262[[#This Row],[NOM]])),'T4'!$C$5:$E$100,3,FALSE),90) -> 90 | I100: =_xlfn.IFNA(VLOOKUP(TRIM(CONCATENATE(Tableau262[[#This Row],[PRENOM]],Tableau262[[#This Row],[NOM]])),'T5'!$C$5:$E$115,3,FALSE),90) -> 90 | J100: =_xlfn.IFNA(VLOOKUP(TRIM(CONCATENATE(Tableau262[[#This Row],[PRENOM]],Tableau262[[#This Row],[NOM]])),'T6'!$C$5:$E$126,3,FALSE),90) -> 90 | K100: =_xlfn.IFNA(VLOOKUP(TRIM(CONCATENATE(Tableau262[[#This Row],[PRENOM]],Tableau262[[#This Row],[NOM]])),'T7'!$C$5:$E$113,3,FALSE),90) -> 90 | L100: =SUM(E100:K100) -> 630 | M100: =LARGE(E100:K100,1) -> 90 | N100: =LARGE(E100:K100,2) -> 90 | O100: =L100-M100-N100 -> 450 | P100: =RANK(Tableau262[[#This Row],[SCORE Final 2024]],Tableau262[SCORE Final 2024],1) -> 31
B102: En rouge | C102: Premier score retiré
B103: En bleu | C103: Second score retiré

Sheet GENERAL EQUIPE
A1: ISAPP ANNEE 2026 GENERAL EQUIPE
B5: EQUIPES | C5: MONTPENSIER | D5: CHARADE | E5: MAURIAC | F5: MONT DORE | G5: LES VOLCANS | H5: VAL D'AUZON | I5: RIOM | J5: GLOBAL | K5: Colonne1
B6: RIOM | C6: ='T1'!$P7 -> 175 | D6: ='T2'!$P7 -> 183 | E6: ='T3'!$P7 -> 176 | F6: ='T4'!$P7 -> 194 | G6: ='T5'!$P7 -> 172 | H6: ='T6'!$P7 -> 178 | I6: ='T7'!$P7 -> 165 | J6: =SUM(C6:I6) -> 1243 | K6: 1
B7: GAZELEC CLERMONT | C7: ='T1'!$P8 -> 186 | D7: ='T2'!$P8 -> 184 | E7: ='T3'!$P8 -> 173 | F7: ='T4'!$P8 -> 199 | G7: ='T5'!$P8 -> 192 | H7: ='T6'!$P8 -> 205 | I7: ='T7'!$P8 -> 183 | J7: =SUM(C7:I7) -> 1322 | K7: 4
B8: MAURIAC | C8: ='T1'!$P12 -> 194 | D8: ='T2'!$P12 -> 204 | E8: ='T3'!$P12 -> 185 | F8: ='T4'!$P12 -> 203 | G8: ='T5'!$P12 -> 207 | H8: ='T6'!$P12 -> 207 | I8: ='T7'!$P12 -> 201 | J8: =SUM(C8:I8) -> 1401 | K8: 5
B9: VAL D'AUZON | C9: ='T1'!$P10 -> 180 | D9: ='T2'!$P10 -> 193 | E9: ='T3'!$P10 -> 175 | F9: ='T4'!$P10 -> 213 | G9: ='T5'!$P10 -> 187 | H9: ='T6'!$P10 -> 185 | I9: ='T7'!$P10 -> 182 | J9: =SUM(C9:I9) -> 1315 | K9: 2
B10: CHARADE | C10: ='T1'!$P11 -> 186 | D10: ='T2'!$P11 -> 189 | E10: ='T3'!$P11 -> 174 | F10: ='T4'!$P11 -> 208 | G10: ='T5'!$P11 -> 188 | H10: ='T6'!$P11 -> 192 | I10: ='T7'!$P11 -> 181 | J10: =SUM(C10:I10) -> 1318 | K10: 3
B11: MONTPENSIER | C11: ='T1'!$P13 -> 183 | D11: ='T2'!$P13 -> 270 | E11: ='T3'!$P13 -> 270 | F11: ='T4'!$P13 -> 238 | G11: ='T5'!$P13 -> 270 | H11: ='T6'!$P13 -> 190 | I11: ='T7'!$P13 -> 183 | J11: =SUM(C11:I11) -> 1604 | K11: 6
B12: GAZELEC MOULINS/VICHY | C12: ='T1'!$P9 -> 270 | D12: ='T2'!$P9 -> 270 | E12: ='T3'!$P9 -> 270 | F12: ='T4'!$P9 -> 270 | G12: ='T5'!$P9 -> 270 | H12: ='T6'!$P9 -> 270 | I12: ='T7'!$P9 -> 270 | J12: =SUM(C12:I12) -> 1890 | K12: 7

Sheet T1
A1: F P P - ISAPP T1 GOLF DE MONTPENSIER 26 MARS 2026
A3: RIOM
A4: NOM | B4: PRENOM | C4: Colonne1 | D4: Catégorie | E4: BRUT | G4: TOP 3 BRUT
A5: BRIDIER | B5: Elisabeth | C5: =TRIM(CONCATENATE(B5,A5)) -> ElisabethBRIDIER | D5: F | E5: 63 | G5: =SMALL(Tableau3[BRUT],1) -> 53 | J5: INDIVIDUEL DAMES | L5: SCORE Brut | M5: CLASSEMENT
A6: CLUZEL | B6: Jean Claude | C6: =TRIM(CONCATENATE(B6,A6)) -> Jean ClaudeCLUZEL | D6: M | E6: 64 | G6: =SMALL(Tableau3[BRUT],2) -> 61 | J6: {=IFERROR(INDEX(A$5:A$100, MATCH(1, (D$5:D$100="F")*(E$5:E$100=L6)*(COUNTIF(J$5:J5,A$5:A$100)=0), 0)),"")} -> BRIDIER | K6: {=IFERROR(INDEX(B$5:B$100, MATCH(1, (D$5:D$100="F")*(E$5:E$100=L6)*(COUNTIF(L$5:L5,E$5:E$100)=0), 0)),"")} -> Elisabeth | L6: {=IFERROR(SMALL(IF(D$6:D$100="F",E$6:E$100), ROW(A1)),"")} -> 63 | M6: 1 | O6: EQUIPES | P6: SCORE Brut | Q6: CLASSEMENT | S6: EQUIPES | T6: SCORE Brut | U6: CLASSEMENT
A7: JEANDREAU | B7: Alain | C7: =TRIM(CONCATENATE(B7,A7)) -> AlainJEANDREAU | D7: M | E7: 53 | G7: =SMALL(Tableau3[BRUT],3) -> 61 | J7: {=IFERROR(INDEX(A$6:A$100, MATCH(1, (D$6:D$100="F")*(E$6:E$100=L7)*(COUNTIF(J$5:J6,A$6:A$100)=0), 0)),"")} -> BOURNAT | K7: {=IFERROR(INDEX(B$6:B$100, MATCH(1, (D$6:D$100="F")*(E$6:E$100=L7)*(COUNTIF(K$5:K6,B$6:B$100)=0), 0)),"")} -> Christiane | L7: {=IFERROR(SMALL(IF((D$5:D$100="F")*(COUNTIF(L$5:L5,E$5:E$100)=0), E$5:E$100), ROW(A2)),"")} -> 63 | M7: 2 | O7: =A3 -> RIOM | P7: =SUM(G5:G7) -> 175 | Q7: =RANK(P7, P$7:P$13, 1) + COUNTIF(P$7:P7, P7) - 1 -> 1 | S7: =INDEX(O$7:O$13, MATCH(ROW(A1), Q$7:Q$13, 0)) -> RIOM | T7: =INDEX(P$7:P$13, MATCH(ROW(A1), Q$7:Q$13, 0)) -> 175 | U7: =ROW(A1) -> 1
A8: JUHLIEN | B8: Roland | C8: =TRIM(CONCATENATE(B8,A8)) -> RolandJUHLIEN | D8: M | E8: 61 | O8: =A15 -> GAZELEC CLERMONT | P8: =SUM(G15:G17) -> 186 | Q8: =RANK(P8, P$7:P$13, 1) + COUNTIF(P$7:P8, P8) - 1 -> 4 | S8: =INDEX(O$7:O$13, MATCH(ROW(A2), Q$7:Q$13, 0)) -> VAL D'AUZON | T8: =INDEX(P$7:P$13, MATCH(ROW(A2), Q$7:Q$13, 0)) -> 180 | U8: =ROW(A2) -> 2
A9: MACHAJ | B9: Jacky | C9: =TRIM(CONCATENATE(B9,A9)) -> JackyMACHAJ | D9: M | E9: 62 | O9: =A27 -> GAZELEC MOULINS/VICHY | P9: =SUM(G27:G29) -> 270 | Q9: =RANK(P9, P$7:P$13, 1) + COUNTIF(P$7:P9, P9) - 1 -> 7 | S9: =INDEX(O$7:O$13, MATCH(ROW(A3), Q$7:Q$13, 0)) -> MONTPENSIER | T9: =INDEX(P$7:P$13, MATCH(ROW(A3), Q$7:Q$13, 0)) -> 183 | U9: =ROW(A3) -> 3
A10: MOULIN | B10: Christian | C10: =TRIM(CONCATENATE(B10,A10)) -> ChristianMOULIN | D10: M | E10: 61 | J10: INDIVIDUEL MESSIEURS | L10: SCORE Brut | M10: CLASSEMENT | O10: =A35 -> VAL D'AUZON | P10: =SUM(G35:G37) -> 180 | Q10: =RANK(P10, P$7:P$13, 1) + COUNTIF(P$7:P10, P10) - 1 -> 2 | S10: =INDEX(O$7:O$13, MATCH(ROW(A4), Q$7:Q$13, 0)) -> GAZELEC CLERMONT | T10: =INDEX(P$7:P$13, MATCH(ROW(A4), Q$7:Q$13, 0)) -> 186 | U10: =ROW(A4) -> 4
A11: PEGEON | B11: Jacky | C11: =TRIM(CONCATENATE(B11,A11)) -> JackyPEGEON | D11: M | E11: 66 | J11: {=IFERROR(INDEX(A$5:A$100, MATCH(1, (D$5:D$100="M")*(E$5:E$100=L11)*(COUNTIF(J$10:J10,A$5:A$100)=0), 0)),"")} -> JEANDREAU | K11: {=IFERROR(INDEX(B$5:B$100, MATCH(1, (D$5:D$100="M")*(E$5:E$100=L11)*(COUNTIF(L$10:L10,E$5:E$100)=0), 0)),"")} -> Alain | L11: {=IFERROR(SMALL(IF(D$5:D$100="M",E$5:E$100), ROW(A1)),"")} -> 53 | M11: 1 | O11: =A47 -> CHARADE | P11: =SUM(G47:G49) -> 186 | Q11: =RANK(P11, P$7:P$13, 1) + COUNTIF(P$7:P11, P11) - 1 -> 5 | S11: =INDEX(O$7:O$13, MATCH(ROW(A5), Q$7:Q$13, 0)) -> CHARADE | T11: =INDEX(P$7:P$13, MATCH(ROW(A5), Q$7:Q$13, 0)) -> 186 | U11: =ROW(A5) -> 5
J12: {=IFERROR(INDEX(A$5:A$100, MATCH(1, (D$5:D$100="M")*(E$5:E$100=L12)*(COUNTIF(J$10:J11,A$5:A$100)=0), 0)),"")} -> BRUNEL | K12: {=IFERROR(INDEX(B$5:B$100, MATCH(1, (D$5:D$100="M")*(E$5:E$100=L12)*(COUNTIF(K$10:K11,B$5:B$100)=0), 0)),"")} -> Robert | L12: {=IFERROR(SMALL(IF(D$5:D$100="M",E$5:E$100), ROW(A2)),"")} -> 57 | M12: 2 | O12: =A58 -> MAURIAC | P12: =SUM(G58:G60) -> 194 | Q12: =RANK(P12, P$7:P$13, 1) + COUNTIF(P$7:P12, P12) - 1 -> 6 | S12: =INDEX(O$7:O$13, MATCH(ROW(A6), Q$7:Q$13, 0)) -> MAURIAC | T12: =INDEX(P$7:P$13, MATCH(ROW(A6), Q$7:Q$13, 0)) -> 194 | U12: =ROW(A6) -> 6
C13: =TRIM(CONCATENATE(B13,A13)) | J13: {=IFERROR(INDEX(A$5:A$100, MATCH(1, (D$5:D$100="M")*(E$5:E$100=L13)*(COUNTIF(J$10:J12,A$5:A$100)=0), 0)),"")} -> PERRIER | K13: {=IFERROR(INDEX(B$6:B$100, MATCH(1, (D$6:D$100="M")*(E$6:E$100=L13)*(COUNTIF(K$10:K12,B$6:B$100)=0), 0)),"")} -> Serge | L13: {=IFERROR(SMALL(IF(D$5:D$100="M",E$5:E$100), ROW(A3)),"")} -> 58 | M13: 3 | O13: =A68 -> MONTPENSIER | P13: =SUM(G68:G70) -> 183 | Q13: =RANK(P13, P$7:P$13, 1) + COUNTIF(P$7:P13, P13) - 1 -> 3 | S13: =INDEX(O$7:O$13, MATCH(ROW(A7), Q$7:Q$13, 0)) -> GAZELEC MOULINS/VICHY | T13: =INDEX(P$7:P$13, MATCH(ROW(A7), Q$7:Q$13, 0)) -> 270 | U13: =ROW(A7) -> 7
C14: =TRIM(CONCATENATE(B14,A14)) | G14: TOP 3 BRUT
A15: GAZELEC CLERMONT | G15: =SMALL(Tableau4[BRUT],1) -> 61
A16: NOM | B16: PRENOM | C16: Colonne1 | D16: Catégorie | E16: BRUT | G16: =SMALL(Tableau4[BRUT],2) -> 62 | J16: CONCOURS APPROCHE DAMES | L16: Distance | M16: Green N° 9
A17: BOURGIER | B17: Robert | C17: =TRIM(CONCATENATE(B17,A17)) -> RobertBOURGIER | D17: M | E17: 64 | G17: =SMALL(Tableau4[BRUT],3) -> 63 | J17: CARRER | K17: Jacqueline | L17: 2.96
A18: CAMBET | B18: Gérard | C18: =TRIM(CONCATENATE(B18,A18)) -> Gérard CAMBET | D18: M | E18: 63
A19: FROMAGE | B19: Gilles | C19: =TRIM(CONCATENATE(B19,A19)) -> GillesFROMAGE | D19: M | E19: 70 | J19: CONCOURS APPROCHE MESSIEURS | L19: Distance | M19: Green N° 9
A20: HESEL | B20: Jean Marc | C20: =TRIM(CONCATENATE(B20,A20)) -> Jean MarcHESEL | D20: M | E20: 62 | J20: RICHARD | K20: Jean Claude | L20: 1.12
A21: MANOUVRIER | B21: Michel | C21: =TRIM(CONCATENATE(B21,A21)) -> MichelMANOUVRIER | D21: M | E21: 64
A22: TIXIER | B22: Corinne | C22: =TRIM(CONCATENATE(B22,A22)) -> CorinneTIXIER | D22: F | E22: 76
A23: VESCOVI | B23: Gilles | C23: =TRIM(CONCATENATE(B23,A23)) -> GillesVESCOVI | D23: M | E23: 61
A24: VESCOVI | B24: Régine | C24: =TRIM(CONCATENATE(B24,A24)) -> RégineVESCOVI | D24: F | E24: 68
C25: =TRIM(CONCATENATE(B25,A25))
C26: =TRIM(CONCATENATE(B26,A26)) | G26: TOP 3 BRUT
A27: GAZELEC MOULINS/VICHY | G27: =SMALL(Tableau5[BRUT],1) -> 90
A28: NOM | B28: PRENOM | C28: Colonne1 | D28: Catégorie | E28: BRUT | G28: =SMALL(Tableau5[BRUT],2) -> 90
C29: =TRIM(CONCATENATE(B29,A29)) | E29: 90 | G29: =SMALL(Tableau5[BRUT],3) -> 90
C30: =TRIM(CONCATENATE(B30,A30)) | E30: 90
C31: =TRIM(CONCATENATE(B31,A31)) | E31: 90
C32: =TRIM(CONCATENATE(B32,A32)) | E32: 90
C33: =TRIM(CONCATENATE(B33,A33))
C34: =TRIM(CONCATENATE(B34,A34)) | G34: TOP 3 BRUT
A35: VAL D'AUZON | G35: =SMALL(Tableau6[BRUT],1) -> 57
A36: NOM | B36: PRENOM | C36: Colonne1 | D36: Catégorie | E36: BRUT | G36: =SMALL(Tableau6[BRUT],2) -> 59
A37: BRUNEL | B37: Robert | C37: =TRIM(CONCATENATE(B37,A37)) -> RobertBRUNEL | D37: M | E37: 57 | G37: =SMALL(Tableau6[BRUT],3) -> 64
A38: CIBERT GOTHON | B38: Michelle | C38: =TRIM(CONCATENATE(B38,A38)) -> MichelleCIBERT GOTHON | D38: F | E38: 67
A39: CUVIER | B39: Philippe | C39: =TRIM(CONCATENATE(B39,A39)) -> PhilippeCUVIER | D39: M | E39: 67
A40: FLEURY | B40: Bruno | C40: =TRIM(CONCATENATE(B40,A40)) -> BrunoFLEURY | D40: M | E40: 59
A41: LARIVIERE | B41: Ghislaine | C41: =TRIM(CONCATENATE(B41,A41)) -> Ghislaine LARIVIERE | D41: F | E41: 73
A42: LARIVIERE | B42: Jean Pierre | C42: =TRIM(CONCATENATE(B42,A42)) -> Jean PierreLARIVIERE | D42: M | E42: 64
A43: PIERROT | B43: Daniel | C43: =TRIM(CONCATENATE(B43,A43)) -> DanielPIERROT | D43: M | E43: 65
A44: MERCIER | B44: Claude | C44: =TRIM(CONCATENATE(B44,A44)) -> ClaudeMERCIER | D44: M | E44: 68
C45: =TRIM(CONCATENATE(B45,A45))
C46: =TRIM(CONCATENATE(B46,A46)) | G46: TOP 3 BRUT
A47: CHARADE | G47: =SMALL(Tableau7[BRUT],1) -> 58
A48: NOM | B48: PRENOM | C48: Colonne1 | D48: Catégorie | E48: BRUT | G48: =SMALL(Tableau7[BRUT],2) -> 64
A49: GRAVELIN | B49: Marc | C49: =TRIM(CONCATENATE(B49,A49)) -> MarcGRAVELIN | D49: M | E49: 64 | G49: =SMALL(Tableau7[BRUT],3) -> 64
A50: JOSSIER | B50: Gilles | C50: =TRIM(CONCATENATE(B50,A50)) -> GillesJOSSIER | D50: M | E50: 64
A51: LOUBAT | B51: Jean | C51: =TRIM(CONCATENATE(B51,A51)) -> JeanLOUBAT | D51: M | E51: 68
A52: MEYNIAL | B52: Elisabeth | C52: =TRIM(CONCATENATE(B52,A52)) -> ElisabethMEYNIAL | D52: F | E52: 65
A53: PERRIER | B53: Huguette | C53: =TRIM(CONCATENATE(B53,A53)) -> HuguettePERRIER | D53: F | E53: 68
A54: PERRIER | B54: Serge | C54: =TRIM(CONCATENATE(B54,A54)) -> SergePERRIER | D54: M | E54: 58
A55: ROBERT | B55: Serge | C55: =TRIM(CONCATENATE(B55,A55)) -> SergeROBERT | D55: M | E55: 65
C56: =TRIM(CONCATENATE(B56,A56))
C57: =TRIM(CONCATENATE(B57,A57)) | G57: TOP 3 BRUT
A58: MAURIAC | G58: =SMALL(Tableau8[BRUT],1) -> 64
A59: NOM | B59: PRENOM | C59: Colonne1 | D59: Catégorie | E59: BRUT | G59: =SMALL(Tableau8[BRUT],2) -> 64
A60: CARRER | B60: Philippe | C60: =TRIM(CONCATENATE(B60,A60)) -> PhilippeCARRER | D60: M | E60: 64 | G60: =SMALL(Tableau8[BRUT],3) -> 66
A61: CARRER | B61: Jacqueline | C61: =TRIM(CONCATENATE(B61,A61)) -> JacquelineCARRER | D61: F | E61: 66
A62: LABAUNE | B62: Michel | C62: =TRIM(CONCATENATE(B62,A62)) -> MichelLABAUNE | D62: M | E62: 68
A63: LAURENT | B63: Noël | C63: =TRIM(CONCATENATE(B63,A63)) -> NoëlLAURENT | D63: M | E63: 64
A64: MONCHAUX | B64: Marie Hélène | C64: =TRIM(CONCATENATE(B64,A64)) -> Marie HélèneMONCHAUX | D64: F | E64: 79
A65: VACHOT | B65: Martine | C65: =TRIM(CONCATENATE(B65,A65)) -> MartineVACHOT | D65: F | E65: 74
C66: =TRIM(CONCATENATE(B66,A66))
C67: =TRIM(CONCATENATE(B67,A67)) | G67: TOP 3 BRUT
A68: MONTPENSIER | G68: =SMALL(Tableau9[BRUT],1) -> 59
A69: NOM | B69: PRENOM | C69: Colonne1 | D69: Catégorie | E69: BRUT | G69: =SMALL(Tableau9[BRUT],2) -> 61
A70: BARON | B70: Yvette | C70: =TRIM(CONCATENATE(B70,A70)) -> YvetteBARON | D70: F | E70: 69 | G70: =SMALL(Tableau9[BRUT],3) -> 63
A71: BOURNAT | B71: Christiane | C71: =TRIM(CONCATENATE(B71,A71)) -> ChristianeBOURNAT | D71: F | E71: 63
A72: DUCHER | B72: Philippe | C72: =TRIM(CONCATENATE(B72,A72)) -> PhilippeDUCHER | D72: M | E72: 59
A73: FLECHE | B73: Agnés | C73: =TRIM(CONCATENATE(B73,A73)) -> AgnésFLECHE | D73: F | E73: 79
A74: MOUTH | B74: Martine | C74: =TRIM(CONCATENATE(B74,A74)) -> MartineMOUTH | D74: F | E74: 69
A75: RICHARD | B75: Jean Claude | C75: =TRIM(CONCATENATE(B75,A75)) -> Jean ClaudeRICHARD | D75: M | E75: 61
A76: RUSZNIEWSKI | B76: Sylvie | C76: =TRIM(CONCATENATE(B76,A76)) -> SylvieRUSZNIEWSKI | D76: F | E76: 71
A77: VIDAL | B77: Odile | C77: =TRIM(CONCATENATE(B77,A77)) -> OdileVIDAL | D77: F | E77: 73

Sheet T2
A1: F P P - ISAPP T2 GOLF DE CHARADE 23 AVRIL 2026
A3: RIOM
A4: NOM | B4: PRENOM | C4: Colonne1 | D4: Catégorie | E4: BRUT | G4: TOP 3 BRUT
A5: BRIDIER | B5: Elisabeth | C5: =TRIM(CONCATENATE(B5,A5)) -> ElisabethBRIDIER | D5: F | E5: 79 | G5: =SMALL(Tableau313[BRUT],1) -> 57 | J5: INDIVIDUEL DAMES | L5: SCORE Brut | M5: CLASSEMENT
A6: JEANDREAU | B6: Alain | C6: =TRIM(CONCATENATE(B6,A6)) -> AlainJEANDREAU | D6: M | E6: 57 | G6: =SMALL(Tableau313[BRUT],2) -> 62 | J6: {=IFERROR(INDEX(A$5:A$94, MATCH(1, (D$5:D$94="F")*(E$5:E$94=L6)*(COUNTIF(J$5:J5,A$5:A$94)=0), 0)),"")} -> VESCOVI | K6: {=IFERROR(INDEX(B$5:B$94, MATCH(1, (D$5:D$94="F")*(E$5:E$94=L6)*(COUNTIF(L$5:L5,E$5:E$94)=0), 0)),"")} -> Régine | L6: {=IFERROR(SMALL(IF(D$6:D$94="F",E$6:E$94), ROW(A1)),"")} -> 67 | M6: 1 | O6: EQUIPES | P6: SCORE Brut | Q6: CLASSEMENT | S6: EQUIPES | T6: SCORE Brut | U6: CLASSEMENT
A7: MACHAJ | B7: Jacky | C7: =TRIM(CONCATENATE(B7,A7)) -> JackyMACHAJ | D7: M | E7: 64 | G7: =SMALL(Tableau313[BRUT],3) -> 64 | J7: {=IFERROR(INDEX(A$6:A$94, MATCH(1, (D$6:D$94="F")*(E$6:E$94=L7)*(COUNTIF(J$5:J6,A$6:A$94)=0), 0)),"")} -> PERRIER | K7: {=IFERROR(INDEX(B$6:B$94, MATCH(1, (D$6:D$94="F")*(E$6:E$94=L7)*(COUNTIF(K$5:K6,B$6:B$94)=0), 0)),"")} -> Huguette | L7: {=IFERROR(SMALL(IF((D$5:D$94="F")*(COUNTIF(L$5:L5,E$5:E$94)=0), E$5:E$94), ROW(A2)),"")} -> 68 | M7: 2 | O7: =A3 -> RIOM | P7: =SUM(G5:G7) -> 183 | Q7: =RANK(P7, P$7:P$13, 1) + COUNTIF(P$7:P7, P7) - 1 -> 1 | S7: =INDEX(O$7:O$13, MATCH(ROW(A1), Q$7:Q$13, 0)) -> RIOM | T7: =INDEX(P$7:P$13, MATCH(ROW(A1), Q$7:Q$13, 0)) -> 183 | U7: =ROW(A1) -> 1 | V7: 179 | W7: =T7+V7 -> 362 | X7: 1
A8: MARCUCCI | B8: Serge | C8: =TRIM(CONCATENATE(B8,A8)) -> SergeMARCUCCI | D8: M | E8: 66 | O8: =A16 -> GAZELEC CLERMONT | P8: =SUM(G18:G20) -> 184 | Q8: =RANK(P8, P$7:P$13, 1) + COUNTIF(P$7:P8, P8) - 1 -> 2 | S8: =INDEX(O$7:O$13, MATCH(ROW(A2), Q$7:Q$13, 0)) -> GAZELEC CLERMONT | T8: =INDEX(P$7:P$13, MATCH(ROW(A2), Q$7:Q$13, 0)) -> 184 | U8: =ROW(A2) -> 2 | V8: 185 | W8: =T8+V8 -> 369 | X8: 2
A9: MOULIN | B9: Christian | C9: =TRIM(CONCATENATE(B9,A9)) -> ChristianMOULIN | D9: M | E9: 62 | L9: 77 | O9: =A26 -> GAZELEC M/VICHY | P9: =SUM(G28:G30) -> 270 | Q9: =RANK(P9, P$7:P$13, 1) + COUNTIF(P$7:P9, P9) - 1 -> 6 | S9: =INDEX(O$7:O$13, MATCH(ROW(A3), Q$7:Q$13, 0)) -> CHARADE | T9: =INDEX(P$7:P$13, MATCH(ROW(A3), Q$7:Q$13, 0)) -> 189 | U9: =ROW(A3) -> 3 | V9: 190 | W9: =T9+V9 -> 379 | X9: 3
A10: PEGEON | B10: Jacky | C10: =TRIM(CONCATENATE(B10,A10)) -> JackyPEGEON | D10: M | E10: 66 | J10: INDIVIDUEL MESSIEURS | L10: SCORE Brut | M10: CLASSEMENT | O10: =A33 -> VAL D'AUZON | P10: =SUM(G35:G37) -> 193 | Q10: =RANK(P10, P$7:P$13, 1) + COUNTIF(P$7:P10, P10) - 1 -> 4 | S10: =INDEX(O$7:O$13, MATCH(ROW(A4), Q$7:Q$13, 0)) -> VAL D'AUZON | T10: =INDEX(P$7:P$13, MATCH(ROW(A4), Q$7:Q$13, 0)) -> 193 | U10: =ROW(A4) -> 4 | V10: 184 | W10: =T10+V10 -> 377 | X10: 3
A11: ROSSI | B11: Annie | C11: =TRIM(CONCATENATE(B11,A11)) -> AnnieROSSI | D11: F | E11: 73 | J11: {=IFERROR(INDEX(A$5:A$94, MATCH(1, (D$5:D$94="M")*(E$5:E$94=L11)*(COUNTIF(J$10:J10,A$5:A$94)=0), 0)),"")} -> JEANDREAU | K11: {=IFERROR(INDEX(B$5:B$94, MATCH(1, (D$5:D$94="M")*(E$5:E$94=L11)*(COUNTIF(L$10:L10,E$5:E$94)=0), 0)),"")} -> Alain | L11: {=IFERROR(SMALL(IF(D$5:D$94="M",E$5:E$94), ROW(A1)),"")} -> 57 | M11: 1 | O11: =A49 -> CHARADE | P11: =SUM(G51:G53) -> 189 | Q11: =RANK(P11, P$7:P$13, 1) + COUNTIF(P$7:P11, P11) - 1 -> 3 | S11: =INDEX(O$7:O$13, MATCH(ROW(A5), Q$7:Q$13, 0)) -> MAURIAC | T11: =INDEX(P$7:P$13, MATCH(ROW(A5), Q$7:Q$13, 0)) -> 204 | U11: =ROW(A5) -> 5 | V11: 185 | W11: =T11+V11 -> 389 | X11: 4
J12: {=IFERROR(INDEX(A$5:A$94, MATCH(1, (D$5:D$94="M")*(E$5:E$94=L12)*(COUNTIF(J$10:J11,A$5:A$94)=0), 0)),"")} -> VESCOVI | K12: {=IFERROR(INDEX(B$5:B$94, MATCH(1, (D$5:D$94="M")*(E$5:E$94=L12)*(COUNTIF(K$10:K11,B$5:B$94)=0), 0)),"")} -> Gilles | L12: {=IFERROR(SMALL(IF(D$5:D$94="M",E$5:E$94), ROW(A2)),"")} -> 59 | M12: 2 | O12: =A59 -> MAURIAC | P12: =SUM(G61:G63) -> 204 | Q12: =RANK(P12, P$7:P$13, 1) + COUNTIF(P$7:P12, P12) - 1 -> 5 | S12: =INDEX(O$7:O$13, MATCH(ROW(A6), Q$7:Q$13, 0)) -> GAZELEC M/VICHY | T12: =INDEX(P$7:P$13, MATCH(ROW(A6), Q$7:Q$13, 0)) -> 270 | U12: =ROW(A6) -> 6 | V12: 204 | W12: =T12+V12 -> 474 | X12: 5
J13: {=IFERROR(INDEX(A$5:A$94, MATCH(1, (D$5:D$94="M")*(E$5:E$94=L13)*(COUNTIF(J$10:J12,A$5:A$94)=0), 0)),"")} -> PERRIER | K13: {=IFERROR(INDEX(B$6:B$94, MATCH(1, (D$6:D$94="M")*(E$6:E$94=L13)*(COUNTIF(K$10:K12,B$6:B$94)=0), 0)),"")} -> Serge | L13: {=IFERROR(SMALL(IF(D$5:D$94="M",E$5:E$94), ROW(A3)),"")} -> 59 | M13: 3 | O13: =A68 -> MONTPENSIER | P13: =SUM(G70:G72) -> 270 | Q13: =RANK(P13, P$7:P$13, 1) + COUNTIF(P$7:P13, P13) - 1 -> 7 | S13: =INDEX(O$7:O$13, MATCH(ROW(A7), Q$7:Q$13, 0)) -> MONTPENSIER | T13: =INDEX(P$7:P$13, MATCH(ROW(A7), Q$7:Q$13, 0)) -> 270 | U13: =ROW(A7) -> 7 | V13: 270 | W13: =T13+V13 -> 540 | X13: 6
J14: {=IFERROR(INDEX(A$5:A$94, MATCH(1, (D$5:D$94="M")*(E$5:E$94=L14)*(COUNTIF(J$10:J13,A$5:A$94)=0), 0)),"")} -> HESEL | K14: {=IFERROR(INDEX(B$6:B$94, MATCH(1, (D$6:D$94="M")*(E$6:E$94=L14)*(COUNTIF(K$10:K13,B$6:B$94)=0), 0)),"")} -> Jean Marc | L14: {=IFERROR(SMALL(IF(D$5:D$94="M",E$5:E$94), ROW(A4)),"")} -> 61 | M14: 3
A16: GAZELEC CLERMONT | J16: CONCOURS APPROCHE DAMES | L16: Distance | M16: Green N° 9
A17: NOM | B17: PRENOM | C17: Colonne1 | D17: Catégorie | E17: BRUT | G17: TOP 3 BRUT
A18: BOURGIER | B18: Robert | C18: =TRIM(CONCATENATE(B18,A18)) -> RobertBOURGIER | D18: M | E18: 64 | G18: =SMALL(Tableau414[BRUT],1) -> 59
A19: CAMBET | B19: Gérard | C19: =TRIM(CONCATENATE(B19,A19)) -> Gérard CAMBET | D19: M | E19: 64 | G19: =SMALL(Tableau414[BRUT],2) -> 61 | J19: CONCOURS APPROCHE MESSIEURS | L19: Distance | M19: Green N° 9
A20: HESEL | B20: Jean Marc | C20: =TRIM(CONCATENATE(B20,A20)) -> Jean MarcHESEL | D20: M | E20: 61 | G20: =SMALL(Tableau414[BRUT],3) -> 64
A21: MANOUVRIER | B21: Michel | C21: =TRIM(CONCATENATE(B21,A21)) -> MichelMANOUVRIER | D21: M | E21: 72
A22: VESCOVI | B22: Gilles | C22: =TRIM(CONCATENATE(B22,A22)) -> GillesVESCOVI | D22: M | E22: 59
A23: VESCOVI | B23: Régine | C23: =TRIM(CONCATENATE(B23,A23)) -> RégineVESCOVI | D23: F | E23: 67
A26: GAZELEC M/VICHY
A27: NOM | B27: PRENOM | C27: Colonne1 | D27: Catégorie | E27: BRUT | G27: TOP 3 BRUT
C28: =TRIM(CONCATENATE(B28,A28)) | D28: M | E28: 90 | G28: =SMALL(Tableau515[BRUT],1) -> 90
C29: =TRIM(CONCATENATE(B29,A29)) | D29: M | E29: 90 | G29: =SMALL(Tableau515[BRUT],2) -> 90
C30: =TRIM(CONCATENATE(B30,A30)) | D30: F | E30: 90 | G30: =SMALL(Tableau515[BRUT],3) -> 90
A33: VAL D'AUZON
A34: NOM | B34: PRENOM | C34: Colonne1 | D34: Catégorie | E34: BRUT | G34: TOP 3 BRUT
A35: ANAVOISARD | B35: Jacques | C35: =TRIM(CONCATENATE(B35,A35)) -> JacquesANAVOISARD | D35: M | E35: 70 | G35: =SMALL(Tableau616[BRUT],1) -> 64
A36: BRUNEL | B36: Robert | C36: =TRIM(CONCATENATE(B36,A36)) -> RobertBRUNEL | D36: M | E36: 64 | G36: =SMALL(Tableau616[BRUT],2) -> 64
A37: CIBERT GOTHON | B37: Michelle | C37: =TRIM(CONCATENATE(B37,A37)) -> MichelleCIBERT GOTHON | D37: F | E37: 71 | G37: =SMALL(Tableau616[BRUT],3) -> 65
A38: FAURIE | B38: Jean-Michel | C38: =TRIM(CONCATENATE(B38,A38)) -> Jean-MichelFAURIE | D38: M | E38: 69
A39: FLEURY | B39: Bruno | C39: =TRIM(CONCATENATE(B39,A39)) -> BrunoFLEURY | D39: M | E39: 64
A40: GEBRILLAT | B40: Maël | C40: =TRIM(CONCATENATE(B40,A40)) -> MaëlGEBRILLAT | D40: M | E40: 68
A41: LARIVIERE | B41: Ghislaine | C41: =TRIM(CONCATENATE(B41,A41)) -> Ghislaine LARIVIERE | D41: F | E41: 75
A42: LAVEDIAU | B42: Serge | C42: =TRIM(CONCATENATE(B42,A42)) -> SergeLAVEDIAU | D42: M | E42: 85
A43: MERCIER | B43: Claude | C43: =TRIM(CONCATENATE(B43,A43)) -> ClaudeMERCIER | D43: M | E43: 68
A44: MOUTREUX | B44: Jean Pierre | C44: =TRIM(CONCATENATE(B44,A44)) -> Jean PierreMOUTREUX | D44: M | E44: 77
A45: SOUTHON | B45: Sylvie | C45: =TRIM(CONCATENATE(B45,A45)) -> SylvieSOUTHON | D45: F | E45: 85
A46: VEDEL | B46: Daniel | C46: =TRIM(CONCATENATE(B46,A46)) -> DanielVEDEL | D46: M | E46: 65
C47: =TRIM(CONCATENATE(B47,A47))
C48: =TRIM(CONCATENATE(B48,A48))
A49: CHARADE
A50: NOM | B50: PRENOM | C50: Colonne1 | D50: Catégorie | E50: BRUT | G50: TOP 3 BRUT
A51: GRAVELIN | B51: Marc | C51: =TRIM(CONCATENATE(B51,A51)) -> MarcGRAVELIN | D51: M | E51: 68 | G51: =SMALL(Tableau717[BRUT],1) -> 59
A52: JOSSIER | B52: Gilles | C52: =TRIM(CONCATENATE(B52,A52)) -> GillesJOSSIER | D52: M | E52: 63 | G52: =SMALL(Tableau717[BRUT],2) -> 63
A53: MEYNIAL | B53: Elisabeth | C53: =TRIM(CONCATENATE(B53,A53)) -> ElisabethMEYNIAL | D53: F | E53: 70 | G53: =SMALL(Tableau717[BRUT],3) -> 67
A54: NEYRIAL | B54: Pierre | C54: =TRIM(CONCATENATE(B54,A54)) -> PierreNEYRIAL | D54: M | E54: 67
A55: PERRIER | B55: Huguette | C55: =TRIM(CONCATENATE(B55,A55)) -> HuguettePERRIER | D55: F | E55: 68
A56: PERRIER | B56: Serge | C56: =TRIM(CONCATENATE(B56,A56)) -> SergePERRIER | D56: M | E56: 59
C57: =TRIM(CONCATENATE(B57,A57))
C58: =TRIM(CONCATENATE(B58,A58))
A59: MAURIAC
A60: NOM | B60: PRENOM | C60: Colonne1 | D60: Catégorie | E60: BRUT | G60: TOP 3 BRUT
A61: CARRER | B61: Jacqueline | C61: =TRIM(CONCATENATE(B61,A61)) -> JacquelineCARRER | D61: F | E61: 69 | G61: =SMALL(Tableau818[BRUT],1) -> 66
A62: LAURENT | B62: Noël | C62: =TRIM(CONCATENATE(B62,A62)) -> NoëlLAURENT | D62: M | E62: 69 | G62: =SMALL(Tableau818[BRUT],2) -> 69
A63: RAYNIERE | B63: Pierre Jean | C63: =TRIM(CONCATENATE(B63,A63)) -> Pierre JeanRAYNIERE | D63: M | E63: 76 | G63: =SMALL(Tableau818[BRUT],3) -> 69
A64: RODDE | B64: Jean Louis | C64: =TRIM(CONCATENATE(B64,A64)) -> Jean LouisRODDE | D64: M | E64: 66
A65: MONCHAUX | B65: Marie Hélène | C65: =TRIM(CONCATENATE(B65,A65)) -> Marie HélèneMONCHAUX | D65: F | E65: 89
C66: =TRIM(CONCATENATE(B66,A66))
C67: =TRIM(CONCATENATE(B67,A67))
A68: MONTPENSIER
A69: NOM | B69: PRENOM | C69: Colonne1 | D69: Catégorie | E69: BRUT | G69: TOP 3 BRUT
C70: =TRIM(CONCATENATE(B70,A70)) | D70: F | E70: 90 | G70: =SMALL(Tableau919[BRUT],1) -> 90
C71: =TRIM(CONCATENATE(B71,A71)) | D71: F | E71: 90 | G71: =SMALL(Tableau919[BRUT],2) -> 90
C72: =TRIM(CONCATENATE(B72,A72)) | D72: F | E72: 90 | G72: =SMALL(Tableau919[BRUT],3) -> 90

Sheet T3
A1: F P P - ISAPP T3 GOLF DE MAURIAC 4 JUIN 2026
A3: RIOM
A4: NOM | B4: PRENOM | C4: Colonne1 | D4: Catégorie | E4: BRUT | G4: TOP 3 BRUT
A5: BRIDIER | B5: Elisabeth | C5: =TRIM(CONCATENATE(B5,A5)) -> ElisabethBRIDIER | D5: F | E5: 70 | G5: =SMALL(Tableau31321[BRUT],1) -> 57 | J5: INDIVIDUEL DAMES | L5: SCORE Brut | M5: CLASSEMENT
A6: CLUZEL | B6: Jean Claude | C6: =TRIM(CONCATENATE(B6,A6)) -> Jean ClaudeCLUZEL | D6: M | E6: 57 | G6: =SMALL(Tableau31321[BRUT],2) -> 59 | J6: {=IFERROR(INDEX(A$6:A$109, MATCH(1, (D$6:D$109="F")*(E$6:E$109=L6)*(COUNTIF(J$5:J5,A$6:A$109)=0), 0)),"")} -> VESCOVI | K6: {=IFERROR(INDEX(B$6:B$109, MATCH(1, (D$6:D$109="F")*(E$6:E$109=L6)*(COUNTIF(L$5:L5,E$6:E$109)=0), 0)),"")} -> Régine | L6: {=IFERROR(SMALL(IF(D$6:D$109="F",E$6:E$109), ROW(A1)),"")} -> 65 | M6: 1 | O6: EQUIPES | P6: SCORE Brut | Q6: CLASSEMENT | S6: EQUIPES | T6: SCORE Brut | U6: CLASSEMENT
A7: JEANDREAU | B7: Alain | C7: =TRIM(CONCATENATE(B7,A7)) -> AlainJEANDREAU | D7: M | E7: 59 | G7: =SMALL(Tableau31321[BRUT],3) -> 60 | J7: {=IFERROR(INDEX(A$6:A$109, MATCH(1, (D$6:D$109="F")*(E$6:E$109=L7)*(COUNTIF(J$5:J6,A$6:A$109)=0), 0)),"")} -> HEBERT | K7: {=IFERROR(INDEX(B$6:B$109, MATCH(1, (D$6:D$109="F")*(E$6:E$109=L7)*(COUNTIF(K$5:K6,B$6:B$109)=0), 0)),"")} -> Françoise | L7: {=IFERROR(SMALL(IF((D$6:D$109="F")*(COUNTIF(L$5:L5,E$6:E$109)=0), E$6:E$109), ROW(A2)),"")} -> 67 | M7: 2 | O7: =A3 -> RIOM | P7: =SUM(G5:G7) -> 176 | Q7: =RANK(P7, P$7:P$13, 1) + COUNTIF(P$7:P7, P7) - 1 -> 4 | S7: =INDEX(O$7:O$13, MATCH(ROW(A1), Q$7:Q$13, 0)) -> GAZELEC CLERMONT | T7: =INDEX(P$7:P$13, MATCH(ROW(A1), Q$7:Q$13, 0)) -> 173 | U7: =ROW(A1) -> 1
A8: JUHLIEN | B8: Roland | C8: =TRIM(CONCATENATE(B8,A8)) -> RolandJUHLIEN | D8: M | E8: 60 | J8: {=IFERROR(INDEX(A$6:A$109, MATCH(1, (D$6:D$109="F")*(E$6:E$109=L8)*(COUNTIF(J$5:J7,A$6:A$109)=0), 0)),"")} -> PERRIER | K8: {=IFERROR(INDEX(B$6:B$109, MATCH(1, (D$6:D$109="F")*(E$6:E$109=L8)*(COUNTIF(K$5:K7,B$6:B$109)=0), 0)),"")} -> Huguette | L8: {=IFERROR(SMALL(IF((D$6:D$109="F")*(COUNTIF(L$5:L6,E$6:E$109)=0), E$6:E$109), ROW(A3)),"")} -> 71 | M8: 3 | O8: =A19 -> GAZELEC CLERMONT | P8: =SUM(G21:G23) -> 173 | Q8: =RANK(P8, P$7:P$13, 1) + COUNTIF(P$7:P8, P8) - 1 -> 1 | S8: =INDEX(O$7:O$13, MATCH(ROW(A2), Q$7:Q$13, 0)) -> CHARADE | T8: =INDEX(P$7:P$13, MATCH(ROW(A2), Q$7:Q$13, 0)) -> 174 | U8: =ROW(A2) -> 2
A9: KUCHCIK | B9: Joëlle | C9: =TRIM(CONCATENATE(B9,A9)) -> JoëlleKUCHCIK | D9: F | E9: 78 | O9: =A32 -> GAZELEC MOULINS/VICHY | P9: =SUM(G34:G36) -> 270 | Q9: =RANK(P9, P$7:P$13, 1) + COUNTIF(P$7:P9, P9) - 1 -> 6 | S9: =INDEX(O$7:O$13, MATCH(ROW(A3), Q$7:Q$13, 0)) -> VAL D'AUZON | T9: =INDEX(P$7:P$13, MATCH(ROW(A3), Q$7:Q$13, 0)) -> 175 | U9: =ROW(A3) -> 3
A10: MACHAJ | B10: Jacky | C10: =TRIM(CONCATENATE(B10,A10)) -> JackyMACHAJ | D10: M | E10: 62 | J10: INDIVIDUEL MESSIEURS | L10: SCORE Brut | M10: CLASSEMENT | O10: =A40 -> VAL D'AUZON | P10: =SUM(G42:G44) -> 175 | Q10: =RANK(P10, P$7:P$13, 1) + COUNTIF(P$7:P10, P10) - 1 -> 3 | S10: =INDEX(O$7:O$13, MATCH(ROW(A4), Q$7:Q$13, 0)) -> RIOM | T10: =INDEX(P$7:P$13, MATCH(ROW(A4), Q$7:Q$13, 0)) -> 176 | U10: =ROW(A4) -> 4
A11: MOULIN | B11: Christian | C11: =TRIM(CONCATENATE(B11,A11)) -> ChristianMOULIN | D11: M | E11: 60 | J11: {=IFERROR(INDEX(A$6:A$109, MATCH(1, (D$6:D$109="M")*(E$6:E$109=L11)*(COUNTIF(J$10:J10,A$6:A$109)=0), 0)),"")} -> RODDE | K11: {=IFERROR(INDEX(B$6:B$109, MATCH(1, (D$6:D$109="M")*(E$6:E$109=L11)*(COUNTIF(L$10:L10,E$6:E$109)=0), 0)),"")} -> Jean Louis | L11: {=IFERROR(SMALL(IF(D$6:D$109="M",E$6:E$109), ROW(A1)),"")} -> 53 | M11: 1 | O11: =A56 -> CHARADE | P11: =SUM(G58:G60) -> 174 | Q11: =RANK(P11, P$7:P$13, 1) + COUNTIF(P$7:P11, P11) - 1 -> 2 | S11: =INDEX(O$7:O$13, MATCH(ROW(A5), Q$7:Q$13, 0)) -> MAURIAC | T11: =INDEX(P$7:P$13, MATCH(ROW(A5), Q$7:Q$13, 0)) -> 185 | U11: =ROW(A5) -> 5
A12: PEGEON | B12: Jacky | C12: =TRIM(CONCATENATE(B12,A12)) -> JackyPEGEON | D12: M | E12: 73 | J12: {=IFERROR(INDEX(A$6:A$109, MATCH(1, (D$6:D$109="M")*(E$6:E$109=L12)*(COUNTIF(J$10:J11,A$6:A$109)=0), 0)),"")} -> BOURGIER | K12: {=IFERROR(INDEX(B$6:B$109, MATCH(1, (D$6:D$109="M")*(E$6:E$109=L12)*(COUNTIF(K$10:K11,B$6:B$109)=0), 0)),"")} -> Robert | L12: {=IFERROR(SMALL(IF(D$6:D$109="M",E$6:E$109), ROW(A2)),"")} -> 56 | M12: 2 | O12: =A69 -> MAURIAC | P12: =SUM(G71:G73) -> 185 | Q12: =RANK(P12, P$7:P$13, 1) + COUNTIF(P$7:P12, P12) - 1 -> 5 | S12: =INDEX(O$7:O$13, MATCH(ROW(A6), Q$7:Q$13, 0)) -> GAZELEC MOULINS/VICHY | T12: =INDEX(P$7:P$13, MATCH(ROW(A6), Q$7:Q$13, 0)) -> 270 | U12: =ROW(A6) -> 6
A13: ROSSI | B13: Annie | C13: =TRIM(CONCATENATE(B13,A13)) -> AnnieROSSI | D13: F | E13: 77 | J13: {=IFERROR(INDEX(A$6:A$109, MATCH(1, (D$6:D$109="M")*(E$6:E$109=L13)*(COUNTIF(J$10:J12,A$6:A$109)=0), 0)),"")} -> JOSSIER | K13: {=IFERROR(INDEX(B$6:B$109, MATCH(1, (D$6:D$109="M")*(E$6:E$109=L13)*(COUNTIF(K$10:K12,B$6:B$109)=0), 0)),"")} -> Gilles | L13: {=IFERROR(SMALL(IF(D$6:D$109="M",E$6:E$109), ROW(A3)),"")} -> 56 | M13: 3 | O13: =A82 -> MONTPENSIER | P13: =SUM(G84:G86) -> 270 | Q13: =RANK(P13, P$7:P$13, 1) + COUNTIF(P$7:P13, P13) - 1 -> 7 | S13: =INDEX(O$7:O$13, MATCH(ROW(A7), Q$7:Q$13, 0)) -> MONTPENSIER | T13: =INDEX(P$7:P$13, MATCH(ROW(A7), Q$7:Q$13, 0)) -> 270 | U13: =ROW(A7) -> 7
J16: CONCOURS APPROCHE DAMES | L16: Distance | M16: Green N° 6
J17: BRIDIER | K17: Elisabeth | L17: 2,29 m
C18: =TRIM(CONCATENATE(B18,A18))
A19: GAZELEC CLERMONT | J19: CONCOURS APPROCHE MESSIEURS | L19: Distance | M19: Green N° 6
A20: NOM | B20: PRENOM | C20: Colonne1 | D20: Catégorie | E20: BRUT | G20: TOP 3 BRUT | J20: JUHLIEN | K20: Roland | L20: 10 cm
A21: BOURGIER | B21: Robert | C21: =TRIM(CONCATENATE(B21,A21)) -> RobertBOURGIER | D21: M | E21: 56 | G21: =SMALL(Tableau41422[BRUT],1) -> 56
A22: CAMBET | B22: Gérard | C22: =TRIM(CONCATENATE(B22,A22)) -> GérardCAMBET | D22: M | E22: 60 | G22: =SMALL(Tableau41422[BRUT],2) -> 57
A23: FONTANON | B23: Serge | C23: =TRIM(CONCATENATE(B23,A23)) -> SergeFONTANON | D23: M | E23: 70 | G23: =SMALL(Tableau41422[BRUT],3) -> 60
A24: FROMAGE | B24: Gilles | C24: =TRIM(CONCATENATE(B24,A24)) -> GillesFROMAGE | D24: M | E24: 76
A25: HESEL | B25: Jean Marc | C25: =TRIM(CONCATENATE(B25,A25)) -> Jean MarcHESEL | D25: M | E25: 64
A26: VESCOVI | B26: Gilles | C26: =TRIM(CONCATENATE(B26,A26)) -> GillesVESCOVI | D26: M | E26: 57
A27: VESCOVI | B27: Régine | C27: =TRIM(CONCATENATE(B27,A27)) -> RégineVESCOVI | D27: F | E27: 65
C28: =TRIM(CONCATENATE(B28,A28))
C29: =TRIM(CONCATENATE(B29,A29))
C30: =TRIM(CONCATENATE(B30,A30))
C31: =TRIM(CONCATENATE(B31,A31))
A32: GAZELEC MOULINS/VICHY
A33: NOM | B33: PRENOM | C33: Colonne1 | D33: Catégorie | E33: BRUT | G33: TOP 3 BRUT
C34: =TRIM(CONCATENATE(B34,A34)) | E34: 90 | G34: =SMALL(Tableau51523[BRUT],1) -> 90
C35: =TRIM(CONCATENATE(B35,A35)) | E35: 90 | G35: =SMALL(Tableau51523[BRUT],2) -> 90
C36: =TRIM(CONCATENATE(B36,A36)) | E36: 90 | G36: =SMALL(Tableau51523[BRUT],3) -> 90
C37: =TRIM(CONCATENATE(B37,A37)) | E37: 90
C38: =TRIM(CONCATENATE(B38,A38))
C39: =TRIM(CONCATENATE(B39,A39))
A40: VAL D'AUZON
A41: NOM | B41: PRENOM | C41: Colonne1 | D41: Catégorie | E41: BRUT | G41: TOP 3 BRUT
A42: ANAVOISARD | B42: Jacques | C42: =TRIM(CONCATENATE(B42,A42)) -> JacquesANAVOISARD | D42: M | E42: 70 | G42: =SMALL(Tableau61624[BRUT],1) -> 57
A43: BRUNEL | B43: Robert | C43: =TRIM(CONCATENATE(B43,A43)) -> RobertBRUNEL | D43: M | E43: 57 | G43: =SMALL(Tableau61624[BRUT],2) -> 59
A44: CIBERT GOTHON | B44: Michelle | C44: =TRIM(CONCATENATE(B44,A44)) -> MichelleCIBERT GOTHON | D44: F | E44: 78 | G44: =SMALL(Tableau61624[BRUT],3) -> 59
A45: CUVIER | B45: Philippe | C45: =TRIM(CONCATENATE(B45,A45)) -> PhilippeCUVIER | D45: M | E45: 59
A46: FAURIE | B46: Jean-Michel | C46: =TRIM(CONCATENATE(B46,A46)) -> Jean-MichelFAURIE | D46: M | E46: 67
A47: FLEURY | B47: Bruno | C47: =TRIM(CONCATENATE(B47,A47)) -> BrunoFLEURY | D47: M | E47: 63
A48: FOURNIER | B48: Philippe | C48: =TRIM(CONCATENATE(B48,A48)) -> PhilippeFOURNIER | D48: M | E48: 59
A49: MERCIER | B49: Claude | C49: =TRIM(CONCATENATE(B49,A49)) -> ClaudeMERCIER | D49: M | E49: 64
A50: MOUTREUX | B50: Jean Pierre | C50: =TRIM(CONCATENATE(B50,A50)) -> Jean PierreMOUTREUX | D50: M | E50: 73
A51: PIERROT | B51: Daniel | C51: =TRIM(CONCATENATE(B51,A51)) -> DanielPIERROT | D51: M | E51: 60
A52: VEDEL | B52: Daniel | C52: =TRIM(CONCATENATE(B52,A52)) -> DanielVEDEL | D52: M | E52: 68
C53: =TRIM(CONCATENATE(B53,A53))
C54: =TRIM(CONCATENATE(B54,A54))
C55: =TRIM(CONCATENATE(B55,A55))
A56: CHARADE
A57: NOM | B57: PRENOM | C57: Colonne1 | D57: Catégorie | E57: BRUT | G57: TOP 3 BRUT
A58: GAILLARD | B58: Hervé | C58: =TRIM(CONCATENATE(B58,A58)) -> HervéGAILLARD | D58: M | E58: 60 | G58: =SMALL(Tableau71725[BRUT],1) -> 56
A59: GRAVELIN | B59: Marc | C59: =TRIM(CONCATENATE(B59,A59)) -> MarcGRAVELIN | D59: M | E59: 74 | G59: =SMALL(Tableau71725[BRUT],2) -> 58
A60: JOSSIER | B60: Gilles | C60: =TRIM(CONCATENATE(B60,A60)) -> GillesJOSSIER | D60: M | E60: 56 | G60: =SMALL(Tableau71725[BRUT],3) -> 60
A61: LOUBAT | B61: Jean | C61: =TRIM(CONCATENATE(B61,A61)) -> JeanLOUBAT | D61: M | E61: 67
A62: MEYNIAL | B62: Elisabeth | C62: =TRIM(CONCATENATE(B62,A62)) -> ElisabethMEYNIAL | D62: F | E62: 70
A63: PERRIER | B63: Huguette | C63: =TRIM(CONCATENATE(B63,A63)) -> HuguettePERRIER | D63: F | E63: 71
A64: PERRIER | B64: Serge | C64: =TRIM(CONCATENATE(B64,A64)) -> SergePERRIER | D64: M | E64: 58
C65: =TRIM(CONCATENATE(B65,A65))
C66: =TRIM(CONCATENATE(B66,A66))
C67: =TRIM(CONCATENATE(B67,A67))
C68: =TRIM(CONCATENATE(B68,A68))
A69: MAURIAC
A70: NOM | B70: PRENOM | C70: Colonne1 | D70: Catégorie | E70: BRUT | G70: TOP 3 BRUT
A71: BENAZECH | B71: Didier | C71: =TRIM(CONCATENATE(B71,A71)) -> DidierBENAZECH | D71: M | E71: 65 | G71: =SMALL(Tableau81826[BRUT],1) -> 53
A72: HEBERT | B72: Françoise | C72: =TRIM(CONCATENATE(B72,A72)) -> FrançoiseHEBERT | D72: F | E72: 67 | G72: =SMALL(Tableau81826[BRUT],2) -> 65
A73: LABAUNE | B73: Michel | C73: =TRIM(CONCATENATE(B73,A73)) -> MichelLABAUNE | D73: M | E73: 68 | G73: =SMALL(Tableau81826[BRUT],3) -> 67
A74: MAURIO | B74: Patrice | C74: =TRIM(CONCATENATE(B74,A74)) -> PatriceMAURIO | D74: M | E74: 67
A75: RAYNIERE | B75: Pierre Jean | C75: =TRIM(CONCATENATE(B75,A75)) -> Pierre JeanRAYNIERE | D75: M | E75: 70
A76: RODDE | B76: Jean Louis | C76: =TRIM(CONCATENATE(B76,A76)) -> Jean LouisRODDE | D76: M | E76: 53
C77: =TRIM(CONCATENATE(B77,A77))
C78: =TRIM(CONCATENATE(B78,A78))
C79: =TRIM(CONCATENATE(B79,A79))
C81: =TRIM(CONCATENATE(B81,A81))
A82: MONTPENSIER
A83: NOM | B83: PRENOM | C83: Colonne1 | D83: Catégorie | E83: BRUT | G83: TOP 3 BRUT
C84: =TRIM(CONCATENATE(B84,A84)) | D84: F | E84: 90 | G84: =SMALL(Tableau91927[BRUT],1) -> 90
C85: =TRIM(CONCATENATE(B85,A85)) | D85: F | E85: 90 | G85: =SMALL(Tableau91927[BRUT],2) -> 90
C86: =TRIM(CONCATENATE(B86,A86)) | D86: F | E86: 90 | G86: =SMALL(Tableau91927[BRUT],3) -> 90

Sheet T4
A1: F P P - ISAPP T4 GOLF DU MONT DORE 18 JUIN 2026
A3: RIOM
A4: NOM | B4: PRENOM | C4: Colonne1 | D4: Catégorie | E4: BRUT | G4: TOP 3 BRUT
A5: BRIDIER | B5: Elisabeth | C5: =TRIM(CONCATENATE(B5,A5)) -> ElisabethBRIDIER | D5: F | E5: 78 | G5: =SMALL(Tableau3132129[BRUT],1) -> 62 | J5: INDIVIDUEL DAMES | L5: SCORE Brut | M5: CLASSEMENT
A6: JEANDREAU | B6: Alain | C6: =TRIM(CONCATENATE(B6,A6)) -> AlainJEANDREAU | D6: M | E6: 62 | G6: =SMALL(Tableau3132129[BRUT],2) -> 63 | J6: {=IFERROR(INDEX(A$5:A$94, MATCH(1, (D$5:D$94="F")*(E$5:E$94=L6)*(COUNTIF(J$5:J5,A$5:A$94)=0), 0)),"")} -> CIBERT GOTHON | K6: {=IFERROR(INDEX(B$5:B$94, MATCH(1, (D$5:D$94="F")*(E$5:E$94=L6)*(COUNTIF(L$5:L5,E$5:E$94)=0), 0)),"")} -> Michelle | L6: {=IFERROR(SMALL(IF(D$6:D$94="F",E$6:E$94), ROW(A1)),"")} -> 69 | M6: 1 | O6: EQUIPES | P6: SCORE Brut | Q6: CLASSEMENT | S6: EQUIPES | T6: SCORE Brut | U6: CLASSEMENT
A7: JUHLIEN | B7: Roland | C7: =TRIM(CONCATENATE(B7,A7)) -> RolandJUHLIEN | D7: M | E7: 69 | G7: =SMALL(Tableau3132129[BRUT],3) -> 69 | J7: {=IFERROR(INDEX(A$6:A$94, MATCH(1, (D$6:D$94="F")*(E$6:E$94=L7)*(COUNTIF(J$5:J6,A$6:A$94)=0), 0)),"")} -> FLORENCIO | K7: {=IFERROR(INDEX(B$6:B$94, MATCH(1, (D$6:D$94="F")*(E$6:E$94=L7)*(COUNTIF(K$5:K6,B$6:B$94)=0), 0)),"")} -> Janine | L7: {=IFERROR(SMALL(IF((D$5:D$94="F")*(COUNTIF(L$5:L5,E$5:E$94)=0), E$5:E$94), ROW(A2)),"")} -> 71 | M7: 2 | O7: =A3 -> RIOM | P7: =SUM(G5:G7) -> 194 | Q7: =RANK(P7, P$7:P$13, 1) + COUNTIF(P$7:P7, P7) - 1 -> 1 | S7: =INDEX(O$7:O$13, MATCH(ROW(A1), Q$7:Q$13, 0)) -> RIOM | T7: =INDEX(P$7:P$13, MATCH(ROW(A1), Q$7:Q$13, 0)) -> 194 | U7: =ROW(A1) -> 1
A8: MACHAJ | B8: Jacky | C8: =TRIM(CONCATENATE(B8,A8)) -> JackyMACHAJ | D8: M | E8: 63 | J8: DOMY | K8: Monique | L8: 71 | M8: 3 | O8: =A15 -> GAZELEC CLERMONT | P8: =SUM(G17:G19) -> 199 | Q8: =RANK(P8, P$7:P$13, 1) + COUNTIF(P$7:P8, P8) - 1 -> 2 | S8: =INDEX(O$7:O$13, MATCH(ROW(A2), Q$7:Q$13, 0)) -> GAZELEC CLERMONT | T8: =INDEX(P$7:P$13, MATCH(ROW(A2), Q$7:Q$13, 0)) -> 199 | U8: =ROW(A2) -> 2
A9: ROSSI | B9: Annie | C9: =TRIM(CONCATENATE(B9,A9)) -> AnnieROSSI | D9: F | E9: 77 | O9: =A31 -> GAZELEC MOULINS/VICHY | P9: =SUM(G32:G34) -> 270 | Q9: =RANK(P9, P$7:P$13, 1) + COUNTIF(P$7:P9, P9) - 1 -> 7 | S9: =INDEX(O$7:O$13, MATCH(ROW(A3), Q$7:Q$13, 0)) -> MAURIAC | T9: =INDEX(P$7:P$13, MATCH(ROW(A3), Q$7:Q$13, 0)) -> 203 | U9: =ROW(A3) -> 3
C10: =TRIM(CONCATENATE(B10,A10)) | J10: INDIVIDUEL MESSIEURS | L10: SCORE Brut | M10: CLASSEMENT | O10: =A39 -> VAL D'AUZON | P10: =SUM(G40:G42) -> 213 | Q10: =RANK(P10, P$7:P$13, 1) + COUNTIF(P$7:P10, P10) - 1 -> 5 | S10: =INDEX(O$7:O$13, MATCH(ROW(A4), Q$7:Q$13, 0)) -> CHARADE | T10: =INDEX(P$7:P$13, MATCH(ROW(A4), Q$7:Q$13, 0)) -> 208 | U10: =ROW(A4) -> 4
C11: =TRIM(CONCATENATE(B11,A11)) | J11: {=IFERROR(INDEX(A$5:A$94, MATCH(1, (D$5:D$94="M")*(E$5:E$94=L11)*(COUNTIF(J$10:J10,A$5:A$94)=0), 0)),"")} -> JOSSIER | K11: {=IFERROR(INDEX(B$5:B$94, MATCH(1, (D$5:D$94="M")*(E$5:E$94=L11)*(COUNTIF(L$10:L10,E$5:E$94)=0), 0)),"")} -> Gilles | L11: {=IFERROR(SMALL(IF(D$5:D$94="M",E$5:E$94), ROW(A1)),"")} -> 59 | M11: 1 | O11: =A49 -> CHARADE | P11: =SUM(G50:G52) -> 208 | Q11: =RANK(P11, P$7:P$13, 1) + COUNTIF(P$7:P11, P11) - 1 -> 4 | S11: =INDEX(O$7:O$13, MATCH(ROW(A5), Q$7:Q$13, 0)) -> VAL D'AUZON | T11: =INDEX(P$7:P$13, MATCH(ROW(A5), Q$7:Q$13, 0)) -> 213 | U11: =ROW(A5) -> 5
C12: =TRIM(CONCATENATE(B12,A12)) | J12: {=IFERROR(INDEX(A$5:A$94, MATCH(1, (D$5:D$94="M")*(E$5:E$94=L12)*(COUNTIF(J$10:J11,A$5:A$94)=0), 0)),"")} -> JEANDREAU | K12: {=IFERROR(INDEX(B$5:B$94, MATCH(1, (D$5:D$94="M")*(E$5:E$94=L12)*(COUNTIF(K$10:K11,B$5:B$94)=0), 0)),"")} -> Alain | L12: {=IFERROR(SMALL(IF(D$5:D$94="M",E$5:E$94), ROW(A2)),"")} -> 62 | M12: 2 | O12: =A57 -> MAURIAC | P12: =SUM(G58:G60) -> 203 | Q12: =RANK(P12, P$7:P$13, 1) + COUNTIF(P$7:P12, P12) - 1 -> 3 | S12: =INDEX(O$7:O$13, MATCH(ROW(A6), Q$7:Q$13, 0)) -> MONTPENSIER | T12: =INDEX(P$7:P$13, MATCH(ROW(A6), Q$7:Q$13, 0)) -> 238 | U12: =ROW(A6) -> 6
C13: =TRIM(CONCATENATE(B13,A13)) | J13: {=IFERROR(INDEX(A$5:A$94, MATCH(1, (D$5:D$94="M")*(E$5:E$94=L13)*(COUNTIF(J$10:J12,A$5:A$94)=0), 0)),"")} -> MACHAJ | K13: {=IFERROR(INDEX(B$6:B$94, MATCH(1, (D$6:D$94="M")*(E$6:E$94=L13)*(COUNTIF(K$10:K12,B$6:B$94)=0), 0)),"")} -> Jacky | L13: {=IFERROR(SMALL(IF(D$5:D$94="M",E$5:E$94), ROW(A3)),"")} -> 63 | M13: 3 | O13: =A67 -> MONTPENSIER | P13: =SUM(G68:G70) -> 238 | Q13: =RANK(P13, P$7:P$13, 1) + COUNTIF(P$7:P13, P13) - 1 -> 6 | S13: =INDEX(O$7:O$13, MATCH(ROW(A7), Q$7:Q$13, 0)) -> GAZELEC MOULINS/VICHY | T13: =INDEX(P$7:P$13, MATCH(ROW(A7), Q$7:Q$13, 0)) -> 270 | U13: =ROW(A7) -> 7
C14: =TRIM(CONCATENATE(B14,A14))
A15: GAZELEC CLERMONT
A16: NOM | B16: PRENOM | C16: Colonne1 | D16: Catégorie | E16: BRUT | G16: TOP 3 BRUT | J16: CONCOURS APPROCHE DAMES | L16: Distance | M16: Green N° 8
A17: BOURGIER | B17: Robert | C17: =TRIM(CONCATENATE(B17,A17)) -> RobertBOURGIER | D17: M | E17: 66 | G17: =SMALL(Tableau4142230[BRUT],1) -> 66 | J17: FLORENCIO | K17: Janine | L17: 3,99 m
A18: CAMBET | B18: Gérard | C18: =TRIM(CONCATENATE(B18,A18)) -> GérardCAMBET | D18: M | E18: 67 | G18: =SMALL(Tableau4142230[BRUT],2) -> 66
A19: CAMBET | B19: Jocelyne | C19: =TRIM(CONCATENATE(B19,A19)) -> JocelyneCAMBET | D19: F | E19: 85 | G19: =SMALL(Tableau4142230[BRUT],3) -> 67 | J19: CONCOURS APPROCHE MESSIEURS | L19: Distance | M19: Green N° 8
A20: FLORENCIO | B20: Georges | C20: =TRIM(CONCATENATE(B20,A20)) -> GeorgesFLORENCIO | D20: M | E20: 71 | J20: ANAVOISARD | K20: Jacques | L20: 1,27 m
A21: FLORENCIO | B21: Janine | C21: =TRIM(CONCATENATE(B21,A21)) -> JanineFLORENCIO | D21: F | E21: 71
A22: FONTANON | B22: Serge | C22: =TRIM(CONCATENATE(B22,A22)) -> SergeFONTANON | D22: M | E22: 72
A23: FROMAGE | B23: Gilles | C23: =TRIM(CONCATENATE(B23,A23)) -> GillesFROMAGE | D23: M | E23: 82
A24: MANOUVRIER | B24: Michel | C24: =TRIM(CONCATENATE(B24,A24)) -> MichelMANOUVRIER | D24: M | E24: 80
A25: TIXIER | B25: Corinne | C25: =TRIM(CONCATENATE(B25,A25)) -> CorinneTIXIER | D25: F | E25: 85
A26: VESCOVI | B26: Gilles | C26: =TRIM(CONCATENATE(B26,A26)) -> GillesVESCOVI | D26: M | E26: 66
A27: VESCOVI | B27: Régine | C27: =TRIM(CONCATENATE(B27,A27)) -> RégineVESCOVI | D27: F | E27: 77
C28: =TRIM(CONCATENATE(B28,A28))
C30: =TRIM(CONCATENATE(B30,A30))
A31: GAZELEC MOULINS/VICHY | G31: TOP 3 BRUT
A32: NOM | B32: PRENOM | C32: Colonne1 | D32: Catégorie | E32: BRUT | G32: =SMALL(Tableau5152331[BRUT],1) -> 90
C33: =TRIM(CONCATENATE(B33,A33)) | E33: 90 | G33: =SMALL(Tableau5152331[BRUT],2) -> 90
C34: =TRIM(CONCATENATE(B34,A34)) | E34: 90 | G34: =SMALL(Tableau5152331[BRUT],3) -> 90
C35: =TRIM(CONCATENATE(B35,A35)) | E35: 90
C36: =TRIM(CONCATENATE(B36,A36)) | E36: 90
C37: =TRIM(CONCATENATE(B37,A37))
C38: =TRIM(CONCATENATE(B38,A38))
A39: VAL D'AUZON | G39: TOP 3 BRUT
A40: NOM | B40: PRENOM | C40: Colonne1 | D40: Catégorie | E40: BRUT | G40: =SMALL(Tableau6162432[BRUT],1) -> 69
A41: ANAVOISARD | B41: Jacques | C41: =TRIM(CONCATENATE(B41,A41)) -> JacquesANAVOISARD | D41: M | E41: 73 | G41: =SMALL(Tableau6162432[BRUT],2) -> 71
A42: CIBERT GOTHON | B42: Michelle | C42: =TRIM(CONCATENATE(B42,A42)) -> MichelleCIBERT GOTHON | D42: F | E42: 69 | G42: =SMALL(Tableau6162432[BRUT],3) -> 73
A43: FAURIE | B43: Jean-Michel | C43: =TRIM(CONCATENATE(B43,A43)) -> Jean-MichelFAURIE | D43: M | E43: 71
A44: GUEGUEN | B44: Mickaël | C44: =TRIM(CONCATENATE(B44,A44)) -> MickaëlGUEGUEN | D44: M | E44: 74
A45: LAVEDIAU | B45: Serge | C45: =TRIM(CONCATENATE(B45,A45)) -> SergeLAVEDIAU | D45: M | E45: 73
A46: SAVOIE | B46: Philippe | C46: =TRIM(CONCATENATE(B46,A46)) -> PhilippeSAVOIE | D46: M | E46: 76
C47: =TRIM(CONCATENATE(B47,A47))
C48: =TRIM(CONCATENATE(B48,A48))
A49: CHARADE | G49: TOP 3 BRUT
A50: NOM | B50: PRENOM | C50: Colonne1 | D50: Catégorie | E50: BRUT | G50: =SMALL(Tableau7172533[BRUT],1) -> 59
A51: GRAVELIN | B51: Marc | C51: =TRIM(CONCATENATE(B51,A51)) -> MarcGRAVELIN | D51: M | E51: 72 | G51: =SMALL(Tableau7172533[BRUT],2) -> 72
A52: JOSSIER | B52: Gilles | C52: =TRIM(CONCATENATE(B52,A52)) -> GillesJOSSIER | D52: M | E52: 59 | G52: =SMALL(Tableau7172533[BRUT],3) -> 77
A53: PERRIER | B53: Huguette | C53: =TRIM(CONCATENATE(B53,A53)) -> HuguettePERRIER | D53: F | E53: 81
A54: ROBERT | B54: Serge | C54: =TRIM(CONCATENATE(B54,A54)) -> SergeROBERT | D54: M | E54: 77
C55: =TRIM(CONCATENATE(B55,A55))
C56: =TRIM(CONCATENATE(B56,A56))
A57: MAURIAC | G57: TOP 3 BRUT
A58: NOM | B58: PRENOM | C58: Colonne1 | D58: Catégorie | E58: BRUT | G58: =SMALL(Tableau8182634[BRUT],1) -> 65
A59: BENAZECH | B59: Didier | C59: =TRIM(CONCATENATE(B59,A59)) -> DidierBENAZECH | D59: M | E59: 67 | G59: =SMALL(Tableau8182634[BRUT],2) -> 67
A60: DOMY | B60: Monique | C60: =TRIM(CONCATENATE(B60,A60)) -> MoniqueDOMY | D60: F | E60: 71 | G60: =SMALL(Tableau8182634[BRUT],3) -> 71
A61: LABAUNE | B61: Michel | C61: =TRIM(CONCATENATE(B61,A61)) -> MichelLABAUNE | D61: M | E61: 77
A62: RAYNIERE | B62: Pierre Jean | C62: =TRIM(CONCATENATE(B62,A62)) -> Pierre JeanRAYNIERE | D62: M | E62: 75
A63: RODDE | B63: Jean Louis | C63: =TRIM(CONCATENATE(B63,A63)) -> Jean LouisRODDE | D63: M | E63: 65
C65: =TRIM(CONCATENATE(B65,A65))
C66: =TRIM(CONCATENATE(B66,A66))
A67: MONTPENSIER | G67: TOP 3 BRUT
A68: NOM | B68: PRENOM | C68: Colonne1 | D68: Catégorie | E68: BRUT | G68: =SMALL(Tableau9192735[BRUT],1) -> 73
A69: MOUTH | B69: Martine | C69: =TRIM(CONCATENATE(B69,A69)) -> MartineMOUTH | D69: F | E69: 85 | G69: =SMALL(Tableau9192735[BRUT],2) -> 80
A70: RUSZNIEWSKI | B70: Sylvie | C70: =TRIM(CONCATENATE(B70,A70)) -> SylvieRUSZNIEWSKI | D70: F | E70: 73 | G70: =SMALL(Tableau9192735[BRUT],3) -> 85
A71: RAY | B71: Odile | C71: =TRIM(CONCATENATE(B71,A71)) -> OdileRAY | D71: F | E71: 80

Sheet T5
A1: F P P - ISAPP T5 GOLF DES VOLCANS 20 AOUT 2026
A3: RIOM
A4: NOM | B4: PRENOM | C4: Colonne1 | D4: Catégorie | E4: BRUT | G4: TOP 3 BRUT
A5: BRIDIER | B5: Elisabeth | C5: =TRIM(CONCATENATE(B5,A5)) -> ElisabethBRIDIER | D5: F | E5: 68 | G5: =SMALL(Tableau313212937[BRUT],1) -> 53 | J5: INDIVIDUEL DAMES | L5: SCORE Brut | M5: CLASSEMENT
A6: JEANDREAU | B6: Alain | C6: =TRIM(CONCATENATE(B6,A6)) -> AlainJEANDREAU | D6: M | E6: 62 | G6: =SMALL(Tableau313212937[BRUT],2) -> 57 | J6: {=IFERROR(INDEX(A$5:A$109, MATCH(1, (D$5:D$109="F")*(E$5:E$109=L6)*(COUNTIF(J$5:J5,A$5:A$109)=0), 0)),"")} -> MEYNIAL | K6: {=IFERROR(INDEX(B$5:B$109, MATCH(1, (D$5:D$109="F")*(E$5:E$109=L6)*(COUNTIF(L$5:L5,E$5:E$109)=0), 0)),"")} -> Elisabeth | L6: {=IFERROR(SMALL(IF(D$6:D$109="F",E$6:E$109), ROW(A1)),"")} -> 66 | M6: 1 | O6: EQUIPES | P6: SCORE Brut | Q6: CLASSEMENT | S6: EQUIPES | T6: SCORE Brut | U6: CLASSEMENT
A7: JULHIEN | B7: Roland | C7: =TRIM(CONCATENATE(B7,A7)) -> RolandJULHIEN | D7: M | E7: 57 | G7: =SMALL(Tableau313212937[BRUT],3) -> 62 | J7: {=IFERROR(INDEX(A$6:A$109, MATCH(1, (D$6:D$109="F")*(E$6:E$109=L7)*(COUNTIF(J$5:J6,A$6:A$109)=0), 0)),"")} -> JOFFRE | K7: {=IFERROR(INDEX(B$6:B$109, MATCH(1, (D$6:D$109="F")*(E$6:E$109=L7)*(COUNTIF(K$5:K6,B$6:B$109)=0), 0)),"")} -> Caroline | L7: {=IFERROR(SMALL(IF((D$5:D$109="F")*(COUNTIF(L$5:L5,E$5:E$109)=0), E$5:E$109), ROW(A2)),"")} -> 68 | M7: 2 | O7: =A3 -> RIOM | P7: =SUM(G5:G7) -> 172 | Q7: =RANK(P7, P$7:P$13, 1) + COUNTIF(P$7:P7, P7) - 1 -> 1 | S7: =INDEX(O$7:O$13, MATCH(ROW(A1), Q$7:Q$13, 0)) -> RIOM | T7: =INDEX(P$7:P$13, MATCH(ROW(A1), Q$7:Q$13, 0)) -> 172 | U7: =ROW(A1) -> 1
A8: KUCHCIK | B8: Joëlle | C8: =TRIM(CONCATENATE(B8,A8)) -> JoëlleKUCHCIK | D8: F | E8: 81 | O8: =A16 -> GAZELEC CLERMONT | P8: =SUM(G17:G19) -> 192 | Q8: =RANK(P8, P$7:P$13, 1) + COUNTIF(P$7:P8, P8) - 1 -> 4 | S8: =INDEX(O$7:O$13, MATCH(ROW(A2), Q$7:Q$13, 0)) -> VAL D'AUZON | T8: =INDEX(P$7:P$13, MATCH(ROW(A2), Q$7:Q$13, 0)) -> 187 | U8: =ROW(A2) -> 2
A9: MACHAJ | B9: Jacky | C9: =TRIM(CONCATENATE(B9,A9)) -> JackyMACHAJ | D9: M | E9: 65 | O9: =A32 -> GAZELEC MOULINS/VICHY | P9: =SUM(G33:G35) -> 270 | Q9: =RANK(P9, P$7:P$13, 1) + COUNTIF(P$7:P9, P9) - 1 -> 6 | S9: =INDEX(O$7:O$13, MATCH(ROW(A3), Q$7:Q$13, 0)) -> CHARADE | T9: =INDEX(P$7:P$13, MATCH(ROW(A3), Q$7:Q$13, 0)) -> 188 | U9: =ROW(A3) -> 3
A10: MOULIN | B10: Christian | C10: =TRIM(CONCATENATE(B10,A10)) -> ChristianMOULIN | D10: M | E10: 53 | J10: INDIVIDUEL MESSIEURS | L10: SCORE Brut | M10: CLASSEMENT | O10: =A40 -> VAL D'AUZON | P10: =SUM(G41:G43) -> 187 | Q10: =RANK(P10, P$7:P$13, 1) + COUNTIF(P$7:P10, P10) - 1 -> 2 | S10: =INDEX(O$7:O$13, MATCH(ROW(A4), Q$7:Q$13, 0)) -> GAZELEC CLERMONT | T10: =INDEX(P$7:P$13, MATCH(ROW(A4), Q$7:Q$13, 0)) -> 192 | U10: =ROW(A4) -> 4
A11: PEGEON | B11: Jacky | C11: =TRIM(CONCATENATE(B11,A11)) -> JackyPEGEON | D11: M | E11: 66 | J11: {=IFERROR(INDEX(A$5:A$109, MATCH(1, (D$5:D$109="M")*(E$5:E$109=L11)*(COUNTIF(J$10:J10,A$5:A$109)=0), 0)),"")} -> MOULIN | K11: {=IFERROR(INDEX(B$5:B$109, MATCH(1, (D$5:D$109="M")*(E$5:E$109=L11)*(COUNTIF(L$10:L10,E$5:E$109)=0), 0)),"")} -> Christian | L11: {=IFERROR(SMALL(IF(D$5:D$109="M",E$5:E$109), ROW(A1)),"")} -> 53 | M11: 1 | O11: =A56 -> CHARADE | P11: =SUM(G57:G59) -> 188 | Q11: =RANK(P11, P$7:P$13, 1) + COUNTIF(P$7:P11, P11) - 1 -> 3 | S11: =INDEX(O$7:O$13, MATCH(ROW(A5), Q$7:Q$13, 0)) -> MAURIAC | T11: =INDEX(P$7:P$13, MATCH(ROW(A5), Q$7:Q$13, 0)) -> 207 | U11: =ROW(A5) -> 5
J12: {=IFERROR(INDEX(A$5:A$109, MATCH(1, (D$5:D$109="M")*(E$5:E$109=L12)*(COUNTIF(J$10:J11,A$5:A$109)=0), 0)),"")} -> JULHIEN | K12: {=IFERROR(INDEX(B$5:B$109, MATCH(1, (D$5:D$109="M")*(E$5:E$109=L12)*(COUNTIF(K$10:K11,B$5:B$109)=0), 0)),"")} -> Roland | L12: {=IFERROR(SMALL(IF(D$5:D$109="M",E$5:E$109), ROW(A2)),"")} -> 57 | M12: 2 | O12: =A69 -> MAURIAC | P12: =SUM(G70:G72) -> 207 | Q12: =RANK(P12, P$7:P$13, 1) + COUNTIF(P$7:P12, P12) - 1 -> 5 | S12: =INDEX(O$7:O$13, MATCH(ROW(A6), Q$7:Q$13, 0)) -> GAZELEC MOULINS/VICHY | T12: =INDEX(P$7:P$13, MATCH(ROW(A6), Q$7:Q$13, 0)) -> 270 | U12: =ROW(A6) -> 6
J13: {=IFERROR(INDEX(A$5:A$109, MATCH(1, (D$5:D$109="M")*(E$5:E$109=L13)*(COUNTIF(J$10:J12,A$5:A$109)=0), 0)),"")} -> FOURNIER | K13: {=IFERROR(INDEX(B$6:B$109, MATCH(1, (D$6:D$109="M")*(E$6:E$109=L13)*(COUNTIF(K$10:K12,B$6:B$109)=0), 0)),"")} -> Philippe | L13: {=IFERROR(SMALL(IF(D$5:D$109="M",E$5:E$109), ROW(A3)),"")} -> 59 | M13: 3 | O13: =A77 -> MONTPENSIER | P13: =SUM(G78:G80) -> 270 | Q13: =RANK(P13, P$7:P$13, 1) + COUNTIF(P$7:P13, P13) - 1 -> 7 | S13: =INDEX(O$7:O$13, MATCH(ROW(A7), Q$7:Q$13, 0)) -> MONTPENSIER | T13: =INDEX(P$7:P$13, MATCH(ROW(A7), Q$7:Q$13, 0)) -> 270 | U13: =ROW(A7) -> 7
C14: =TRIM(CONCATENATE(B14,A14))
C15: =TRIM(CONCATENATE(B15,A15))
A16: GAZELEC CLERMONT | G16: TOP 3 BRUT | J16: CONCOURS APPROCHE DAMES | L16: Distance | M16: Green N° 4
A17: NOM | B17: PRENOM | C17: Colonne1 | D17: Catégorie | E17: BRUT | G17: =SMALL(Tableau414223038[BRUT],1) -> 61
A18: BOURGIER | B18: Robert | C18: =TRIM(CONCATENATE(B18,A18)) -> RobertBOURGIER | D18: M | E18: 65 | G18: =SMALL(Tableau414223038[BRUT],2) -> 65
A19: CAMBET | B19: Gérard | C19: =TRIM(CONCATENATE(B19,A19)) -> Gérard CAMBET | D19: M | E19: 61 | G19: =SMALL(Tableau414223038[BRUT],3) -> 66 | J19: CONCOURS APPROCHE MESSIEURS | L19: Distance | M19: Green N° 4
A20: FLORENCIO | B20: Georges | C20: =TRIM(CONCATENATE(B20,A20)) -> GeorgesFLORENCIO | D20: M | E20: 66
A21: FLORENCIO | B21: Janine | C21: =TRIM(CONCATENATE(B21,A21)) -> JanineFLORENCIO | D21: F | E21: 70
A22: FONTANON | B22: Serge | C22: =TRIM(CONCATENATE(B22,A22)) -> SergeFONTANON | D22: M | E22: 71
A23: GEIGER | B23: Yael | C23: =TRIM(CONCATENATE(B23,A23)) -> YaelGEIGER | D23: F | E23: 83
A24: MARGOTTIN | B24: Patrice | C24: =TRIM(CONCATENATE(B24,A24)) -> PatriceMARGOTTIN | D24: M | E24: 71
A25: JOFFRE | B25: Pascal | C25: =TRIM(CONCATENATE(B25,A25)) -> PascalJOFFRE | D25: M | E25: 72
A26: JOFFRE | B26: Caroline | C26: =TRIM(CONCATENATE(B26,A26)) -> CarolineJOFFRE | D26: F | E26: 68
A27: MANOUVRIER | B27: Michel | C27: =TRIM(CONCATENATE(B27,A27)) -> MichelMANOUVRIER | D27: M | E27: 72
A28: VESCOVI | B28: Gilles | C28: =TRIM(CONCATENATE(B28,A28)) -> GillesVESCOVI | D28: M | E28: 69
A29: VESCOVI | B29: Régine | C29: =TRIM(CONCATENATE(B29,A29)) -> RégineVESCOVI | D29: F | E29: 77
C30: =TRIM(CONCATENATE(B30,A30))
C31: =TRIM(CONCATENATE(B31,A31))
A32: GAZELEC MOULINS/VICHY | G32: TOP 3 BRUT
A33: NOM | B33: PRENOM | C33: Colonne1 | D33: Catégorie | E33: BRUT | G33: =SMALL(Tableau515233139[BRUT],1) -> 90
C34: =TRIM(CONCATENATE(B34,A34)) | E34: 90 | G34: =SMALL(Tableau515233139[BRUT],2) -> 90
C35: =TRIM(CONCATENATE(B35,A35)) | E35: 90 | G35: =SMALL(Tableau515233139[BRUT],3) -> 90
C36: =TRIM(CONCATENATE(B36,A36)) | E36: 90
C37: =TRIM(CONCATENATE(B37,A37)) | E37: 90
C38: =TRIM(CONCATENATE(B38,A38))
C39: =TRIM(CONCATENATE(B39,A39))
A40: VAL D'AUZON | G40: TOP 3 BRUT
A41: NOM | B41: PRENOM | C41: Colonne1 | D41: Catégorie | E41: BRUT | G41: =SMALL(Tableau616243240[BRUT],1) -> 59
A42: ANAVOISARD | B42: Jacques | C42: =TRIM(CONCATENATE(B42,A42)) -> JacquesANAVOISARD | D42: M | E42: 68 | G42: =SMALL(Tableau616243240[BRUT],2) -> 64
A43: BRUNEL | B43: Robert | C43: =TRIM(CONCATENATE(B43,A43)) -> RobertBRUNEL | D43: M | E43: 64 | G43: =SMALL(Tableau616243240[BRUT],3) -> 64
A44: CIBERT GOTHON | B44: Michelle | C44: =TRIM(CONCATENATE(B44,A44)) -> MichelleCIBERT GOTHON | D44: F | E44: 76
A45: CUVIER | B45: Philippe | C45: =TRIM(CONCATENATE(B45,A45)) -> PhilippeCUVIER | D45: M | E45: 64
A46: FAURIE | B46: Jean-Michel | C46: =TRIM(CONCATENATE(B46,A46)) -> Jean-MichelFAURIE | D46: M | E46: 75
A47: FLEURY | B47: Bruno | C47: =TRIM(CONCATENATE(B47,A47)) -> BrunoFLEURY | D47: M | E47: 71
A48: FOURNIER | B48: Philippe | C48: =TRIM(CONCATENATE(B48,A48)) -> PhilippeFOURNIER | D48: M | E48: 59
A49: MOUTREUX | B49: Jean Pierre | C49: =TRIM(CONCATENATE(B49,A49)) -> Jean PierreMOUTREUX | D49: M | E49: 70
A50: PIERROT | B50: Daniel | C50: =TRIM(CONCATENATE(B50,A50)) -> DanielPIERROT | D50: M | E50: 69
A51: SAVOIE | B51: Philippe | C51: =TRIM(CONCATENATE(B51,A51)) -> PhilippeSAVOIE | D51: M | E51: 79
A52: SOU AH Y | B52: Christophe | C52: =TRIM(CONCATENATE(B52,A52)) -> ChristopheSOU AH Y | D52: M | E52: 67
A53: VEDEL | B53: Daniel | C53: =TRIM(CONCATENATE(B53,A53)) -> DanielVEDEL | D53: M | E53: 66
C54: =TRIM(CONCATENATE(B54,A54))
C55: =TRIM(CONCATENATE(B55,A55))
A56: CHARADE | G56: TOP 3 BRUT
A57: NOM | B57: PRENOM | C57: Colonne1 | D57: Catégorie | E57: BRUT | G57: =SMALL(Tableau717253341[BRUT],1) -> 61
A58: GOUGAT | B58: Roger | C58: =TRIM(CONCATENATE(B58,A58)) -> RogerGOUGAT | D58: M | E58: 78 | G58: =SMALL(Tableau717253341[BRUT],2) -> 63
A59: GRAVELIN | B59: Marc | C59: =TRIM(CONCATENATE(B59,A59)) -> MarcGRAVELIN | D59: M | E59: 69 | G59: =SMALL(Tableau717253341[BRUT],3) -> 64
A60: JOSSIER | B60: Gilles | C60: =TRIM(CONCATENATE(B60,A60)) -> GillesJOSSIER | D60: M | E60: 64
A61: LOUBAT | B61: Christiane | C61: =TRIM(CONCATENATE(B61,A61)) -> ChristianeLOUBAT | D61: F | E61: 85
A62: LOUBAT | B62: Jean | C62: =TRIM(CONCATENATE(B62,A62)) -> JeanLOUBAT | D62: M | E62: 63
A63: MEYNIAL | B63: Elisabeth | C63: =TRIM(CONCATENATE(B63,A63)) -> ElisabethMEYNIAL | D63: F | E63: 66
A64: PERRIER | B64: Huguette | C64: =TRIM(CONCATENATE(B64,A64)) -> HuguettePERRIER | D64: F | E64: 80
A65: PERRIER | B65: Serge | C65: =TRIM(CONCATENATE(B65,A65)) -> SergePERRIER | D65: M | E65: 61
A66: ROBERT | B66: Serge | C66: =TRIM(CONCATENATE(B66,A66)) -> SergeROBERT | D66: M | E66: 66
C67: =TRIM(CONCATENATE(B67,A67))
C68: =TRIM(CONCATENATE(B68,A68))
A69: MAURIAC | G69: TOP 3 BRUT
A70: NOM | B70: PRENOM | C70: Colonne1 | D70: Catégorie | E70: BRUT | G70: =SMALL(Tableau818263442[BRUT],1) -> 65
A71: LABAUNE | B71: Michel | C71: =TRIM(CONCATENATE(B71,A71)) -> MichelLABAUNE | D71: M | E71: 69 | G71: =SMALL(Tableau818263442[BRUT],2) -> 69
A72: MONCHAUX | B72: Marie Hélène | C72: =TRIM(CONCATENATE(B72,A72)) -> Marie HélèneMONCHAUX | D72: F | E72: 78 | G72: =SMALL(Tableau818263442[BRUT],3) -> 73
A73: RAYNIERE | B73: Pierre Jean | C73: =TRIM(CONCATENATE(B73,A73)) -> Pierre JeanRAYNIERE | D73: M | E73: 65
A74: VACHOT | B74: Martine | C74: =TRIM(CONCATENATE(B74,A74)) -> MartineVACHOT | D74: F | E74: 73
C75: =TRIM(CONCATENATE(B75,A75))
C76: =TRIM(CONCATENATE(B76,A76))
A77: MONTPENSIER | G77: TOP 3 BRUT
A78: NOM | B78: PRENOM | C78: Colonne1 | D78: Catégorie | E78: BRUT | G78: =SMALL(Tableau919273543[BRUT],1) -> 90
C79: =TRIM(CONCATENATE(B79,A79)) | D79: F | E79: 90 | G79: =SMALL(Tableau919273543[BRUT],2) -> 90
C80: =TRIM(CONCATENATE(B80,A80)) | D80: F | E80: 90 | G80: =SMALL(Tableau919273543[BRUT],3) -> 90
C81: =TRIM(CONCATENATE(B81,A81)) | D81: F | E81: 90
C82: =TRIM(CONCATENATE(B82,A82)) | D82: M | E82: 90
C83: =TRIM(CONCATENATE(B83,A83)) | D83: M | E83: 90
C84: =TRIM(CONCATENATE(B84,A84)) | D84: F | E84: 90
C85: =TRIM(CONCATENATE(B85,A85)) | D85: M | E85: 90
C86: =TRIM(CONCATENATE(B86,A86)) | D86: F | E86: 90

Sheet T6
A1: F P P - ISAPP T6 GOLF DE VAL D'AUZON 3 SEPTEMBRE 2026
A3: RIOM
A4: NOM | B4: PRENOM | C4: Colonne1 | D4: Catégorie | E4: BRUT | G4: TOP 3 BRUT
A5: BRIDIER | B5: Elisabeth | C5: =TRIM(CONCATENATE(B5,A5)) -> ElisabethBRIDIER | D5: F | E5: 69 | G5: =SMALL(Tableau31321293745[BRUT],1) -> 56 | J5: INDIVIDUEL DAMES | L5: SCORE Brut | M5: CLASSEMENT
A6: CLUZEL | B6: Jean Claude | C6: =TRIM(CONCATENATE(B6,A6)) -> Jean ClaudeCLUZEL | D6: M | E6: 66 | G6: =SMALL(Tableau31321293745[BRUT],2) -> 61 | J6: {=IFERROR(INDEX(A$5:A$120, MATCH(1, (D$5:D$120="F")*(E$5:E$120=L6)*(COUNTIF(J$5:J5,A$5:A$120)=0), 0)),"")} -> BRIDIER | K6: {=IFERROR(INDEX(B$5:B$120, MATCH(1, (D$5:D$120="F")*(E$5:E$120=L6)*(COUNTIF(L$5:L5,E$5:E$120)=0), 0)),"")} -> Elisabeth | L6: {=IFERROR(SMALL(IF(D$13:D$120="F",E$13:E$120), ROW(A1)),"")} -> 69 | M6: 1 | O6: EQUIPES | P6: SCORE Brut | Q6: CLASSEMENT | S6: EQUIPES | T6: SCORE Brut | U6: CLASSEMENT
A7: JEANDREAU | B7: Alain | C7: =TRIM(CONCATENATE(B7,A7)) -> AlainJEANDREAU | D7: M | E7: 66 | G7: =SMALL(Tableau31321293745[BRUT],3) -> 61 | J7: CIBERT GOTHON | K7: Michele | L7: 69 | M7: 2 | O7: =A3 -> RIOM | P7: =SUM(G5:G7) -> 178 | Q7: =RANK(P7, P$7:P$13, 1) + COUNTIF(P$7:P7, P7) - 1 -> 1 | S7: =INDEX(O$7:O$13, MATCH(ROW(A1), Q$7:Q$13, 0)) -> RIOM | T7: =INDEX(P$7:P$13, MATCH(ROW(A1), Q$7:Q$13, 0)) -> 178 | U7: =ROW(A1) -> 1
A8: JULHIEN | B8: Roland | C8: =TRIM(CONCATENATE(B8,A8)) -> RolandJULHIEN | D8: M | E8: 66 | J8: {=IFERROR(INDEX(A$5:A$120, MATCH(1, (D$5:D$120="F")*(E$5:E$120=L8)*(COUNTIF(J$5:J6,A$5:A$120)=0), 0)),"")} -> JOFFRE | K8: {=IFERROR(INDEX(B$5:B$120, MATCH(1, (D$5:D$120="F")*(E$5:E$120=L8)*(COUNTIF(L$5:L6,E$5:E$120)=0), 0)),"")} -> Caroline | L8: {=IFERROR(SMALL(IF(D$13:D$120="F",E$13:E$120), ROW(A2)),"")} -> 70 | M8: 3 | O8: =A22 -> GAZELEC CLERMONT | P8: =SUM(G25:G27) -> 205 | Q8: =RANK(P8, P$7:P$13, 1) + COUNTIF(P$7:P8, P8) - 1 -> 5 | S8: =INDEX(O$7:O$13, MATCH(ROW(A2), Q$7:Q$13, 0)) -> VAL D'AUZON | T8: =INDEX(P$7:P$13, MATCH(ROW(A2), Q$7:Q$13, 0)) -> 185 | U8: =ROW(A2) -> 2
A9: LAPERNA | B9: Jean Claude | C9: =TRIM(CONCATENATE(B9,A9)) -> Jean ClaudeLAPERNA | D9: M | E9: 61 | O9: =A38 -> GAZELEC MOULINS/VICHY | P9: =SUM(G39:G41) -> 270 | Q9: =RANK(P9, P$7:P$13, 1) + COUNTIF(P$7:P9, P9) - 1 -> 7 | S9: =INDEX(O$7:O$13, MATCH(ROW(A3), Q$7:Q$13, 0)) -> MONTPENSIER | T9: =INDEX(P$7:P$13, MATCH(ROW(A3), Q$7:Q$13, 0)) -> 190 | U9: =ROW(A3) -> 3
A10: MARCUCCI | B10: Serge | C10: =TRIM(CONCATENATE(B10,A10)) -> SergeMARCUCCI | D10: M | E10: 56 | O10: =A46 -> VAL D'AUZON | P10: =SUM(G47:G49) -> 185 | Q10: =RANK(P10, P$7:P$13, 1) + COUNTIF(P$7:P10, P10) - 1 -> 2 | S10: =INDEX(O$7:O$13, MATCH(ROW(A4), Q$7:Q$13, 0)) -> CHARADE | T10: =INDEX(P$7:P$13, MATCH(ROW(A4), Q$7:Q$13, 0)) -> 192 | U10: =ROW(A4) -> 4
A11: MOULIN | B11: Christian | C11: =TRIM(CONCATENATE(B11,A11)) -> ChristianMOULIN | D11: M | E11: 61 | J11: INDIVIDUEL MESSIEURS | L11: SCORE Brut | M11: CLASSEMENT | O11: =A67 -> CHARADE | P11: =SUM(G68:G70) -> 192 | Q11: =RANK(P11, P$7:P$13, 1) + COUNTIF(P$7:P11, P11) - 1 -> 4 | S11: =INDEX(O$7:O$13, MATCH(ROW(A5), Q$7:Q$13, 0)) -> GAZELEC CLERMONT | T11: =INDEX(P$7:P$13, MATCH(ROW(A5), Q$7:Q$13, 0)) -> 205 | U11: =ROW(A5) -> 5
A12: ROSSI | B12: Annie | C12: =TRIM(CONCATENATE(B12,A12)) -> AnnieROSSI | D12: F | E12: 83 | J12: {=IFERROR(INDEX(A$5:A$120, MATCH(1, (D$5:D$120="M")*(E$5:E$120=L12)*(COUNTIF(J$11:J11,A$5:A$120)=0), 0)),"")} -> MARCUCCI | K12: {=IFERROR(INDEX(B$5:B$120, MATCH(1, (D$5:D$120="M")*(E$5:E$120=L12)*(COUNTIF(L$11:L11,E$5:E$120)=0), 0)),"")} -> Serge | L12: {=IFERROR(SMALL(IF(D$5:D$120="M",E$5:E$120), ROW(A1)),"")} -> 56 | M12: 1 | O12: =A79 -> MAURIAC | P12: =SUM(G80:G82) -> 207 | Q12: =RANK(P12, P$7:P$13, 1) + COUNTIF(P$7:P12, P12) - 1 -> 6 | S12: =INDEX(O$7:O$13, MATCH(ROW(A6), Q$7:Q$13, 0)) -> MAURIAC | T12: =INDEX(P$7:P$13, MATCH(ROW(A6), Q$7:Q$13, 0)) -> 207 | U12: =ROW(A6) -> 6
A13: ZANADA | B13: Dominique | C13: =TRIM(CONCATENATE(B13,A13)) -> DominiqueZANADA | D13: M | E13: 67 | J13: {=IFERROR(INDEX(A$5:A$120, MATCH(1, (D$5:D$120="M")*(E$5:E$120=L13)*(COUNTIF(J$11:J12,A$5:A$120)=0), 0)),"")} -> GAILLARD | K13: {=IFERROR(INDEX(B$5:B$120, MATCH(1, (D$5:D$120="M")*(E$5:E$120=L13)*(COUNTIF(K$11:K12,B$5:B$120)=0), 0)),"")} -> Hervé | L13: {=IFERROR(SMALL(IF(D$5:D$120="M",E$5:E$120), ROW(A2)),"")} -> 57 | M13: 2 | O13: =A88 -> MONTPENSIER | P13: =SUM(G89:G91) -> 190 | Q13: =RANK(P13, P$7:P$13, 1) + COUNTIF(P$7:P13, P13) - 1 -> 3 | S13: =INDEX(O$7:O$13, MATCH(ROW(A7), Q$7:Q$13, 0)) -> GAZELEC MOULINS/VICHY | T13: =INDEX(P$7:P$13, MATCH(ROW(A8), Q$7:Q$13, 0)) -> #N/A | U13: =ROW(A8) -> 8
J14: {=IFERROR(INDEX(A$5:A$120, MATCH(1, (D$5:D$120="M")*(E$5:E$120=L14)*(COUNTIF(J$11:J13,A$5:A$120)=0), 0)),"")} -> SOU AH Y | K14: {=IFERROR(INDEX(B$13:B$120, MATCH(1, (D$13:D$120="M")*(E$13:E$120=L14)*(COUNTIF(K$11:K13,B$13:B$120)=0), 0)),"")} -> Christophe | L14: {=IFERROR(SMALL(IF(D$5:D$120="M",E$5:E$120), ROW(A3)),"")} -> 60 | M14: 3
J18: CONCOURS APPROCHE DAMES | L18: Distance | M18: Green N° 3
J19: RUSNIEWSKI | K19: Sylvie | L19: 52,5 cm
C20: =TRIM(CONCATENATE(B20,A20))
C21: =TRIM(CONCATENATE(B21,A21)) | J21: CONCOURS APPROCHE MESSIEURS | L21: Distance | M21: Green N° 3
A22: GAZELEC CLERMONT | J22: SOU AH Y | K22: Christophe | L22: 70,7cm
A23: NOM | B23: PRENOM | C23: Colonne1 | D23: Catégorie | E23: BRUT
A24: CAMBET | B24: Gérard | C24: =TRIM(CONCATENATE(B24,A24)) -> Gérard CAMBET | D24: M | E24: 70 | G24: TOP 3 BRUT
A25: FLORENCIO | B25: Janine | C25: =TRIM(CONCATENATE(B25,A25)) -> JanineFLORENCIO | D25: F | E25: 78 | G25: =SMALL(Tableau41422303846[BRUT],1) -> 67
A26: FONTANON | B26: Serge | C26: =TRIM(CONCATENATE(B26,A26)) -> SergeFONTANON | D26: M | E26: 71 | G26: =SMALL(Tableau41422303846[BRUT],2) -> 68
A27: FROMAGE | B27: Gilles | C27: =TRIM(CONCATENATE(B27,A27)) -> GillesFROMAGE | D27: M | E27: 85 | G27: =SMALL(Tableau41422303846[BRUT],3) -> 70
A28: HESEL | B28: Jean Marc | C28: =TRIM(CONCATENATE(B28,A28)) -> Jean MarcHESEL | D28: M | E28: 67
A29: JOFFRE | B29: Pascal | C29: =TRIM(CONCATENATE(B29,A29)) -> PascalJOFFRE | D29: M | E29: 68
A30: JOFFRE | B30: Caroline | C30: =TRIM(CONCATENATE(B30,A30)) -> CarolineJOFFRE | D30: F | E30: 70
A31: MANOUVRIER | B31: Michel | C31: =TRIM(CONCATENATE(B31,A31)) -> MichelMANOUVRIER | D31: M | E31: 77
A32: MAZUEL | B32: Nicole | C32: =TRIM(CONCATENATE(B32,A32)) -> NicoleMAZUEL | D32: F | E32: 85
A33: VESCOVI | B33: Gilles | C33: =TRIM(CONCATENATE(B33,A33)) -> GillesVESCOVI | D33: M | E33: 71
A34: VESCOVI | B34: Régine | C34: =TRIM(CONCATENATE(B34,A34)) -> RégineVESCOVI | D34: F | E34: 73
C35: =TRIM(CONCATENATE(B35,A35))
A38: GAZELEC MOULINS/VICHY | G38: TOP 3 BRUT
A39: NOM | B39: PRENOM | C39: Colonne1 | D39: Catégorie | E39: BRUT | G39: =SMALL(Tableau51523313947[BRUT],1) -> 90
C40: =TRIM(CONCATENATE(B40,A40)) | E40: 90 | G40: =SMALL(Tableau51523313947[BRUT],2) -> 90
C41: =TRIM(CONCATENATE(B41,A41)) | E41: 90 | G41: =SMALL(Tableau51523313947[BRUT],3) -> 90
C42: =TRIM(CONCATENATE(B42,A42)) | E42: 90
C43: =TRIM(CONCATENATE(B43,A43)) | E43: 90
C44: =TRIM(CONCATENATE(B44,A44))
C45: =TRIM(CONCATENATE(B45,A45))
A46: VAL D'AUZON | G46: TOP 3 BRUT
A47: NOM | B47: PRENOM | C47: Colonne1 | D47: Catégorie | E47: BRUT | G47: =SMALL(Tableau61624324048[BRUT],1) -> 60
A48: ANAVOISARD | B48: Jacques | C48: =TRIM(CONCATENATE(B48,A48)) -> JacquesANAVOISARD | D48: M | E48: 70 | G48: =SMALL(Tableau61624324048[BRUT],2) -> 62
A49: BABUT | B49: Jean Luc | C49: =TRIM(CONCATENATE(B49,A49)) -> Jean LucBABUT | D49: M | E49: 76 | G49: =SMALL(Tableau61624324048[BRUT],3) -> 63
A50: BONNET | B50: Monique | C50: =TRIM(CONCATENATE(B50,A50)) -> MoniqueBONNET | D50: F | E50: 82
A51: CIBERT GOTHON | B51: Michelle | C51: =TRIM(CONCATENATE(B51,A51)) -> MichelleCIBERT GOTHON | D51: F | E51: 69
A52: CUVIER | B52: Philippe | C52: =TRIM(CONCATENATE(B52,A52)) -> PhilippeCUVIER | D52: M | E52: 72
A53: FAURIE | B53: Jean-Michel | C53: =TRIM(CONCATENATE(B53,A53)) -> Jean-MichelFAURIE | D53: M | E53: 71
A54: FLEURY | B54: Bruno | C54: =TRIM(CONCATENATE(B54,A54)) -> BrunoFLEURY | D54: M | E54: 63
A55: FOURNIER | B55: Philippe | C55: =TRIM(CONCATENATE(B55,A55)) -> PhilippeFOURNIER | D55: M | E55: 62
A56: GEBRILLAT | B56: Maël | C56: =TRIM(CONCATENATE(B56,A56)) -> MaëlGEBRILLAT | D56: M | E56: 67
A57: MERCIER | B57: Claude | C57: =TRIM(CONCATENATE(B57,A57)) -> ClaudeMERCIER | D57: M | E57: 68
A58: MIGUET | B58: Jean Marc | C58: =TRIM(CONCATENATE(B58,A58)) -> Jean MarcMIGUET | D58: M | E58: 78
A59: PLOSSARD | B59: Claude | C59: =TRIM(CONCATENATE(B59,A59)) -> ClaudePLOSSARD | D59: M | E59: 72
A60: SAVOIE | B60: Philippe | C60: =TRIM(CONCATENATE(B60,A60)) -> PhilippeSAVOIE | D60: M | E60: 75
A61: SOU AH Y | B61: Christophe | C61: =TRIM(CONCATENATE(B61,A61)) -> ChristopheSOU AH Y | D61: M | E61: 60
... A64: VEDEL | B64: Daniel | C64: =TRIM(CONCATENATE(B64,A64)) -> DanielVEDEL | D64: M | E64: 66
C65: =TRIM(CONCATENATE(B65,A65))
C66: =TRIM(CONCATENATE(B66,A66))
A67: CHARADE | G67: TOP 3 BRUT
A68: NOM | B68: PRENOM | C68: Colonne1 | D68: Catégorie | E68: BRUT | G68: =SMALL(Tableau71725334149[BRUT],1) -> 57
A69: GAILLARD | B69: Hervé | C69: =TRIM(CONCATENATE(B69,A69)) -> HervéGAILLARD | D69: M | E69: 57 | G69: =SMALL(Tableau71725334149[BRUT],2) -> 64
A70: GRAVELIN | B70: Marc | C70: =TRIM(CONCATENATE(B70,A70)) -> MarcGRAVELIN | D70: M | E70: 74 | G70: =SMALL(Tableau71725334149[BRUT],3) -> 71
A71: JOSSIER | B71: Gilles | C71: =TRIM(CONCATENATE(B71,A71)) -> GillesJOSSIER | D71: M | E71: 71
A72: LOUBAT | B72: Jean | C72: =TRIM(CONCATENATE(B72,A72)) -> JeanLOUBAT | D72: M | E72: 72
A73: LOUBAT | B73: Christiane | C73: =TRIM(CONCATENATE(B73,A73)) -> ChristianeLOUBAT | D73: F | E73: 85
A74: MEYNIAL | B74: Elisabeth | C74: =TRIM(CONCATENATE(B74,A74)) -> ElisabethMEYNIAL | D74: F | E74: 75
A75: PERRIER | B75: Huguette | C75: =TRIM(CONCATENATE(B75,A75)) -> HuguettePERRIER | D75: F | E75: 76
A76: PERRIER | B76: Serge | C76: =TRIM(CONCATENATE(B76,A76)) -> SergePERRIER | D76: M | E76: 64
C77: =TRIM(CONCATENATE(B77,A77))
C78: =TRIM(CONCATENATE(B78,A78))
A79: MAURIAC | G79: TOP 3 BRUT
A80: NOM | B80: PRENOM | C80: Colonne1 | D80: Catégorie | E80: BRUT | G80: =SMALL(Tableau81826344250[BRUT],1) -> 66
A81: LABAUNE | B81: Michel | C81: =TRIM(CONCATENATE(B81,A81)) -> MichelLABAUNE | D81: M | E81: 72 | G81: =SMALL(Tableau81826344250[BRUT],2) -> 69
A82: MONCHAUX | B82: Marie Hélène | C82: =TRIM(CONCATENATE(B82,A82)) -> Marie HélèneMONCHAUX | D82: F | E82: 85 | G82: =SMALL(Tableau81826344250[BRUT],3) -> 72
A83: RAYNIERE | B83: Pierre Jean | C83: =TRIM(CONCATENATE(B83,A83)) -> Pierre JeanRAYNIERE | D83: M | E83: 69
A84: VACHOT | B84: Martine | C84: =TRIM(CONCATENATE(B84,A84)) -> MartineVACHOT | D84: F | E84: 75
A85: RODDE | B85: Jean Louis | C85: =TRIM(CONCATENATE(B85,A85)) -> Jean LouisRODDE | D85: M | E85: 66
C86: =TRIM(CONCATENATE(B86,A86))
C87: =TRIM(CONCATENATE(B87,A87))
A88: MONTPENSIER | G88: TOP 3 BRUT
A89: NOM | B89: PRENOM | C89: Colonne1 | D89: Catégorie | E89: BRUT | G89: =SMALL(Tableau91927354351[BRUT],1) -> 62
A90: DULAC | B90: Yves | C90: =TRIM(CONCATENATE(B90,A90)) -> YvesDULAC | D90: M | E90: 64 | G90: =SMALL(Tableau91927354351[BRUT],2) -> 64
A91: FLECHE | B91: Agnès | C91: =TRIM(CONCATENATE(B91,A91)) -> AgnèsFLECHE | D91: F | E91: 85 | G91: =SMALL(Tableau91927354351[BRUT],3) -> 64
A92: MOUTH | B92: Martine | C92: =TRIM(CONCATENATE(B92,A92)) -> MartineMOUTH | D92: F | E92: 79
A93: POMARES | B93: Michel | C93: =TRIM(CONCATENATE(B93,A93)) -> MichelPOMARES | D93: M | E93: 62
A94: RICHARD | B94: Jean-Claude | C94: =TRIM(CONCATENATE(B94,A94)) -> Jean-ClaudeRICHARD | D94: M | E94: 67
A95: RUSNIEWSKI | B95: Sylvie | C95: =TRIM(CONCATENATE(B95,A95)) -> SylvieRUSNIEWSKI | D95: F | E95: 85
A96: SIMONIN | B96: Claude | C96: =TRIM(CONCATENATE(B96,A96)) -> ClaudeSIMONIN | D96: M | E96: 64
A97: VIDAL | B97: Odile | C97: =TRIM(CONCATENATE(B97,A97)) -> OdileVIDAL | D97: F | E97: 78

Sheet T7
A1: F P P - ISAPP T7 GOLF DE RIOM 24 SEPTEMBRE 2026
A3: RIOM
A4: NOM | B4: PRENOM | C4: Colonne1 | D4: Catégorie | E4: BRUT | G4: TOP 3 BRUT
A5: JUHLIEN | B5: Roland | C5: =TRIM(CONCATENATE(B5,A5)) -> RolandJUHLIEN | D5: M | E5: 52 | G5: =SMALL(Tableau3132129374553[BRUT],1) -> 52 | J5: INDIVIDUEL DAMES | L5: SCORE Brut | M5: CLASSEMENT
A6: LAPERNA | B6: Jean Claude | C6: =TRIM(CONCATENATE(B6,A6)) -> Jean ClaudeLAPERNA | D6: M | E6: 55 | G6: =SMALL(Tableau3132129374553[BRUT],2) -> 55 | J6: {=IFERROR(INDEX(A$5:A$107, MATCH(1, (D$5:D$107="F")*(E$5:E$107=L6)*(COUNTIF(J$5:J5,A$5:A$107)=0), 0)),"")} -> VACHOT | K6: {=IFERROR(INDEX(B$5:B$107, MATCH(1, (D$5:D$107="F")*(E$5:E$107=L6)*(COUNTIF(L$5:L5,E$5:E$107)=0), 0)),"")} -> Martine | L6: {=IFERROR(SMALL(IF(D$6:D$107="F",E$6:E$107), ROW(A1)),"")} -> 66 | M6: 1 | O6: EQUIPES | P6: SCORE Brut | Q6: CLASSEMENT | S6: EQUIPES | T6: SCORE Brut | U6: CLASSEMENT
A7: MACHAJ | B7: Jacky | C7: =TRIM(CONCATENATE(B7,A7)) -> JackyMACHAJ | D7: M | E7: 64 | G7: =SMALL(Tableau3132129374553[BRUT],3) -> 58 | J7: DUBERT | K7: Corinne | L7: {=IFERROR(SMALL(IF((D$5:D$107="F")*(COUNTIF(L$5:L5,E$5:E$107)=0), E$5:E$107), ROW(A2)),"")} -> 66 | M7: 1 | O7: =A3 -> RIOM | P7: =SUM(G5:G7) -> 165 | Q7: =RANK(P7, P$7:P$13, 1) + COUNTIF(P$7:P7, P7) - 1 -> 1 | S7: =INDEX(O$7:O$13, MATCH(ROW(A1), Q$7:Q$13, 0)) -> RIOM | T7: =INDEX(P$7:P$13, MATCH(ROW(A1), Q$7:Q$13, 0)) -> 165 | U7: =ROW(A1) -> 1
A8: MOULIN | B8: Christian | C8: =TRIM(CONCATENATE(B8,A8)) -> ChristianMOULIN | D8: M | E8: 58 | J8: CIBERT GOTHON | K8: Michelle | L8: 67 | M8: 3 | O8: =A15 -> GAZELEC CLERMONT | P8: =SUM(G17:G19) -> 183 | Q8: =RANK(P8, P$7:P$13, 1) + COUNTIF(P$7:P8, P8) - 1 -> 4 | S8: =INDEX(O$7:O$13, MATCH(ROW(A2), Q$7:Q$13, 0)) -> CHARADE | T8: =INDEX(P$7:P$13, MATCH(ROW(A2), Q$7:Q$13, 0)) -> 181 | U8: =ROW(A2) -> 2
A9: PEGEON | B9: Jacky | C9: =TRIM(CONCATENATE(B9,A9)) -> JackyPEGEON | D9: M | E9: 66 | J9: PERRIER | K9: Huguette | L9: 67 | M9: 3 | O9: =A29 -> GAZELEC MOULINS/VICHY | P9: =SUM(G31:G33) -> 270 | Q9: =RANK(P9, P$7:P$13, 1) + COUNTIF(P$7:P9, P9) - 1 -> 7 | S9: =INDEX(O$7:O$13, MATCH(ROW(A3), Q$7:Q$13, 0)) -> VAL D'AUZON | T9: =INDEX(P$7:P$13, MATCH(ROW(A3), Q$7:Q$13, 0)) -> 182 | U9: =ROW(A3) -> 3
A10: ZANADA | B10: Dominique | C10: =TRIM(CONCATENATE(B10,A10)) -> DominiqueZANADA | D10: M | E10: 59 | O10: =A37 -> VAL D'AUZON | P10: =SUM(G39:G41) -> 182 | Q10: =RANK(P10, P$7:P$13, 1) + COUNTIF(P$7:P10, P10) - 1 -> 3 | S10: =INDEX(O$7:O$13, MATCH(ROW(A4), Q$7:Q$13, 0)) -> GAZELEC CLERMONT | T10: =INDEX(P$7:P$13, MATCH(ROW(A4), Q$7:Q$13, 0)) -> 183 | U10: =ROW(A4) -> 4
A11: KUCHCIK | B11: Joëlle | C11: =TRIM(CONCATENATE(B11,A11)) -> JoëlleKUCHCIK | D11: F | E11: 77 | J11: INDIVIDUEL MESSIEURS | L11: SCORE Brut | M11: CLASSEMENT | O11: =A55 -> CHARADE | P11: =SUM(G57:G59) -> 181 | Q11: =RANK(P11, P$7:P$13, 1) + COUNTIF(P$7:P11, P11) - 1 -> 2 | S11: =INDEX(O$7:O$13, MATCH(ROW(A6), Q$7:Q$13, 0)) -> MAURIAC | T11: =INDEX(P$7:P$13, MATCH(ROW(A6), Q$7:Q$13, 0)) -> 201 | U11: =ROW(A6) -> 6
J12: {=IFERROR(INDEX(A$5:A$107, MATCH(1, (D$5:D$107="M")*(E$5:E$107=L12)*(COUNTIF(J$11:J11,A$5:A$107)=0), 0)),"")} -> JUHLIEN | K12: {=IFERROR(INDEX(B$5:B$107, MATCH(1, (D$5:D$107="M")*(E$5:E$107=L12)*(COUNTIF(L$11:L11,E$5:E$107)=0), 0)),"")} -> Roland | L12: {=IFERROR(SMALL(IF(D$5:D$107="M",E$5:E$107), ROW(A1)),"")} -> 52 | M12: 1 | O12: =A67 -> MAURIAC | P12: =SUM(G69:G71) -> 201 | Q12: =RANK(P12, P$7:P$13, 1) + COUNTIF(P$7:P12, P12) - 1 -> 6 | S12: =INDEX(O$7:O$13, MATCH(ROW(A5), Q$7:Q$13, 0)) -> MONTPENSIER | T12: =INDEX(P$7:P$13, MATCH(ROW(A5), Q$7:Q$13, 0)) -> 183 | U12: =ROW(A5) -> 5
J13: {=IFERROR(INDEX(A$5:A$107, MATCH(1, (D$5:D$107="M")*(E$5:E$107=L13)*(COUNTIF(J$11:J12,A$5:A$107)=0), 0)),"")} -> POMARES | K13: {=IFERROR(INDEX(B$5:B$107, MATCH(1, (D$5:D$107="M")*(E$5:E$107=L13)*(COUNTIF(K$11:K12,B$5:B$107)=0), 0)),"")} -> Michel | L13: {=IFERROR(SMALL(IF(D$5:D$107="M",E$5:E$107), ROW(A2)),"")} -> 53 | M13: 2 | O13: =A77 -> MONTPENSIER | P13: =SUM(G79:G81) -> 183 | Q13: =RANK(P13, P$7:P$13, 1) + COUNTIF(P$7:P13, P13) - 1 -> 5 | S13: =INDEX(O$7:O$13, MATCH(ROW(A11), Q$7:Q$13, 0)) -> #N/A | T13: =INDEX(P$7:P$13, MATCH(ROW(A11), Q$7:Q$13, 0)) -> #N/A | U13: =ROW(A11) -> 11
C14: =TRIM(CONCATENATE(B14,A14)) | J14: {=IFERROR(INDEX(A$5:A$107, MATCH(1, (D$5:D$107="M")*(E$5:E$107=L14)*(COUNTIF(J$11:J13,A$5:A$107)=0), 0)),"")} -> LAPERNA | K14: Jean Claude | L14: {=IFERROR(SMALL(IF(D$5:D$107="M",E$5:E$107), ROW(A3)),"")} -> 55 | M14: 3
A15: GAZELEC CLERMONT
A16: NOM | B16: PRENOM | C16: Colonne1 | D16: Catégorie | E16: BRUT | G16: TOP 3 BRUT | J16: CONCOURS APPROCHE DAMES | L16: Distance | M16: Green N° 14
A17: BOURGIER | B17: Robert | C17: =TRIM(CONCATENATE(B17,A17)) -> RobertBOURGIER | D17: M | E17: 65 | G17: =SMALL(Tableau4142230384654[BRUT],1) -> 59 | J17: MEYNIAL | K17: Elisabeth | L17: 4.52
A18: CAMBET | B18: Gérard | C18: =TRIM(CONCATENATE(B18,A18)) -> GérardCAMBET | D18: M | E18: 59 | G18: =SMALL(Tableau4142230384654[BRUT],2) -> 61
A19: FLORENCIO | B19: Georges | C19: =TRIM(CONCATENATE(B19,A19)) -> GeorgesFLORENCIO | D19: M | E19: 61 | G19: =SMALL(Tableau4142230384654[BRUT],3) -> 63 | J19: CONCOURS APPROCHE MESSIEURS | L19: Distance | M19: Green N° 14
A20: FLORENCIO | B20: Janine | C20: =TRIM(CONCATENATE(B20,A20)) -> JanineFLORENCIO | D20: F | E20: 68 | J20: GAILLARD | K20: Hervé | L20: 2.09
A21: DAUPHIN | B21: Pierre | C21: =TRIM(CONCATENATE(B21,A21)) -> PierreDAUPHIN | D21: M | E21: 76
A22: MAZUEL | B22: Nicole | C22: =TRIM(CONCATENATE(B22,A22)) -> NicoleMAZUEL | D22: F | E22: 72
A23: MANOUVRIER | B23: Michel | C23: =TRIM(CONCATENATE(B23,A23)) -> MichelMANOUVRIER | D23: M | E23: 71
A24: TIXIER | B24: Corinne | C24: =TRIM(CONCATENATE(B24,A24)) -> CorinneTIXIER | D24: F | E24: 81
A25: VESCOVI | B25: Gilles | C25: =TRIM(CONCATENATE(B25,A25)) -> GillesVESCOVI | D25: M | E25: 63
A26: VESCOVI | B26: Régine | C26: =TRIM(CONCATENATE(B26,A26)) -> RégineVESCOVI | D26: F | E26: 72
C27: =TRIM(CONCATENATE(B27,A27))
C28: =TRIM(CONCATENATE(B28,A28))
A29: GAZELEC MOULINS/VICHY
A30: NOM | B30: PRENOM | C30: Colonne1 | D30: Catégorie | E30: BRUT | G30: TOP 3 BRUT
C31: =TRIM(CONCATENATE(B31,A31)) | E31: 90 | G31: =SMALL(Tableau5152331394755[BRUT],1) -> 90
C32: =TRIM(CONCATENATE(B32,A32)) | E32: 90 | G32: =SMALL(Tableau5152331394755[BRUT],2) -> 90
C33: =TRIM(CONCATENATE(B33,A33)) | E33: 90 | G33: =SMALL(Tableau5152331394755[BRUT],3) -> 90
C34: =TRIM(CONCATENATE(B34,A34)) | E34: 90
C35: =TRIM(CONCATENATE(B35,A35))
C36: =TRIM(CONCATENATE(B36,A36))
A37: VAL D'AUZON
A38: NOM | B38: PRENOM | C38: Colonne1 | D38: Catégorie | E38: BRUT | G38: TOP 3 BRUT
A39: ANAVOISARD | B39: Jacques | C39: =TRIM(CONCATENATE(B39,A39)) -> JacquesANAVOISARD | D39: M | E39: 75 | G39: =SMALL(Tableau6162432404856[BRUT],1) -> 60
A40: BABUT | B40: Jean Luc | C40: =TRIM(CONCATENATE(B40,A40)) -> Jean LucBABUT | D40: M | E40: 74 | G40: =SMALL(Tableau6162432404856[BRUT],2) -> 61
A41: CIBERT GOTHON | B41: Michelle | C41: =TRIM(CONCATENATE(B41,A41)) -> MichelleCIBERT GOTHON | D41: F | E41: 67 | G41: =SMALL(Tableau6162432404856[BRUT],3) -> 61
A42: FLEURY | B42: Bruno | C42: =TRIM(CONCATENATE(B42,A42)) -> BrunoFLEURY | D42: M | E42: 61
A43: GEBRILLAT | B43: Maël | C43: =TRIM(CONCATENATE(B43,A43)) -> MaëlGEBRILLAT | D43: M | E43: 69
A44: GUEGUEN | B44: Mickaël | C44: =TRIM(CONCATENATE(B44,A44)) -> MickaëlGUEGUEN | D44: M | E44: 67
A45: MERCIER | B45: Claude | C45: =TRIM(CONCATENATE(B45,A45)) -> ClaudeMERCIER | D45: M | E45: 66
A46: PIERROT | B46: Daniel | C46: =TRIM(CONCATENATE(B46,A46)) -> DanielPIERROT | D46: M | E46: 60
A47: PLOSSARD | B47: Claude | C47: =TRIM(CONCATENATE(B47,A47)) -> ClaudePLOSSARD | D47: M | E47: 70
A48: SAVOIE | B48: Philippe | C48: =TRIM(CONCATENATE(B48,A48)) -> PhilippeSAVOIE | D48: M | E48: 71
A49: SOU AH Y | B49: Christophe | C49: =TRIM(CONCATENATE(B49,A49)) -> ChristopheSOU AH Y | D49: M | E49: 63
A50: SOUTHON | B50: René | C50: =TRIM(CONCATENATE(B50,A50)) -> RenéSOUTHON | D50: M | E50: 71
A51: SOUTHON | B51: Sylvie | C51: =TRIM(CONCATENATE(B51,A51)) -> SylvieSOUTHON | D51: F | E51: 75
A52: VEDEL | B52: Daniel | C52: =TRIM(CONCATENATE(B52,A52)) -> DanielVEDEL | D52: M | E52: 61
C53: =TRIM(CONCATENATE(B53,A53))
C54: =TRIM(CONCATENATE(B54,A54))
A55: CHARADE
A56: NOM | B56: PRENOM | C56: Colonne1 | D56: Catégorie | E56: BRUT | G56: TOP 3 BRUT
A57: GAILLARD | B57: Hervé | C57: =TRIM(CONCATENATE(B57,A57)) -> HervéGAILLARD | D57: M | E57: 58 | G57: =SMALL(Tableau7172533414957[BRUT],1) -> 58
A58: GRAVELIN | B58: Marc | C58: =TRIM(CONCATENATE(B58,A58)) -> MarcGRAVELIN | D58: M | E58: 78 | G58: =SMALL(Tableau7172533414957[BRUT],2) -> 60
A59: JOSSIER | B59: Gilles | C59: =TRIM(CONCATENATE(B59,A59)) -> GillesJOSSIER | D59: M | E59: 65 | G59: =SMALL(Tableau7172533414957[BRUT],3) -> 63
A60: LOUBAT | B60: Jean | C60: =TRIM(CONCATENATE(B60,A60)) -> JeanLOUBAT | D60: M | E60: 63
A61: MEYNIAL | B61: Elisabeth | C61: =TRIM(CONCATENATE(B61,A61)) -> ElisabethMEYNIAL | D61: F | E61: 75
A62: PERRIER | B62: Huguette | C62: =TRIM(CONCATENATE(B62,A62)) -> HuguettePERRIER | D62: F | E62: 67
A63: PERRIER | B63: Serge | C63: =TRIM(CONCATENATE(B63,A63)) -> SergePERRIER | D63: M | E63: 65
A64: ROBERT | B64: Serge | C64: =TRIM(CONCATENATE(B64,A64)) -> SergeROBERT | D64: M | E64: 60
C65: =TRIM(CONCATENATE(B65,A65))
C66: =TRIM(CONCATENATE(B66,A66))
A67: MAURIAC
A68: NOM | B68: PRENOM | C68: Colonne1 | D68: Catégorie | E68: BRUT | G68: TOP 3 BRUT
A69: CARRER | B69: Philippe | C69: =TRIM(CONCATENATE(B69,A69)) -> PhilippeCARRER | D69: M | E69: 69 | G69: =SMALL(Tableau8182634425058[BRUT],1) -> 66
A70: CARRER | B70: Jacqueline | C70: =TRIM(CONCATENATE(B70,A70)) -> JacquelineCARRER | D70: F | E70: 76 | G70: =SMALL(Tableau8182634425058[BRUT],2) -> 66
A71: LABAUNE | B71: Michel | C71: =TRIM(CONCATENATE(B71,A71)) -> MichelLABAUNE | D71: M | E71: 74 | G71: =SMALL(Tableau8182634425058[BRUT],3) -> 69
A72: MAURIO | B72: Patrice | C72: =TRIM(CONCATENATE(B72,A72)) -> PatriceMAURIO | D72: M | E72: 66
A73: MONCHAUX | B73: Marie Hélène | C73: =TRIM(CONCATENATE(B73,A73)) -> Marie HélèneMONCHAUX | D73: F | E73: 79
A74: VACHOT | B74: Martine | C74: =TRIM(CONCATENATE(B74,A74)) -> MartineVACHOT | D74: F | E74: 66
C75: =TRIM(CONCATENATE(B75,A75))
C76: =TRIM(CONCATENATE(B76,A76))
A77: MONTPENSIER
A78: NOM | B78: PRENOM | C78: Colonne1 | D78: Catégorie | E78: BRUT | G78: TOP 3 BRUT
A79: BARON | B79: Yvette | C79: =TRIM(CONCATENATE(B79,A79)) -> YvetteBARON | D79: F | E79: 76 | G79: =SMALL(Tableau9192735435159[BRUT],1) -> 53
A80: BOURNAT | B80: Christiane | C80: =TRIM(CONCATENATE(B80,A80)) -> ChristianeBOURNAT | D80: F | E80: 78 | G80: =SMALL(Tableau9192735435159[BRUT],2) -> 64
A81: DUBERT | B81: Corinne | C81: =TRIM(CONCATENATE(B81,A81)) -> CorinneDUBERT | D81: F | E81: 66 | G81: =SMALL(Tableau9192735435159[BRUT],3) -> 66
A82: MOUTH | B82: Martine | C82: =TRIM(CONCATENATE(B82,A82)) -> MartineMOUTH | D82: F | E82: 72
A83: POMARES | B83: Michel | C83: =TRIM(CONCATENATE(B83,A83)) -> MichelPOMARES | D83: M | E83: 53
A84: SIMONIN | B84: Claude | C84: =TRIM(CONCATENATE(B84,A84)) -> ClaudeSIMONIN | D84: M | E84: 64
