Workbook
Name NOM: [1]DATA!#REF!
Name NOM: [1]DATA!#REF!
Name NOM: [1]DATA!#REF!
Name NOM: [1]DATA!#REF!
Name NOM: [1]DATA!#REF!
Name NOM: [1]DATA!#REF!
Name NOM: [1]DATA!#REF!
Name NOM: [1]DATA!#REF!
Name NOMBIS: [1]DATA!#REF!
Name NOMBIS: [1]DATA!#REF!
Name NOMBIS: [1]DATA!#REF!
Name NOMBIS: [1]DATA!#REF!
Name NOMBIS: [1]DATA!#REF!
Name NOMBIS: [1]DATA!#REF!
Name NOMBIS: [1]DATA!#REF!
Name NOMFSDF: [1]DATA!#REF!
Name NOMFSDF: [1]DATA!#REF!
Name NOMFSDF: [1]DATA!#REF!
Name NOMFSDF: [1]DATA!#REF!
Name NOMFSDF: [1]DATA!#REF!

Sheet GENERAL INDIV (2)
A1: ISAPP ANNEE 2026 GENERAL INDIVIDUEL
B3: CLASSEMENT INDIVIDUEL MESSIEURS | E3: T1 | F3: T2 | G3: T3 | H3: T4 | I3: T5 | J3: T6 | K3: T7
B4: NOM | C4: PRENOM | D4: CLUB | E4: Score MONTPENSIER 26/03/26 | F4: Score CHARADE 23/04/26 | G4: Score MAURIAC 04/06/26 | H4: Score MONT DORE 18/07/26 | I4: Score LES VOLCANS 20/08/26 | J4: Score VAL D'AUZON 03/09/26 | K4: Score RIOM 24/09/26 | L4: Score Total | M4: 1 er SCORE Retiré | N4: 2 ème SCORE Retiré | O4: SCORE Final 2025 | P4: Classement
B5: JEANDREAU | C5: Alain | D5: RIOM | E5: =_xlfn.IFNA(VLOOKUP(TRIM(CONCATENATE(Tableau111[[#This Row],[PRENOM]],Tableau111[[#This Row],[NOM]])),'T1'!$C$5:$E$106,3,FALSE),90) -> 53 | F5: =_xlfn.IFNA(VLOOKUP(TRIM(CONCATENATE(Tableau111[[#This Row],[PRENOM]],Tableau111[[#This Row],[NOM]])),'T2'!$C$5:$E$94,3,FALSE),90) -> 57 | G5: =_xlfn.IFNA(VLOOKUP(TRIM(CONCATENATE(Tableau111[[#This Row],[PRENOM]],Tableau111[[#This Row],[NOM]])),'T3'!$C$6:$E$115,3,FALSE),90) -> 59 | H5: =_xlfn.IFNA(VLOOKUP(TRIM(CONCATENATE(Tableau111[[#This Row],[PRENOM]],Tableau111[[#This Row],[NOM]])),'T4'!$C$5:$E$100,3,FALSE),90) -> 62 | I5: =_xlfn.IFNA(VLOOKUP(TRIM(CONCATENATE(Tableau111[[#This Row],[PRENOM]],Tableau111[[#This Row],[NOM]])),'T5'!$C$5:$E$115,3,FALSE),90) -> 62 | J5: =_xlfn.IFNA(VLOOKUP(TRIM(CONCATENATE(Tableau111[[#This Row],[PRENOM]],Tableau111[[#This Row],[NOM]])),'T6'!$C$5:$E$126,3,FALSE),90) -> 66 | K5: =_xlfn.IFNA(VLOOKUP(TRIM(CONCATENATE(Tableau111[[#This Row],[PRENOM]],Tableau111[[#This Row],[NOM]])),'T7'!$C$5:$E$113,3,FALSE),90) -> 90 | L5: =SUM(E5:K5) -> 449 | M5: =LARGE(E5:K5,1) -> 90 | N5: =LARGE(E5:K5,2) -> 66 | O5: =L5-M5-N5 -> 293 | P5: =RANK(Tableau111[[#This Row],[SCORE Final 2025]],Tableau111[SCORE Final 2025],1) -> 1
B6: MOULIN | C6: Christian | D6: RIOM | E6: =_xlfn.IFNA(VLOOKUP(TRIM(CONCATENATE(Tableau111[[#This Row],[PRENOM]],Tableau111[[#This Row],[NOM]])),'T1'!$C$5:$E$106,3,FALSE),90) -> 61 | F6: =_xlfn.IFNA(VLOOKUP(TRIM(CONCATENATE(Tableau111[[#This Row],[PRENOM]],Tableau111[[#This Row],[NOM]])),'T2'!$C$5:$E$94,3,FALSE),90) -> 62 | G6: =_xlfn.IFNA(VLOOKUP(TRIM(CONCATENATE(Tableau111[[#This Row],[PRENOM]],Tableau111[[#This Row],[NOM]])),'T3'!$C$6:$E$115,3,FALSE),90) -> 60 | H6: =_xlfn.IFNA(VLOOKUP(TRIM(CONCATENATE(Tableau111[[#This Row],[PRENOM]],Tableau111[[#This Row],[NOM]])),'T4'!$C$5:$E$100,3,FALSE),90) -> 90 | I6: =_xlfn.IFNA(VLOOKUP(TRIM(CONCATENATE(Tableau111[[#This Row],[PRENOM]],Tableau111[[#This Row],[NOM]])),'T5'!$C$5:$E$115,3,FALSE),90) -> 53 | J6: =_xlfn.IFNA(VLOOKUP(TRIM(CONCATENATE(Tableau111[[#This Row],[PRENOM]],Tableau111[[#This Row],[NOM]])),'T6'!$C$5:$E$126,3,FALSE),90) -> 61 | K6: =_xlfn.IFNA(VLOOKUP(TRIM(CONCATENATE(Tableau111[[#This Row],[PRENOM]],Tableau111[[#This Row],[NOM]])),'T7'!$C$5:$E$113,3,FALSE),90) -> 58 | L6: =SUM(E6:K6) -> 445 | M6: =LARGE(E6:K6,1) -> 90 | N6: =LARGE(E6:K6,2) -> 62 | O6: =L6-M6-N6 -> 293 | P6: =RANK(Tableau111[[#This Row],[SCORE Final 2025]],Tableau111[SCORE Final 2025],1) -> 1
B7: JUHLIEN | C7: Roland | D7: RIOM | E7: =_xlfn.IFNA(VLOOKUP(TRIM(CONCATENATE(Tableau111[[#This Row],[PRENOM]],Tableau111[[#This Row],[NOM]])),'T1'!$C$5:$E$106,3,FALSE),90) -> 61 | F7: =_xlfn.IFNA(VLOOKUP(TRIM(CONCATENATE(Tableau111[[#This Row],[PRENOM]],Tableau111[[#This Row],[NOM]])),'T2'!$C$5:$E$94,3,FALSE),90) -> 90 | G7: =_xlfn.IFNA(VLOOKUP(TRIM(CONCATENATE(Tableau111[[#This Row],[PRENOM]],Tableau111[[#This Row],[NOM]])),'T3'!$C$6:$E$115,3,FALSE),90) -> 60 | H7: =_xlfn.IFNA(VLOOKUP(TRIM(CONCATENATE(Tableau111[[#This Row],[PRENOM]],Tableau111[[#This Row],[NOM]])),'T4'!$C$5:$E$100,3,FALSE),90) -> 69 | I7: 57 | J7: 66 | K7: =_xlfn.IFNA(VLOOKUP(TRIM(CONCATENATE(Tableau111[[#This Row],[PRENOM]],Tableau111[[#This Row],[NOM]])),'T7'!$C$5:$E$113,3,FALSE),90) -> 52 | L7: =SUM(E7:K7) -> 455 | M7: =LARGE(E7:K7,1) -> 90 | N7: =LARGE(E7:K7,2) -> 69 | O7: =L7-M7-N7 -> 296 | P7: =RANK(Tableau111[[#This Row],[SCORE Final 2025]],Tableau111[SCORE Final 2025],1) -> 3
B8: PERRIER | C8: Serge | D8: CHARADE | E8: =_xlfn.IFNA(VLOOKUP(TRIM(CONCATENATE(Tableau111[[#This Row],[PRENOM]],Tableau111[[#This Row],[NOM]])),'T1'!$C$5:$E$106,3,FALSE),90) -> 58 | F8: =_xlfn.IFNA(VLOOKUP(TRIM(CONCATENATE(Tableau111[[#This Row],[PRENOM]],Tableau111[[#This Row],[NOM]])),'T2'!$C$5:$E$94,3,FALSE),90) -> 59 | G8: =_xlfn.IFNA(VLOOKUP(TRIM(CONCATENATE(Tableau111[[#This Row],[PRENOM]],Tableau111[[#This Row],[NOM]])),'T3'!$C$6:$E$115,3,FALSE),90) -> 58 | H8: =_xlfn.IFNA(VLOOKUP(TRIM(CONCATENATE(Tableau111[[#This Row],[PRENOM]],Tableau111[[#This Row],[NOM]])),'T4'!$C$5:$E$100,3,FALSE),90) -> 90 | I8: =_xlfn.IFNA(VLOOKUP(TRIM(CONCATENATE(Tableau111[[#This Row],[PRENOM]],Tableau111[[#This Row],[NOM]])),'T5'!$C$5:$E$115,3,FALSE),90) -> 61 | J8: =_xlfn.IFNA(VLOOKUP(TRIM(CONCATENATE(Tableau111[[#This Row],[PRENOM]],Tableau111[[#This Row],[NOM]])),'T6'!$C$5:$E$126,3,FALSE),90) -> 64 | K8: =_xlfn.IFNA(VLOOKUP(TRIM(CONCATENATE(Tableau111[[#This Row],[PRENOM]],Tableau111[[#This Row],[NOM]])),'T7'!$C$5:$E$113,3,FALSE),90) -> 65 | L8: =SUM(E8:K8) -> 455 | M8: =LARGE(E8:K8,1) -> 90 | N8: =LARGE(E8:K8,2) -> 65 | O8: =L8-M8-N8 -> 300 | P8: =RANK(Tableau111[[#This Row],[SCORE Final 2025]],Tableau111[SCORE Final 2025],1) -> 4
B9: JOSSIER | C9: Gilles | D9: CHARADE | E9: =_xlfn.IFNA(VLOOKUP(TRIM(CONCATENATE(Tableau111[[#This Row],[PRENOM]],Tableau111[[#This Row],[NOM]])),'T1'!$C$5:$E$106,3,FALSE),90) -> 64 | F9: =_xlfn.IFNA(VLOOKUP(TRIM(CONCATENATE(Tableau111[[#This Row],[PRENOM]],Tableau111[[#This Row],[NOM]])),'T2'!$C$5:$E$94,3,FALSE),90) -> 63 | G9: =_xlfn.IFNA(VLOOKUP(TRIM(CONCATENATE(Tableau111[[#This Row],[PRENOM]],Tableau111[[#This Row],[NOM]])),'T3'!$C$6:$E$115,3,FALSE),90) -> 56 | H9: =_xlfn.IFNA(VLOOKUP(TRIM(CONCATENATE(Tableau111[[#This Row],[PRENOM]],Tableau111[[#This Row],[NOM]])),'T4'!$C$5:$E$100,3,FALSE),90) -> 59 | I9: 64 | J9: =_xlfn.IFNA(VLOOKUP(TRIM(CONCATENATE(Tableau111[[#This Row],[PRENOM]],Tableau111[[#This Row],[NOM]])),'T6'!$C$5:$E$126,3,FALSE),90) -> 71 | K9: =_xlfn.IFNA(VLOOKUP(TRIM(CONCATENATE(Tableau111[[#This Row],[PRENOM]],Tableau111[[#This Row],[NOM]])),'T7'!$C$5:$E$113,3,FALSE),90) -> 65 | L9: =SUM(E9:K9) -> 442 | M9: =LARGE(E9:K9,1) -> 71 | N9: =LARGE(E9:K9,2) -> 65 | O9: =L9-M9-N9 -> 306 | P9: =RANK(Tableau111[[#This Row],[SCORE Final 2025]],Tableau111[SCORE Final 2025],1) -> 5
B10: VESCOVI | C10: Gilles | D10: GAZELEC CLERMONT | E10: =_xlfn.IFNA(VLOOKUP(TRIM(CONCATENATE(Tableau111[[#This Row],[PRENOM]],Tableau111[[#This Row],[NOM]])),'T1'!$C$5:$E$106,3,FALSE),90) -> 61 | F10: =_xlfn.IFNA(VLOOKUP(TRIM(CONCATENATE(Tableau111[[#This Row],[PRENOM]],Tableau111[[#This Row],[NOM]])),'T2'!$C$5:$E$94,3,FALSE),90) -> 59 | G10: =_xlfn.IFNA(VLOOKUP(TRIM(CONCATENATE(Tableau111[[#This Row],[PRENOM]],Tableau111[[#This Row],[NOM]])),'T3'!$C$6:$E$115,3,FALSE),90) -> 57 | H10: =_xlfn.IFNA(VLOOKUP(TRIM(CONCATENATE(Tableau111[[#This Row],[PRENOM]],Tableau111[[#This Row],[NOM]])),'T4'!$C$5:$E$100,3,FALSE),90) -> 66 | I10: =_xlfn.IFNA(VLOOKUP(TRIM(CONCATENATE(Tableau111[[#This Row],[PRENOM]],Tableau111[[#This Row],[NOM]])),'T5'!$C$5:$E$115,3,FALSE),90) -> 69 | J10: =_xlfn.IFNA(VLOOKUP(TRIM(CONCATENATE(Tableau111[[#This Row],[PRENOM]],Tableau111[[#This Row],[NOM]])),'T6'!$C$5:$E$126,3,FALSE),90) -> 71 | K10: =_xlfn.IFNA(VLOOKUP(TRIM(CONCATENATE(Tableau111[[#This Row],[PRENOM]],Tableau111[[#This Row],[NOM]])),'T7'!$C$5:$E$113,3,FALSE),90) -> 63 | L10: =SUM(E10:K10) -> 446 | M10: =LARGE(E10:K10,1) -> 71 | N10: =LARGE(E10:K10,2) -> 69 | O10: =L10-M10-N10 -> 306 | P10: =RANK(Tableau111[[#This Row],[SCORE Final 2025]],Tableau111[SCORE Final 2025],1) -> 5
B11: CAMBET | C11: Gérard | D11: GAZELEC CLERMONT | E11: 63 | F11: 64 | G11: =_xlfn.IFNA(VLOOKUP(TRIM(CONCATENATE(Tableau111[[#This Row],[PRENOM]],Tableau111[[#This Row],[NOM]])),'T3'!$C$6:$E$115,3,FALSE),90) -> 60 | H11: =_xlfn.IFNA(VLOOKUP(TRIM(CONCATENATE(Tableau111[[#This Row],[PRENOM]],Tableau111[[#This Row],[NOM]])),'T4'!$C$5:$E$100,3,FALSE),90) -> 67 | I11: 61 | J11: 70 | K11: =_xlfn.IFNA(VLOOKUP(TRIM(CONCATENATE(Tableau111[[#This Row],[PRENOM]],Tableau111[[#This Row],[NOM]])),'T7'!$C$5:$E$113,3,FALSE),90) -> 59 | L11: =SUM(E11:K11) -> 444 | M11: =LARGE(E11:K11,1) -> 70 | N11: =LARGE(E11:K11,2) -> 67 | O11: =L11-M11-N11 -> 307 | P11: =RANK(Tableau111[[#This Row],[SCORE Final 2025]],Tableau111[SCORE Final 2025],1) -> 7
B12: FLEURY | C12: Bruno | D12: VAL D'AUZON | E12: =_xlfn.IFNA(VLOOKUP(TRIM(CONCATENATE(Tableau111[[#This Row],[PRENOM]],Tableau111[[#This Row],[NOM]])),'T1'!$C$5:$E$106,3,FALSE),90) -> 59 | F12: =_xlfn.IFNA(VLOOKUP(TRIM(CONCATENATE(Tableau111[[#This Row],[PRENOM]],Tableau111[[#This Row],[NOM]])),'T2'!$C$5:$E$94,3,FALSE),90) -> 64 | G12: =_xlfn.IFNA(VLOOKUP(TRIM(CONCATENATE(Tableau111[[#This Row],[PRENOM]],Tableau111[[#This Row],[NOM]])),'T3'!$C$6:$E$115,3,FALSE),90) -> 63 | H12: =_xlfn.IFNA(VLOOKUP(TRIM(CONCATENATE(Tableau111[[#This Row],[PRENOM]],Tableau111[[#This Row],[NOM]])),'T4'!$C$5:$E$100,3,FALSE),90) -> 90 | I12: =_xlfn.IFNA(VLOOKUP(TRIM(CONCATENATE(Tableau111[[#This Row],[PRENOM]],Tableau111[[#This Row],[NOM]])),'T5'!$C$5:$E$115,3,FALSE),90) -> 71 | J12: =_xlfn.IFNA(VLOOKUP(TRIM(CONCATENATE(Tableau111[[#This Row],[PRENOM]],Tableau111[[#This Row],[NOM]])),'T6'!$C$5:$E$126,3,FALSE),90) -> 63 | K12: =_xlfn.IFNA(VLOOKUP(TRIM(CONCATENATE(Tableau111[[#This Row],[PRENOM]],Tableau111[[#This Row],[NOM]])),'T7'!$C$5:$E$113,3,FALSE),90) -> 61 | L12: =SUM(E12:K12) -> 471 | M12: =LARGE(E12:K12,1) -> 90 | N12: =LARGE(E12:K12,2) -> 71 | O12: =L12-M12-N12 -> 310 | P12: =RANK(Tableau111[[#This Row],[SCORE Final 2025]],Tableau111[SCORE Final 2025],1) -> 8
B13: BOURGIER | C13: Robert | D13: GAZELEC CLERMONT | E13: =_xlfn.IFNA(VLOOKUP(TRIM(CONCATENATE(Tableau111[[#This Row],[PRENOM]],Tableau111[[#This Row],[NOM]])),'T1'!$C$5:$E$106,3,FALSE),90) -> 64 | F13: =_xlfn.IFNA(VLOOKUP(TRIM(CONCATENATE(Tableau111[[#This Row],[PRENOM]],Tableau111[[#This Row],[NOM]])),'T2'!$C$5:$E$94,3,FALSE),90) -> 64 | G13: =_xlfn.IFNA(VLOOKUP(TRIM(CONCATENATE(Tableau111[[#This Row],[PRENOM]],Tableau111[[#This Row],[NOM]])),'T3'!$C$6:$E$115,3,FALSE),90) -> 56 | H13: =_xlfn.IFNA(VLOOKUP(TRIM(CONCATENATE(Tableau111[[#This Row],[PRENOM]],Tableau111[[#This Row],[NOM]])),'T4'!$C$5:$E$100,3,FALSE),90) -> 66 | I13: =_xlfn.IFNA(VLOOKUP(TRIM(CONCATENATE(Tableau111[[#This Row],[PRENOM]],Tableau111[[#This Row],[NOM]])),'T5'!$C$5:$E$115,3,FALSE),90) -> 65 | J13: =_xlfn.IFNA(VLOOKUP(TRIM(CONCATENATE(Tableau111[[#This Row],[PRENOM]],Tableau111[[#This Row],[NOM]])),'T6'!$C$5:$E$126,3,FALSE),90) -> 90 | K13: =_xlfn.IFNA(VLOOKUP(TRIM(CONCATENATE(Tableau111[[#This Row],[PRENOM]],Tableau111[[#This Row],[NOM]])),'T7'!$C$5:$E$113,3,FALSE),90) -> 65 | L13: =SUM(E13:K13) -> 470 | M13: =LARGE(E13:K13,1) -> 90 | N13: =LARGE(E13:K13,2) -> 66 | O13: =L13-M13-N13 -> 314 | P13: =RANK(Tableau111[[#This Row],[SCORE Final 2025]],Tableau111[SCORE Final 2025],1) -> 9
B14: MACHAJ | C14: Jacky | D14: RIOM | E14: =_xlfn.IFNA(VLOOKUP(TRIM(CONCATENATE(Tableau111[[#This Row],[PRENOM]],Tableau111[[#This Row],[NOM]])),'T1'!$C$5:$E$106,3,FALSE),90) -> 62 | F14: =_xlfn.IFNA(VLOOKUP(TRIM(CONCATENATE(Tableau111[[#This Row],[PRENOM]],Tableau111[[#This Row],[NOM]])),'T2'!$C$5:$E$94,3,FALSE),90) -> 64 | G14: =_xlfn.IFNA(VLOOKUP(TRIM(CONCATENATE(Tableau111[[#This Row],[PRENOM]],Tableau111[[#This Row],[NOM]])),'T3'!$C$6:$E$115,3,FALSE),90) -> 62 | H14: =_xlfn.IFNA(VLOOKUP(TRIM(CONCATENATE(Tableau111[[#This Row],[PRENOM]],Tableau111[[#This Row],[NOM]])),'T4'!$C$5:$E$100,3,FALSE),90) -> 63 | I14: =_xlfn.IFNA(VLOOKUP(TRIM(CONCATENATE(Tableau111[[#This Row],[PRENOM]],Tableau111[[#This Row],[NOM]])),'T5'!$C$5:$E$115,3,FALSE),90) -> 65 | J14: =_xlfn.IFNA(VLOOKUP(TRIM(CONCATENATE(Tableau111[[#This Row],[PRENOM]],Tableau111[[#This Row],[NOM]])),'T6'!$C$5:$E$126,3,FALSE),90) -> 90 | K14: =_xlfn.IFNA(VLOOKUP(TRIM(CONCATENATE(Tableau111[[#This Row],[PRENOM]],Tableau111[[#This Row],[NOM]])),'T7'!$C$5:$E$113,3,FALSE),90) -> 64 | L14: =SUM(E14:K14) -> 470 | M14: =LARGE(E14:K14,1) -> 90 | N14: =LARGE(E14:K14,2) -> 65 | O14: =L14-M14-N14 -> 315 | P14: =RANK(Tableau111[[#This Row],[SCORE Final 2025]],Tableau111[SCORE Final 2025],1) -> 10
B15: VEDEL | C15: Daniel | D15: VAL D'AUZON | E15: =_xlfn.IFNA(VLOOKUP(TRIM(CONCATENATE(Tableau111[[#This Row],[PRENOM]],Tableau111[[#This Row],[NOM]])),'T1'!$C$5:$E$106,3,FALSE),90) -> 90 | F15: =_xlfn.IFNA(VLOOKUP(TRIM(CONCATENATE(Tableau111[[#This Row],[PRENOM]],Tableau111[[#This Row],[NOM]])),'T2'!$C$5:$E$94,3,FALSE),90) -> 65 | G15: =_xlfn.IFNA(VLOOKUP(TRIM(CONCATENATE(Tableau111[[#This Row],[PRENOM]],Tableau111[[#This Row],[NOM]])),'T3'!$C$6:$E$115,3,FALSE),90) -> 68 | H15: =_xlfn.IFNA(VLOOKUP(TRIM(CONCATENATE(Tableau111[[#This Row],[PRENOM]],Tableau111[[#This Row],[NOM]])),'T4'!$C$5:$E$100,3,FALSE),90) -> 90 | I15: =_xlfn.IFNA(VLOOKUP(TRIM(CONCATENATE(Tableau111[[#This Row],[PRENOM]],Tableau111[[#This Row],[NOM]])),'T5'!$C$5:$E$115,3,FALSE),90) -> 66 | J15: =_xlfn.IFNA(VLOOKUP(TRIM(CONCATENATE(Tableau111[[#This Row],[PRENOM]],Tableau111[[#This Row],[NOM]])),'T6'!$C$5:$E$126,3,FALSE),90) -> 66 | K15: =_xlfn.IFNA(VLOOKUP(TRIM(CONCATENATE(Tableau111[[#This Row],[PRENOM]],Tableau111[[#This Row],[NOM]])),'T7'!$C$5:$E$113,3,FALSE),90) -> 61 | L15: =SUM(E15:K15) -> 506 | M15: =LARGE(E15:K15,1) -> 90 | N15: =LARGE(E15:K15,2) -> 90 | O15: =L15-M15-N15 -> 326 | P15: =RANK(Tableau111[[#This Row],[SCORE Final 2025]],Tableau111[SCORE Final 2025],1) -> 11
B16: BRUNEL | C16: Robert | D16: VAL D'AUZON | E16: =_xlfn.IFNA(VLOOKUP(TRIM(CONCATENATE(Tableau111[[#This Row],[PRENOM]],Tableau111[[#This Row],[NOM]])),'T1'!$C$5:$E$106,3,FALSE),90) -> 57 | F16: =_xlfn.IFNA(VLOOKUP(TRIM(CONCATENATE(Tableau111[[#This Row],[PRENOM]],Tableau111[[#This Row],[NOM]])),'T2'!$C$5:$E$94,3,FALSE),90) -> 64 | G16: =_xlfn.IFNA(VLOOKUP(TRIM(CONCATENATE(Tableau111[[#This Row],[PRENOM]],Tableau111[[#This Row],[NOM]])),'T3'!$C$6:$E$115,3,FALSE),90) -> 57 | H16: =_xlfn.IFNA(VLOOKUP(TRIM(CONCATENATE(Tableau111[[#This Row],[PRENOM]],Tableau111[[#This Row],[NOM]])),'T4'!$C$5:$E$100,3,FALSE),90) -> 90 | I16: =_xlfn.IFNA(VLOOKUP(TRIM(CONCATENATE(Tableau111[[#This Row],[PRENOM]],Tableau111[[#This Row],[NOM]])),'T5'!$C$5:$E$115,3,FALSE),90) -> 64 | J16: =_xlfn.IFNA(VLOOKUP(TRIM(CONCATENATE(Tableau111[[#This Row],[PRENOM]],Tableau111[[#This Row],[NOM]])),'T6'!$C$5:$E$126,3,FALSE),90) -> 90 | K16: =_xlfn.IFNA(VLOOKUP(TRIM(CONCATENATE(Tableau111[[#This Row],[PRENOM]],Tableau111[[#This Row],[NOM]])),'T7'!$C$5:$E$113,3,FALSE),90) -> 90 | L16: =SUM(E16:K16) -> 512 | M16: =LARGE(E16:K16,1) -> 90 | N16: =LARGE(E16:K16,2) -> 90 | O16: =L16-M16-N16 -> 332 | P16: =RANK(Tableau111[[#This Row],[SCORE Final 2025]],Tableau111[SCORE Final 2025],1) -> 12
B17: MERCIER | C17: Claude | D17: VAL D'AUZON | E17: =_xlfn.IFNA(VLOOKUP(TRIM(CONCATENATE(Tableau111[[#This Row],[PRENOM]],Tableau111[[#This Row],[NOM]])),'T1'!$C$5:$E$106,3,FALSE),90) -> 68 | F17: =_xlfn.IFNA(VLOOKUP(TRIM(CONCATENATE(Tableau111[[#This Row],[PRENOM]],Tableau111[[#This Row],[NOM]])),'T2'!$C$5:$E$94,3,FALSE),90) -> 68 | G17: =_xlfn.IFNA(VLOOKUP(TRIM(CONCATENATE(Tableau111[[#This Row],[PRENOM]],Tableau111[[#This Row],[NOM]])),'T3'!$C$6:$E$115,3,FALSE),90) -> 64 | H17: =_xlfn.IFNA(VLOOKUP(TRIM(CONCATENATE(Tableau111[[#This Row],[PRENOM]],Tableau111[[#This Row],[NOM]])),'T4'!$C$5:$E$100,3,FALSE),90) -> 90 | I17: =_xlfn.IFNA(VLOOKUP(TRIM(CONCATENATE(Tableau111[[#This Row],[PRENOM]],Tableau111[[#This Row],[NOM]])),'T5'!$C$5:$E$115,3,FALSE),90) -> 90 | J17: =_xlfn.IFNA(VLOOKUP(TRIM(CONCATENATE(Tableau111[[#This Row],[PRENOM]],Tableau111[[#This Row],[NOM]])),'T6'!$C$5:$E$126,3,FALSE),90) -> 68 | K17: =_xlfn.IFNA(VLOOKUP(TRIM(CONCATENATE(Tableau111[[#This Row],[PRENOM]],Tableau111[[#This Row],[NOM]])),'T7'!$C$5:$E$113,3,FALSE),90) -> 66 | L17: =SUM(E17:K17) -> 514 | M17: =LARGE(E17:K17,1) -> 90 | N17: =LARGE(E17:K17,2) -> 90 | O17: =L17-M17-N17 -> 334 | P17: =RANK(Tableau111[[#This Row],[SCORE Final 2025]],Tableau111[SCORE Final 2025],1) -> 13
B18: PEGEON | C18: Jacky | D18: RIOM | E18: =_xlfn.IFNA(VLOOKUP(TRIM(CONCATENATE(Tableau111[[#This Row],[PRENOM]],Tableau111[[#This Row],[NOM]])),'T1'!$C$5:$E$106,3,FALSE),90) -> 66 | F18: =_xlfn.IFNA(VLOOKUP(TRIM(CONCATENATE(Tableau111[[#This Row],[PRENOM]],Tableau111[[#This Row],[NOM]])),'T2'!$C$5:$E$94,3,FALSE),90) -> 66 | G18: =_xlfn.IFNA(VLOOKUP(TRIM(CONCATENATE(Tableau111[[#This Row],[PRENOM]],Tableau111[[#This Row],[NOM]])),'T3'!$C$6:$E$115,3,FALSE),90) -> 73 | H18: =_xlfn.IFNA(VLOOKUP(TRIM(CONCATENATE(Tableau111[[#This Row],[PRENOM]],Tableau111[[#This Row],[NOM]])),'T4'!$C$5:$E$100,3,FALSE),90) -> 90 | I18: =_xlfn.IFNA(VLOOKUP(TRIM(CONCATENATE(Tableau111[[#This Row],[PRENOM]],Tableau111[[#This Row],[NOM]])),'T5'!$C$5:$E$115,3,FALSE),90) -> 66 | J18: =_xlfn.IFNA(VLOOKUP(TRIM(CONCATENATE(Tableau111[[#This Row],[PRENOM]],Tableau111[[#This Row],[NOM]])),'T6'!$C$5:$E$126,3,FALSE),90) -> 90 | K18: =_xlfn.IFNA(VLOOKUP(TRIM(CONCATENATE(Tableau111[[#This Row],[PRENOM]],Tableau111[[#This Row],[NOM]])),'T7'!$C$5:$E$113,3,FALSE),90) -> 66 | L18: =SUM(E18:K18) -> 517 | M18: =LARGE(E18:K18,1) -> 90 | N18: =LARGE(E18:K18,2) -> 90 | O18: =L18-M18-N18 -> 337 | P18: =RANK(Tableau111[[#This Row],[SCORE Final 2025]],Tableau111[SCORE Final 2025],1) -> 14
B19: RODDE | C19: Jean Louis | D19: MAURIAC | E19: =_xlfn.IFNA(VLOOKUP(TRIM(CONCATENATE(Tableau111[[#This Row],[PRENOM]],Tableau111[[#This Row],[NOM]])),'T1'!$C$5:$E$106,3,FALSE),90) -> 90 | F19: =_xlfn.IFNA(VLOOKUP(TRIM(CONCATENATE(Tableau111[[#This Row],[PRENOM]],Tableau111[[#This Row],[NOM]])),'T2'!$C$5:$E$94,3,FALSE),90) -> 66 | G19: =_xlfn.IFNA(VLOOKUP(TRIM(CONCATENATE(Tableau111[[#This Row],[PRENOM]],Tableau111[[#This Row],[NOM]])),'T3'!$C$6:$E$115,3,FALSE),90) -> 53 | H19: =_xlfn.IFNA(VLOOKUP(TRIM(CONCATENATE(Tableau111[[#This Row],[PRENOM]],Tableau111[[#This Row],[NOM]])),'T4'!$C$5:$E$100,3,FALSE),90) -> 65 | I19: =_xlfn.IFNA(VLOOKUP(TRIM(CONCATENATE(Tableau111[[#This Row],[PRENOM]],Tableau111[[#This Row],[NOM]])),'T5'!$C$5:$E$115,3,FALSE),90) -> 90 | J19: =_xlfn.IFNA(VLOOKUP(TRIM(CONCATENATE(Tableau111[[#This Row],[PRENOM]],Tableau111[[#This Row],[NOM]])),'T6'!$C$5:$E$126,3,FALSE),90) -> 66 | K19: =_xlfn.IFNA(VLOOKUP(TRIM(CONCATENATE(Tableau111[[#This Row],[PRENOM]],Tableau111[[#This Row],[NOM]])),'T7'!$C$5:$E$113,3,FALSE),90) -> 90 | L19: =SUM(E19:K19) -> 520 | M19: =LARGE(E19:K19,1) -> 90 | N19: =LARGE(E19:K19,2) -> 90 | O19: =L19-M19-N19 -> 340 | P19: =RANK(Tableau111[[#This Row],[SCORE Final 2025]],Tableau111[SCORE Final 2025],1) -> 15
B20: HESEL | C20: Jean Marc | D20: GAZELEC CLERMONT | E20: =_xlfn.IFNA(VLOOKUP(TRIM(CONCATENATE(Tableau111[[#This Row],[PRENOM]],Tableau111[[#This Row],[NOM]])),'T1'!$C$5:$E$106,3,FALSE),90) -> 62 | F20: =_xlfn.IFNA(VLOOKUP(TRIM(CONCATENATE(Tableau111[[#This Row],[PRENOM]],Tableau111[[#This Row],[NOM]])),'T2'!$C$5:$E$94,3,FALSE),90) -> 61 | G20: =_xlfn.IFNA(VLOOKUP(TRIM(CONCATENATE(Tableau111[[#This Row],[PRENOM]],Tableau111[[#This Row],[NOM]])),'T3'!$C$6:$E$115,3,FALSE),90) -> 64 | H20: =_xlfn.IFNA(VLOOKUP(TRIM(CONCATENATE(Tableau111[[#This Row],[PRENOM]],Tableau111[[#This Row],[NOM]])),'T4'!$C$5:$E$100,3,FALSE),90) -> 90 | I20: =_xlfn.IFNA(VLOOKUP(TRIM(CONCATENATE(Tableau111[[#This Row],[PRENOM]],Tableau111[[#This Row],[NOM]])),'T5'!$C$5:$E$115,3,FALSE),90) -> 90 | J20: =_xlfn.IFNA(VLOOKUP(TRIM(CONCATENATE(Tableau111[[#This Row],[PRENOM]],Tableau111[[#This Row],[NOM]])),'T6'!$C$5:$E$126,3,FALSE),90) -> 67 | K20: =_xlfn.IFNA(VLOOKUP(TRIM(CONCATENATE(Tableau111[[#This Row],[PRENOM]],Tableau111[[#This Row],[NOM]])),'T7'!$C$5:$E$113,3,FALSE),90) -> 90 | L20: =SUM(E20:K20) -> 524 | M20: =LARGE(E20:K20,1) -> 90 | N20: =LARGE(E20:K20,2) -> 90 | O20: =L20-M20-N20 -> 344 | P20: =RANK(Tableau111[[#This Row],[SCORE Final 2025]],Tableau111[SCORE Final 2025],1) -> 16
B21: PIERROT | C21: Daniel | D21: VAL D'AUZON | E21: =_xlfn.IFNA(VLOOKUP(TRIM(CONCATENATE(Tableau111[[#This Row],[PRENOM]],Tableau111[[#This Row],[NOM]])),'T1'!$C$5:$E$106,3,FALSE),90) -> 65 | F21: =_xlfn.IFNA(VLOOKUP(TRIM(CONCATENATE(Tableau111[[#This Row],[PRENOM]],Tableau111[[#This Row],[NOM]])),'T2'!$C$5:$E$94,3,FALSE),90) -> 90 | G21: =_xlfn.IFNA(VLOOKUP(TRIM(CONCATENATE(Tableau111[[#This Row],[PRENOM]],Tableau111[[#This Row],[NOM]])),'T3'!$C$6:$E$115,3,FALSE),90) -> 60 | H21: =_xlfn.IFNA(VLOOKUP(TRIM(CONCATENATE(Tableau111[[#This Row],[PRENOM]],Tableau111[[#This Row],[NOM]])),'T4'!$C$5:$E$100,3,FALSE),90) -> 90 | I21: =_xlfn.IFNA(VLOOKUP(TRIM(CONCATENATE(Tableau111[[#This Row],[PRENOM]],Tableau111[[#This Row],[NOM]])),'T5'!$C$5:$E$115,3,FALSE),90) -> 69 | J21: =_xlfn.IFNA(VLOOKUP(TRIM(CONCATENATE(Tableau111[[#This Row],[PRENOM]],Tableau111[[#This Row],[NOM]])),'T6'!$C$5:$E$126,3,FALSE),90) -> 90 | K21: =_xlfn.IFNA(VLOOKUP(TRIM(CONCATENATE(Tableau111[[#This Row],[PRENOM]],Tableau111[[#This Row],[NOM]])),'T7'!$C$5:$E$113,3,FALSE),90) -> 60 | L21: =SUM(E21:K21) -> 524 | M21: =LARGE(E21:K21,1) -> 90 | N21: =LARGE(E21:K21,2) -> 90 | O21: =L21-M21-N21 -> 344 | P21: =RANK(Tableau111[[#This Row],[SCORE Final 2025]],Tableau111[SCORE Final 2025],1) -> 16
B22: GRAVELIN | C22: Marc | D22: CHARADE | E22: =_xlfn.IFNA(VLOOKUP(TRIM(CONCATENATE(Tableau111[[#This Row],[PRENOM]],Tableau111[[#This Row],[NOM]])),'T1'!$C$5:$E$106,3,FALSE),90) -> 64 | F22: =_xlfn.IFNA(VLOOKUP(TRIM(CONCATENATE(Tableau111[[#This Row],[PRENOM]],Tableau111[[#This Row],[NOM]])),'T2'!$C$5:$E$94,3,FALSE),90) -> 68 | G22: =_xlfn.IFNA(VLOOKUP(TRIM(CONCATENATE(Tableau111[[#This Row],[PRENOM]],Tableau111[[#This Row],[NOM]])),'T3'!$C$6:$E$115,3,FALSE),90) -> 74 | H22: =_xlfn.IFNA(VLOOKUP(TRIM(CONCATENATE(Tableau111[[#This Row],[PRENOM]],Tableau111[[#This Row],[NOM]])),'T4'!$C$5:$E$100,3,FALSE),90) -> 72 | I22: 69 | J22: =_xlfn.IFNA(VLOOKUP(TRIM(CONCATENATE(Tableau111[[#This Row],[PRENOM]],Tableau111[[#This Row],[NOM]])),'T6'!$C$5:$E$126,3,FALSE),90) -> 74 | K22: =_xlfn.IFNA(VLOOKUP(TRIM(CONCATENATE(Tableau111[[#This Row],[PRENOM]],Tableau111[[#This Row],[NOM]])),'T7'!$C$5:$E$113,3,FALSE),90) -> 78 | L22: =SUM(E22:K22) -> 499 | M22: =LARGE(E22:K22,1) -> 78 | N22: =LARGE(E22:K22,2) -> 74 | O22: =L22-M22-N22 -> 347 | P22: =RANK(Tableau111[[#This Row],[SCORE Final 2025]],Tableau111[SCORE Final 2025],1) -> 18
B23: ANAVOISARD | C23: Jacques | D23: VAL D'AUZON | E23: =_xlfn.IFNA(VLOOKUP(TRIM(CONCATENATE(Tableau111[[#This Row],[PRENOM]],Tableau111[[#This Row],[NOM]])),'T1'!$C$5:$E$106,3,FALSE),90) -> 90 | F23: =_xlfn.IFNA(VLOOKUP(TRIM(CONCATENATE(Tableau111[[#This Row],[PRENOM]],Tableau111[[#This Row],[NOM]])),'T2'!$C$5:$E$94,3,FALSE),90) -> 70 | G23: =_xlfn.IFNA(VLOOKUP(TRIM(CONCATENATE(Tableau111[[#This Row],[PRENOM]],Tableau111[[#This Row],[NOM]])),'T3'!$C$6:$E$115,3,FALSE),90) -> 70 | H23: =_xlfn.IFNA(VLOOKUP(TRIM(CONCATENATE(Tableau111[[#This Row],[PRENOM]],Tableau111[[#This Row],[NOM]])),'T4'!$C$5:$E$100,3,FALSE),90) -> 73 | I23: =_xlfn.IFNA(VLOOKUP(TRIM(CONCATENATE(Tableau111[[#This Row],[PRENOM]],Tableau111[[#This Row],[NOM]])),'T5'!$C$5:$E$115,3,FALSE),90) -> 68 | J23: =_xlfn.IFNA(VLOOKUP(TRIM(CONCATENATE(Tableau111[[#This Row],[PRENOM]],Tableau111[[#This Row],[NOM]])),'T6'!$C$5:$E$126,3,FALSE),90) -> 70 | K23: =_xlfn.IFNA(VLOOKUP(TRIM(CONCATENATE(Tableau111[[#This Row],[PRENOM]],Tableau111[[#This Row],[NOM]])),'T7'!$C$5:$E$113,3,FALSE),90) -> 75 | L23: =SUM(E23:K23) -> 516 | M23: =LARGE(E23:K23,1) -> 90 | N23: =LARGE(E23:K23,2) -> 75 | O23: =L23-M23-N23 -> 351 | P23: =RANK(Tableau111[[#This Row],[SCORE Final 2025]],Tableau111[SCORE Final 2025],1) -> 19
B24: LABAUNE | C24: Michel | D24: MAURIAC | E24: =_xlfn.IFNA(VLOOKUP(TRIM(CONCATENATE(Tableau111[[#This Row],[PRENOM]],Tableau111[[#This Row],[NOM]])),'T1'!$C$5:$E$106,3,FALSE),90) -> 68 | F24: =_xlfn.IFNA(VLOOKUP(TRIM(CONCATENATE(Tableau111[[#This Row],[PRENOM]],Tableau111[[#This Row],[NOM]])),'T2'!$C$5:$E$94,3,FALSE),90) -> 90 | G24: =_xlfn.IFNA(VLOOKUP(TRIM(CONCATENATE(Tableau111[[#This Row],[PRENOM]],Tableau111[[#This Row],[NOM]])),'T3'!$C$6:$E$115,3,FALSE),90) -> 68 | H24: =_xlfn.IFNA(VLOOKUP(TRIM(CONCATENATE(Tableau111[[#This Row],[PRENOM]],Tableau111[[#This Row],[NOM]])),'T4'!$C$5:$E$100,3,FALSE),90) -> 77 | I24: =_xlfn.IFNA(VLOOKUP(TRIM(CONCATENATE(Tableau111[[#This Row],[PRENOM]],Tableau111[[#This Row],[NOM]])),'T5'!$C$5:$E$115,3,FALSE),90) -> 69 | J24: =_xlfn.IFNA(VLOOKUP(TRIM(CONCATENATE(Tableau111[[#This Row],[PRENOM]],Tableau111[[#This Row],[NOM]])),'T6'!$C$5:$E$126,3,FALSE),90) -> 72 | K24: =_xlfn.IFNA(VLOOKUP(TRIM(CONCATENATE(Tableau111[[#This Row],[PRENOM]],Tableau111[[#This Row],[NOM]])),'T7'!$C$5:$E$113,3,FALSE),90) -> 74 | L24: =SUM(E24:K24) -> 518 | M24: =LARGE(E24:K24,1) -> 90 | N24: =LARGE(E24:K24,2) -> 77 | O24: =L24-M24-N24 -> 351 | P24: =RANK(Tableau111[[#This Row],[SCORE Final 2025]],Tableau111[SCORE Final 2025],1) -> 19
B25: CUVIER | C25: Philippe | D25: VAL D'AUZON | E25: =_xlfn.IFNA(VLOOKUP(TRIM(CONCATENATE(Tableau111[[#This Row],[PRENOM]],Tableau111[[#This Row],[NOM]])),'T1'!$C$5:$E$106,3,FALSE),90) -> 67 | F25: =_xlfn.IFNA(VLOOKUP(TRIM(CONCATENATE(Tableau111[[#This Row],[PRENOM]],Tableau111[[#This Row],[NOM]])),'T2'!$C$5:$E$94,3,FALSE),90) -> 90 | G25: =_xlfn.IFNA(VLOOKUP(TRIM(CONCATENATE(Tableau111[[#This Row],[PRENOM]],Tableau111[[#This Row],[NOM]])),'T3'!$C$6:$E$115,3,FALSE),90) -> 59 | H25: =_xlfn.IFNA(VLOOKUP(TRIM(CONCATENATE(Tableau111[[#This Row],[PRENOM]],Tableau111[[#This Row],[NOM]])),'T4'!$C$5:$E$100,3,FALSE),90) -> 90 | I25: =_xlfn.IFNA(VLOOKUP(TRIM(CONCATENATE(Tableau111[[#This Row],[PRENOM]],Tableau111[[#This Row],[NOM]])),'T5'!$C$5:$E$115,3,FALSE),90) -> 64 | J25: =_xlfn.IFNA(VLOOKUP(TRIM(CONCATENATE(Tableau111[[#This Row],[PRENOM]],Tableau111[[#This Row],[NOM]])),'T6'!$C$5:$E$126,3,FALSE),90) -> 72 | K25: =_xlfn.IFNA(VLOOKUP(TRIM(CONCATENATE(Tableau111[[#This Row],[PRENOM]],Tableau111[[#This Row],[NOM]])),'T7'!$C$5:$E$113,3,FALSE),90) -> 90 | L25: =SUM(E25:K25) -> 532 | M25: =LARGE(E25:K25,1) -> 90 | N25: =LARGE(E25:K25,2) -> 90 | O25: =L25-M25-N25 -> 352 | P25: =RANK(Tableau111[[#This Row],[SCORE Final 2025]],Tableau111[SCORE Final 2025],1) -> 21
B26: FAURIE | C26: Jean-Michel | D26: VAL D'AUZON | E26: =_xlfn.IFNA(VLOOKUP(TRIM(CONCATENATE(Tableau111[[#This Row],[PRENOM]],Tableau111[[#This Row],[NOM]])),'T1'!$C$5:$E$106,3,FALSE),90) -> 90 | F26: =_xlfn.IFNA(VLOOKUP(TRIM(CONCATENATE(Tableau111[[#This Row],[PRENOM]],Tableau111[[#This Row],[NOM]])),'T2'!$C$5:$E$94,3,FALSE),90) -> 69 | G26: =_xlfn.IFNA(VLOOKUP(TRIM(CONCATENATE(Tableau111[[#This Row],[PRENOM]],Tableau111[[#This Row],[NOM]])),'T3'!$C$6:$E$115,3,FALSE),90) -> 67 | H26: =_xlfn.IFNA(VLOOKUP(TRIM(CONCATENATE(Tableau111[[#This Row],[PRENOM]],Tableau111[[#This Row],[NOM]])),'T4'!$C$5:$E$100,3,FALSE),90) -> 71 | I26: =_xlfn.IFNA(VLOOKUP(TRIM(CONCATENATE(Tableau111[[#This Row],[PRENOM]],Tableau111[[#This Row],[NOM]])),'T5'!$C$5:$E$115,3,FALSE),90) -> 75 | J26: =_xlfn.IFNA(VLOOKUP(TRIM(CONCATENATE(Tableau111[[#This Row],[PRENOM]],Tableau111[[#This Row],[NOM]])),'T6'!$C$5:$E$126,3,FALSE),90) -> 71 | K26: =_xlfn.IFNA(VLOOKUP(TRIM(CONCATENATE(Tableau111[[#This Row],[PRENOM]],Tableau111[[#This Row],[NOM]])),'T7'!$C$5:$E$113,3,FALSE),90) -> 90 | L26: =SUM(E26:K26) -> 533 | M26: =LARGE(E26:K26,1) -> 90 | N26: =LARGE(E26:K26,2) -> 90 | O26: =L26-M26-N26 -> 353 | P26: =RANK(Tableau111[[#This Row],[SCORE Final 2025]],Tableau111[SCORE Final 2025],1) -> 22
B27: GAILLARD | C27: Hervé | D27: CHARADE | E27: =_xlfn.IFNA(VLOOKUP(TRIM(CONCATENATE(Tableau111[[#This Row],[PRENOM]],Tableau111[[#This Row],[NOM]])),'T1'!$C$5:$E$106,3,FALSE),90) -> 90 | F27: =_xlfn.IFNA(VLOOKUP(TRIM(CONCATENATE(Tableau111[[#This Row],[PRENOM]],Tableau111[[#This Row],[NOM]])),'T2'!$C$5:$E$94,3,FALSE),90) -> 90 | G27: =_xlfn.IFNA(VLOOKUP(TRIM(CONCATENATE(Tableau111[[#This Row],[PRENOM]],Tableau111[[#This Row],[NOM]])),'T3'!$C$6:$E$115,3,FALSE),90) -> 60 | H27: =_xlfn.IFNA(VLOOKUP(TRIM(CONCATENATE(Tableau111[[#This Row],[PRENOM]],Tableau111[[#This Row],[NOM]])),'T4'!$C$5:$E$100,3,FALSE),90) -> 90 | I27: =_xlfn.IFNA(VLOOKUP(TRIM(CONCATENATE(Tableau111[[#This Row],[PRENOM]],Tableau111[[#This Row],[NOM]])),'T5'!$C$5:$E$115,3,FALSE),90) -> 90 | J27: =_xlfn.IFNA(VLOOKUP(TRIM(CONCATENATE(Tableau111[[#This Row],[PRENOM]],Tableau111[[#This Row],[NOM]])),'T6'!$C$5:$E$126,3,FALSE),90) -> 57 | K27: =_xlfn.IFNA(VLOOKUP(TRIM(CONCATENATE(Tableau111[[#This Row],[PRENOM]],Tableau111[[#This Row],[NOM]])),'T7'!$C$5:$E$113,3,FALSE),90) -> 58 | L27: =SUM(E27:K27) -> 535 | M27: =LARGE(E27:K27,1) -> 90 | N27: =LARGE(E27:K27,2) -> 90 | O27: =L27-M27-N27 -> 355 | P27: =RANK(Tableau111[[#This Row],[SCORE Final 2025]],Tableau111[SCORE Final 2025],1) -> 23
B28: RAYNIERE | C28: Pierre Jean | D28: MAURIAC | E28: =_xlfn.IFNA(VLOOKUP(TRIM(CONCATENATE(Tableau111[[#This Row],[PRENOM]],Tableau111[[#This Row],[NOM]])),'T1'!$C$5:$E$106,3,FALSE),90) -> 90 | F28: =_xlfn.IFNA(VLOOKUP(TRIM(CONCATENATE(Tableau111[[#This Row],[PRENOM]],Tableau111[[#This Row],[NOM]])),'T2'!$C$5:$E$94,3,FALSE),90) -> 76 | G28: =_xlfn.IFNA(VLOOKUP(TRIM(CONCATENATE(Tableau111[[#This Row],[PRENOM]],Tableau111[[#This Row],[NOM]])),'T3'!$C$6:$E$115,3,FALSE),90) -> 70 | H28: =_xlfn.IFNA(VLOOKUP(TRIM(CONCATENATE(Tableau111[[#This Row],[PRENOM]],Tableau111[[#This Row],[NOM]])),'T4'!$C$5:$E$100,3,FALSE),90) -> 75 | I28: =_xlfn.IFNA(VLOOKUP(TRIM(CONCATENATE(Tableau111[[#This Row],[PRENOM]],Tableau111[[#This Row],[NOM]])),'T5'!$C$5:$E$115,3,FALSE),90) -> 65 | J28: =_xlfn.IFNA(VLOOKUP(TRIM(CONCATENATE(Tableau111[[#This Row],[PRENOM]],Tableau111[[#This Row],[NOM]])),'T6'!$C$5:$E$126,3,FALSE),90) -> 69 | K28: =_xlfn.IFNA(VLOOKUP(TRIM(CONCATENATE(Tableau111[[#This Row],[PRENOM]],Tableau111[[#This Row],[NOM]])),'T7'!$C$5:$E$113,3,FALSE),90) -> 90 | L28: =SUM(E28:K28) -> 535 | M28: =LARGE(E28:K28,1) -> 90 | N28: =LARGE(E28:K28,2) -> 90 | O28: =L28-M28-N28 -> 355 | P28: =RANK(Tableau111[[#This Row],[SCORE Final 2025]],Tableau111[SCORE Final 2025],1) -> 23
B29: MANOUVRIER | C29: Michel | D29: GAZELEC CLERMONT | E29: =_xlfn.IFNA(VLOOKUP(TRIM(CONCATENATE(Tableau111[[#This Row],[PRENOM]],Tableau111[[#This Row],[NOM]])),'T1'!$C$5:$E$106,3,FALSE),90) -> 64 | F29: =_xlfn.IFNA(VLOOKUP(TRIM(CONCATENATE(Tableau111[[#This Row],[PRENOM]],Tableau111[[#This Row],[NOM]])),'T2'!$C$5:$E$94,3,FALSE),90) -> 72 | G29: =_xlfn.IFNA(VLOOKUP(TRIM(CONCATENATE(Tableau111[[#This Row],[PRENOM]],Tableau111[[#This Row],[NOM]])),'T3'!$C$6:$E$115,3,FALSE),90) -> 90 | H29: =_xlfn.IFNA(VLOOKUP(TRIM(CONCATENATE(Tableau111[[#This Row],[PRENOM]],Tableau111[[#This Row],[NOM]])),'T4'!$C$5:$E$100,3,FALSE),90) -> 80 | I29: =_xlfn.IFNA(VLOOKUP(TRIM(CONCATENATE(Tableau111[[#This Row],[PRENOM]],Tableau111[[#This Row],[NOM]])),'T5'!$C$5:$E$115,3,FALSE),90) -> 72 | J29: =_xlfn.IFNA(VLOOKUP(TRIM(CONCATENATE(Tableau111[[#This Row],[PRENOM]],Tableau111[[#This Row],[NOM]])),'T6'!$C$5:$E$126,3,FALSE),90) -> 77 | K29: =_xlfn.IFNA(VLOOKUP(TRIM(CONCATENATE(Tableau111[[#This Row],[PRENOM]],Tableau111[[#This Row],[NOM]])),'T7'!$C$5:$E$113,3,FALSE),90) -> 71 | L29: =SUM(E29:K29) -> 526 | M29: =LARGE(E29:K29,1) -> 90 | N29: =LARGE(E29:K29,2) -> 80 | O29: =L29-M29-N29 -> 356 | P29: =RANK(Tableau111[[#This Row],[SCORE Final 2025]],Tableau111[SCORE Final 2025],1) -> 25
B30: ROBERT | C30: Serge | D30: CHARADE | E30: =_xlfn.IFNA(VLOOKUP(TRIM(CONCATENATE(Tableau111[[#This Row],[PRENOM]],Tableau111[[#This Row],[NOM]])),'T1'!$C$5:$E$106,3,FALSE),90) -> 65 | F30: =_xlfn.IFNA(VLOOKUP(TRIM(CONCATENATE(Tableau111[[#This Row],[PRENOM]],Tableau111[[#This Row],[NOM]])),'T2'!$C$5:$E$94,3,FALSE),90) -> 90 | G30: =_xlfn.IFNA(VLOOKUP(TRIM(CONCATENATE(Tableau111[[#This Row],[PRENOM]],Tableau111[[#This Row],[NOM]])),'T3'!$C$6:$E$115,3,FALSE),90) -> 90 | H30: =_xlfn.IFNA(VLOOKUP(TRIM(CONCATENATE(Tableau111[[#This Row],[PRENOM]],Tableau111[[#This Row],[NOM]])),'T4'!$C$5:$E$100,3,FALSE),90) -> 77 | I30: =_xlfn.IFNA(VLOOKUP(TRIM(CONCATENATE(Tableau111[[#This Row],[PRENOM]],Tableau111[[#This Row],[NOM]])),'T5'!$C$5:$E$115,3,FALSE),90) -> 66 | J30: =_xlfn.IFNA(VLOOKUP(TRIM(CONCATENATE(Tableau111[[#This Row],[PRENOM]],Tableau111[[#This Row],[NOM]])),'T6'!$C$5:$E$126,3,FALSE),90) -> 90 | K30: =_xlfn.IFNA(VLOOKUP(TRIM(CONCATENATE(Tableau111[[#This Row],[PRENOM]],Tableau111[[#This Row],[NOM]])),'T7'!$C$5:$E$113,3,FALSE),90) -> 60 | L30: =SUM(E30:K30) -> 538 | M30: =LARGE(E30:K30,1) -> 90 | N30: =LARGE(E30:K30,2) -> 90 | O30: =L30-M30-N30 -> 358 | P30: =RANK(Tableau111[[#This Row],[SCORE Final 2025]],Tableau111[SCORE Final 2025],1) -> 26
B31: FOURNIER | C31: Philippe | D31: VAL D'AUZON | E31: =_xlfn.IFNA(VLOOKUP(TRIM(CONCATENATE(Tableau111[[#This Row],[PRENOM]],Tableau111[[#This Row],[NOM]])),'T1'!$C$5:$E$106,3,FALSE),90) -> 90 | F31: =_xlfn.IFNA(VLOOKUP(TRIM(CONCATENATE(Tableau111[[#This Row],[PRENOM]],Tableau111[[#This Row],[NOM]])),'T2'!$C$5:$E$94,3,FALSE),90) -> 90 | G31: =_xlfn.IFNA(VLOOKUP(TRIM(CONCATENATE(Tableau111[[#This Row],[PRENOM]],Tableau111[[#This Row],[NOM]])),'T3'!$C$6:$E$115,3,FALSE),90) -> 59 | H31: =_xlfn.IFNA(VLOOKUP(TRIM(CONCATENATE(Tableau111[[#This Row],[PRENOM]],Tableau111[[#This Row],[NOM]])),'T4'!$C$5:$E$100,3,FALSE),90) -> 90 | I31: =_xlfn.IFNA(VLOOKUP(TRIM(CONCATENATE(Tableau111[[#This Row],[PRENOM]],Tableau111[[#This Row],[NOM]])),'T5'!$C$5:$E$115,3,FALSE),90) -> 59 | J31: =_xlfn.IFNA(VLOOKUP(TRIM(CONCATENATE(Tableau111[[#This Row],[PRENOM]],Tableau111[[#This Row],[NOM]])),'T6'!$C$5:$E$126,3,FALSE),90) -> 62 | K31: =_xlfn.IFNA(VLOOKUP(TRIM(CONCATENATE(Tableau111[[#This Row],[PRENOM]],Tableau111[[#This Row],[NOM]])),'T7'!$C$5:$E$113,3,FALSE),90) -> 90 | L31: =SUM(E31:K31) -> 540 | M31: =LARGE(E31:K31,1) -> 90 | N31: =LARGE(E31:K31,2) -> 90 | O31: =L31-M31-N31 -> 360 | P31: =RANK(Tableau111[[#This Row],[SCORE Final 2025]],Tableau111[SCORE Final 2025],1) -> 27
B32: LOUBAT | C32: Jean | D32: CHARADE | E32: =_xlfn.IFNA(VLOOKUP(TRIM(CONCATENATE(Tableau111[[#This Row],[PRENOM]],Tableau111[[#This Row],[NOM]])),'T1'!$C$5:$E$106,3,FALSE),90) -> 68 | F32: =_xlfn.IFNA(VLOOKUP(TRIM(CONCATENATE(Tableau111[[#This Row],[PRENOM]],Tableau111[[#This Row],[NOM]])),'T2'!$C$5:$E$94,3,FALSE),90) -> 90 | G32: =_xlfn.IFNA(VLOOKUP(TRIM(CONCATENATE(Tableau111[[#This Row],[PRENOM]],Tableau111[[#This Row],[NOM]])),'T3'!$C$6:$E$115,3,FALSE),90) -> 67 | H32: =_xlfn.IFNA(VLOOKUP(TRIM(CONCATENATE(Tableau111[[#This Row],[PRENOM]],Tableau111[[#This Row],[NOM]])),'T4'!$C$5:$E$100,3,FALSE),90) -> 90 | I32: 90 | J32: =_xlfn.IFNA(VLOOKUP(TRIM(CONCATENATE(Tableau111[[#This Row],[PRENOM]],Tableau111[[#This Row],[NOM]])),'T6'!$C$5:$E$126,3,FALSE),90) -> 72 | K32: =_xlfn.IFNA(VLOOKUP(TRIM(CONCATENATE(Tableau111[[#This Row],[PRENOM]],Tableau111[[#This Row],[NOM]])),'T7'!$C$5:$E$113,3,FALSE),90) -> 63 | L32: =SUM(E32:K32) -> 540 | M32: =LARGE(E32:K32,1) -> 90 | N32: =LARGE(E32:K32,2) -> 90 | O32: =L32-M32-N32 -> 360 | P32: =RANK(Tableau111[[#This Row],[SCORE Final 2025]],Tableau111[SCORE Final 2025],1) -> 27
B33: CLUZEL | C33: Jean Claude | D33: RIOM | E33: =_xlfn.IFNA(VLOOKUP(TRIM(CONCATENATE(Tableau111[[#This Row],[PRENOM]],Tableau111[[#This Row],[NOM]])),'T1'!$C$5:$E$106,3,FALSE),90) -> 64 | F33: =_xlfn.IFNA(VLOOKUP(TRIM(CONCATENATE(Tableau111[[#This Row],[PRENOM]],Tableau111[[#This Row],[NOM]])),'T2'!$C$5:$E$94,3,FALSE),90) -> 90 | G33: =_xlfn.IFNA(VLOOKUP(TRIM(CONCATENATE(Tableau111[[#This Row],[PRENOM]],Tableau111[[#This Row],[NOM]])),'T3'!$C$6:$E$115,3,FALSE),90) -> 57 | H33: =_xlfn.IFNA(VLOOKUP(TRIM(CONCATENATE(Tableau111[[#This Row],[PRENOM]],Tableau111[[#This Row],[NOM]])),'T4'!$C$5:$E$100,3,FALSE),90) -> 90 | I33: =_xlfn.IFNA(VLOOKUP(TRIM(CONCATENATE(Tableau111[[#This Row],[PRENOM]],Tableau111[[#This Row],[NOM]])),'T5'!$C$5:$E$115,3,FALSE),90) -> 90 | J33: =_xlfn.IFNA(VLOOKUP(TRIM(CONCATENATE(Tableau111[[#This Row],[PRENOM]],Tableau111[[#This Row],[NOM]])),'T6'!$C$5:$E$126,3,FALSE),90) -> 66 | K33: =_xlfn.IFNA(VLOOKUP(TRIM(CONCATENATE(Tableau111[[#This Row],[PRENOM]],Tableau111[[#This Row],[NOM]])),'T7'!$C$5:$E$113,3,FALSE),90) -> 90 | L33: =SUM(E33:K33) -> 547 | M33: =LARGE(E33:K33,1) -> 90 | N33: =LARGE(E33:K33,2) -> 90 | O33: =L33-M33-N33 -> 367 | P33: =RANK(Tableau111[[#This Row],[SCORE Final 2025]],Tableau111[SCORE Final 2025],1) -> 29
B34: SOU AH Y | C34: Christophe | D34: VAL D'AUZON | E34: =_xlfn.IFNA(VLOOKUP(TRIM(CONCATENATE(Tableau111[[#This Row],[PRENOM]],Tableau111[[#This Row],[NOM]])),'T1'!$C$5:$E$106,3,FALSE),90) -> 90 | F34: =_xlfn.IFNA(VLOOKUP(TRIM(CONCATENATE(Tableau111[[#This Row],[PRENOM]],Tableau111[[#This Row],[NOM]])),'T2'!$C$5:$E$94,3,FALSE),90) -> 90 | G34: =_xlfn.IFNA(VLOOKUP(TRIM(CONCATENATE(Tableau111[[#This Row],[PRENOM]],Tableau111[[#This Row],[NOM]])),'T3'!$C$6:$E$115,3,FALSE),90) -> 90 | H34: =_xlfn.IFNA(VLOOKUP(TRIM(CONCATENATE(Tableau111[[#This Row],[PRENOM]],Tableau111[[#This Row],[NOM]])),'T4'!$C$5:$E$100,3,FALSE),90) -> 90 | I34: =_xlfn.IFNA(VLOOKUP(TRIM(CONCATENATE(Tableau111[[#This Row],[PRENOM]],Tableau111[[#This Row],[NOM]])),'T5'!$C$5:$E$115,3,FALSE),90) -> 67 | J34: =_xlfn.IFNA(VLOOKUP(TRIM(CONCATENATE(Tableau111[[#This Row],[PRENOM]],Tableau111[[#This Row],[NOM]])),'T6'!$C$5:$E$126,3,FALSE),90) -> 60 | K34: =_xlfn.IFNA(VLOOKUP(TRIM(CONCATENATE(Tableau111[[#This Row],[PRENOM]],Tableau111[[#This Row],[NOM]])),'T7'!$C$5:$E$113,3,FALSE),90) -> 63 | L34: =SUM(E34:K34) -> 550 | M34: =LARGE(E34:K34,1) -> 90 | N34: =LARGE(E34:K34,2) -> 90 | O34: =L34-M34-N34 -> 370 | P34: =RANK(Tableau111[[#This Row],[SCORE Final 2025]],Tableau111[SCORE Final 2025],1) -> 30
B35: FONTANON | C35: Serge | D35: GAZELEC CLERMONT | E35: =_xlfn.IFNA(VLOOKUP(TRIM(CONCATENATE(Tableau111[[#This Row],[PRENOM]],Tableau111[[#This Row],[NOM]])),'T1'!$C$5:$E$106,3,FALSE),90) -> 90 | F35: =_xlfn.IFNA(VLOOKUP(TRIM(CONCATENATE(Tableau111[[#This Row],[PRENOM]],Tableau111[[#This Row],[NOM]])),'T2'!$C$5:$E$94,3,FALSE),90) -> 90 | G35: =_xlfn.IFNA(VLOOKUP(TRIM(CONCATENATE(Tableau111[[#This Row],[PRENOM]],Tableau111[[#This Row],[NOM]])),'T3'!$C$6:$E$115,3,FALSE),90) -> 70 | H35: =_xlfn.IFNA(VLOOKUP(TRIM(CONCATENATE(Tableau111[[#This Row],[PRENOM]],Tableau111[[#This Row],[NOM]])),'T4'!$C$5:$E$100,3,FALSE),90) -> 72 | I35: =_xlfn.IFNA(VLOOKUP(TRIM(CONCATENATE(Tableau111[[#This Row],[PRENOM]],Tableau111[[#This Row],[NOM]])),'T5'!$C$5:$E$115,3,FALSE),90) -> 71 | J35: =_xlfn.IFNA(VLOOKUP(TRIM(CONCATENATE(Tableau111[[#This Row],[PRENOM]],Tableau111[[#This Row],[NOM]])),'T6'!$C$5:$E$126,3,FALSE),90) -> 71 | K35: =_xlfn.IFNA(VLOOKUP(TRIM(CONCATENATE(Tableau111[[#This Row],[PRENOM]],Tableau111[[#This Row],[NOM]])),'T7'!$C$5:$E$113,3,FALSE),90) -> 90 | L35: =SUM(E35:K35) -> 554 | M35: =LARGE(E35:K35,1) -> 90 | N35: =LARGE(E35:K35,2) -> 90 | O35: =L35-M35-N35 -> 374 | P35: =RANK(Tableau111[[#This Row],[SCORE Final 2025]],Tableau111[SCORE Final 2025],1) -> 31
B36: FLORENCIO | C36: Georges | D36: GAZELEC CLERMONT | E36: =_xlfn.IFNA(VLOOKUP(TRIM(CONCATENATE(Tableau111[[#This Row],[PRENOM]],Tableau111[[#This Row],[NOM]])),'T1'!$C$5:$E$106,3,FALSE),90) -> 90 | F36: =_xlfn.IFNA(VLOOKUP(TRIM(CONCATENATE(Tableau111[[#This Row],[PRENOM]],Tableau111[[#This Row],[NOM]])),'T2'!$C$5:$E$94,3,FALSE),90) -> 90 | G36: =_xlfn.IFNA(VLOOKUP(TRIM(CONCATENATE(Tableau111[[#This Row],[PRENOM]],Tableau111[[#This Row],[NOM]])),'T3'!$C$6:$E$115,3,FALSE),90) -> 90 | H36: =_xlfn.IFNA(VLOOKUP(TRIM(CONCATENATE(Tableau111[[#This Row],[PRENOM]],Tableau111[[#This Row],[NOM]])),'T4'!$C$5:$E$100,3,FALSE),90) -> 71 | I36: =_xlfn.IFNA(VLOOKUP(TRIM(CONCATENATE(Tableau111[[#This Row],[PRENOM]],Tableau111[[#This Row],[NOM]])),'T5'!$C$5:$E$115,3,FALSE),90) -> 66 | J36: =_xlfn.IFNA(VLOOKUP(TRIM(CONCATENATE(Tableau111[[#This Row],[PRENOM]],Tableau111[[#This Row],[NOM]])),'T6'!$C$5:$E$126,3,FALSE),90) -> 90 | K36: =_xlfn.IFNA(VLOOKUP(TRIM(CONCATENATE(Tableau111[[#This Row],[PRENOM]],Tableau111[[#This Row],[NOM]])),'T7'!$C$5:$E$113,3,FALSE),90) -> 61 | L36: =SUM(E36:K36) -> 558 | M36: =LARGE(E36:K36,1) -> 90 | N36: =LARGE(E36:K36,2) -> 90 | O36: =L36-M36-N36 -> 378 | P36: =RANK(Tableau111[[#This Row],[SCORE Final 2025]],Tableau111[SCORE Final 2025],1) -> 32
B37: GEBRILLAT | C37: Maël | D37: VAL D'AUZON | E37: =_xlfn.IFNA(VLOOKUP(TRIM(CONCATENATE(Tableau111[[#This Row],[PRENOM]],Tableau111[[#This Row],[NOM]])),'T1'!$C$5:$E$106,3,FALSE),90) -> 90 | F37: =_xlfn.IFNA(VLOOKUP(TRIM(CONCATENATE(Tableau111[[#This Row],[PRENOM]],Tableau111[[#This Row],[NOM]])),'T2'!$C$5:$E$94,3,FALSE),90) -> 68 | G37: =_xlfn.IFNA(VLOOKUP(TRIM(CONCATENATE(Tableau111[[#This Row],[PRENOM]],Tableau111[[#This Row],[NOM]])),'T3'!$C$6:$E$115,3,FALSE),90) -> 90 | H37: =_xlfn.IFNA(VLOOKUP(TRIM(CONCATENATE(Tableau111[[#This Row],[PRENOM]],Tableau111[[#This Row],[NOM]])),'T4'!$C$5:$E$100,3,FALSE),90) -> 90 | I37: =_xlfn.IFNA(VLOOKUP(TRIM(CONCATENATE(Tableau111[[#This Row],[PRENOM]],Tableau111[[#This Row],[NOM]])),'T5'!$C$5:$E$115,3,FALSE),90) -> 90 | J37: =_xlfn.IFNA(VLOOKUP(TRIM(CONCATENATE(Tableau111[[#This Row],[PRENOM]],Tableau111[[#This Row],[NOM]])),'T6'!$C$5:$E$126,3,FALSE),90) -> 67 | K37: =_xlfn.IFNA(VLOOKUP(TRIM(CONCATENATE(Tableau111[[#This Row],[PRENOM]],Tableau111[[#This Row],[NOM]])),'T7'!$C$5:$E$113,3,FALSE),90) -> 69 | L37: =SUM(E37:K37) -> 564 | M37: =LARGE(E37:K37,1) -> 90 | N37: =LARGE(E37:K37,2) -> 90 | O37: =L37-M37-N37 -> 384 | P37: =RANK(Tableau111[[#This Row],[SCORE Final 2025]],Tableau111[SCORE Final 2025],1) -> 33
B38: POMARES | C38: Michel | D38: MONTPENSIER | E38: =_xlfn.IFNA(VLOOKUP(TRIM(CONCATENATE(Tableau111[[#This Row],[PRENOM]],Tableau111[[#This Row],[NOM]])),'T1'!$C$5:$E$106,3,FALSE),90) -> 90 | F38: =_xlfn.IFNA(VLOOKUP(TRIM(CONCATENATE(Tableau111[[#This Row],[PRENOM]],Tableau111[[#This Row],[NOM]])),'T2'!$C$5:$E$94,3,FALSE),90) -> 90 | G38: =_xlfn.IFNA(VLOOKUP(TRIM(CONCATENATE(Tableau111[[#This Row],[PRENOM]],Tableau111[[#This Row],[NOM]])),'T3'!$C$6:$E$115,3,FALSE),90) -> 90 | H38: =_xlfn.IFNA(VLOOKUP(TRIM(CONCATENATE(Tableau111[[#This Row],[PRENOM]],Tableau111[[#This Row],[NOM]])),'T4'!$C$5:$E$100,3,FALSE),90) -> 90 | I38: =_xlfn.IFNA(VLOOKUP(TRIM(CONCATENATE(Tableau111[[#This Row],[PRENOM]],Tableau111[[#This Row],[NOM]])),'T5'!$C$5:$E$115,3,FALSE),90) -> 90 | J38: =_xlfn.IFNA(VLOOKUP(TRIM(CONCATENATE(Tableau111[[#This Row],[PRENOM]],Tableau111[[#This Row],[NOM]])),'T6'!$C$5:$E$126,3,FALSE),90) -> 62 | K38: =_xlfn.IFNA(VLOOKUP(TRIM(CONCATENATE(Tableau111[[#This Row],[PRENOM]],Tableau111[[#This Row],[NOM]])),'T7'!$C$5:$E$113,3,FALSE),90) -> 53 | L38: =SUM(E38:K38) -> 565 | M38: =LARGE(E38:K38,1) -> 90 | N38: =LARGE(E38:K38,2) -> 90 | O38: =L38-M38-N38 -> 385 | P38: =RANK(Tableau111[[#This Row],[SCORE Final 2025]],Tableau111[SCORE Final 2025],1) -> 34
B39: LAPERNA | C39: Jean Claude | D39: RIOM | E39: =_xlfn.IFNA(VLOOKUP(TRIM(CONCATENATE(Tableau111[[#This Row],[PRENOM]],Tableau111[[#This Row],[NOM]])),'T1'!$C$5:$E$106,3,FALSE),90) -> 90 | F39: =_xlfn.IFNA(VLOOKUP(TRIM(CONCATENATE(Tableau111[[#This Row],[PRENOM]],Tableau111[[#This Row],[NOM]])),'T2'!$C$5:$E$94,3,FALSE),90) -> 90 | G39: =_xlfn.IFNA(VLOOKUP(TRIM(CONCATENATE(Tableau111[[#This Row],[PRENOM]],Tableau111[[#This Row],[NOM]])),'T3'!$C$6:$E$115,3,FALSE),90) -> 90 | H39: =_xlfn.IFNA(VLOOKUP(TRIM(CONCATENATE(Tableau111[[#This Row],[PRENOM]],Tableau111[[#This Row],[NOM]])),'T4'!$C$5:$E$100,3,FALSE),90) -> 90 | I39: =_xlfn.IFNA(VLOOKUP(TRIM(CONCATENATE(Tableau111[[#This Row],[PRENOM]],Tableau111[[#This Row],[NOM]])),'T5'!$C$5:$E$115,3,FALSE),90) -> 90 | J39: =_xlfn.IFNA(VLOOKUP(TRIM(CONCATENATE(Tableau111[[#This Row],[PRENOM]],Tableau111[[#This Row],[NOM]])),'T6'!$C$5:$E$126,3,FALSE),90) -> 61 | K39: =_xlfn.IFNA(VLOOKUP(TRIM(CONCATENATE(Tableau111[[#This Row],[PRENOM]],Tableau111[[#This Row],[NOM]])),'T7'!$C$5:$E$113,3,FALSE),90) -> 55 | L39: =SUM(E39:K39) -> 566 | M39: =LARGE(E39:K39,1) -> 90 | N39: =LARGE(E39:K39,2) -> 90 | O39: =L39-M39-N39 -> 386 | P39: =RANK(Tableau111[[#This Row],[SCORE Final 2025]],Tableau111[SCORE Final 2025],1) -> 35
B40: SAVOIE | C40: Philippe | D40: VAL D'AUZON | E40: =_xlfn.IFNA(VLOOKUP(TRIM(CONCATENATE(Tableau111[[#This Row],[PRENOM]],Tableau111[[#This Row],[NOM]])),'T1'!$C$5:$E$106,3,FALSE),90) -> 90 | F40: =_xlfn.IFNA(VLOOKUP(TRIM(CONCATENATE(Tableau111[[#This Row],[PRENOM]],Tableau111[[#This Row],[NOM]])),'T2'!$C$5:$E$94,3,FALSE),90) -> 90 | G40: =_xlfn.IFNA(VLOOKUP(TRIM(CONCATENATE(Tableau111[[#This Row],[PRENOM]],Tableau111[[#This Row],[NOM]])),'T3'!$C$6:$E$115,3,FALSE),90) -> 90 | H40: =_xlfn.IFNA(VLOOKUP(TRIM(CONCATENATE(Tableau111[[#This Row],[PRENOM]],Tableau111[[#This Row],[NOM]])),'T4'!$C$5:$E$100,3,FALSE),90) -> 76 | I40: =_xlfn.IFNA(VLOOKUP(TRIM(CONCATENATE(Tableau111[[#This Row],[PRENOM]],Tableau111[[#This Row],[NOM]])),'T5'!$C$5:$E$115,3,FALSE),90) -> 79 | J40: =_xlfn.IFNA(VLOOKUP(TRIM(CONCATENATE(Tableau111[[#This Row],[PRENOM]],Tableau111[[#This Row],[NOM]])),'T6'!$C$5:$E$126,3,FALSE),90) -> 75 | K40: =_xlfn.IFNA(VLOOKUP(TRIM(CONCATENATE(Tableau111[[#This Row],[PRENOM]],Tableau111[[#This Row],[NOM]])),'T7'!$C$5:$E$113,3,FALSE),90) -> 71 | L40: =SUM(E40:K40) -> 571 | M40: =LARGE(E40:K40,1) -> 90 | N40: =LARGE(E40:K40,2) -> 90 | O40: =L40-M40-N40 -> 391 | P40: =RANK(Tableau111[[#This Row],[SCORE Final 2025]],Tableau111[SCORE Final 2025],1) -> 36
B41: MARCUCCI | C41: Serge | D41: RIOM | E41: =_xlfn.IFNA(VLOOKUP(TRIM(CONCATENATE(Tableau111[[#This Row],[PRENOM]],Tableau111[[#This Row],[NOM]])),'T1'!$C$5:$E$106,3,FALSE),90) -> 90 | F41: =_xlfn.IFNA(VLOOKUP(TRIM(CONCATENATE(Tableau111[[#This Row],[PRENOM]],Tableau111[[#This Row],[NOM]])),'T2'!$C$5:$E$94,3,FALSE),90) -> 66 | G41: =_xlfn.IFNA(VLOOKUP(TRIM(CONCATENATE(Tableau111[[#This Row],[PRENOM]],Tableau111[[#This Row],[NOM]])),'T3'!$C$6:$E$115,3,FALSE),90) -> 90 | H41: =_xlfn.IFNA(VLOOKUP(TRIM(CONCATENATE(Tableau111[[#This Row],[PRENOM]],Tableau111[[#This Row],[NOM]])),'T4'!$C$5:$E$100,3,FALSE),90) -> 90 | I41: =_xlfn.IFNA(VLOOKUP(TRIM(CONCATENATE(Tableau111[[#This Row],[PRENOM]],Tableau111[[#This Row],[NOM]])),'T5'!$C$5:$E$115,3,FALSE),90) -> 90 | J41: =_xlfn.IFNA(VLOOKUP(TRIM(CONCATENATE(Tableau111[[#This Row],[PRENOM]],Tableau111[[#This Row],[NOM]])),'T6'!$C$5:$E$126,3,FALSE),90) -> 56 | K41: =_xlfn.IFNA(VLOOKUP(TRIM(CONCATENATE(Tableau111[[#This Row],[PRENOM]],Tableau111[[#This Row],[NOM]])),'T7'!$C$5:$E$113,3,FALSE),90) -> 90 | L41: =SUM(E41:K41) -> 572 | M41: =LARGE(E41:K41,1) -> 90 | N41: =LARGE(E41:K41,2) -> 90 | O41: =L41-M41-N41 -> 392 | P41: =RANK(Tableau111[[#This Row],[SCORE Final 2025]],Tableau111[SCORE Final 2025],1) -> 37
...

Sheet GENERAL EQUIPE
A1: ISAPP ANNEE 2026 GENERAL EQUIPE
B5: EQUIPES | C5: MONTPENSIER | D5: CHARADE | E5: MAURIAC | F5: MONT DORE | G5: LES VOLCANS | H5: VAL D'AUZON | I5: RIOM | J5: GLOBAL | K5: Colonne1
B6: RIOM | C6: ='T1'!$P7 -> 175 | D6: ='T2'!$P7 -> 183 | E6: ='T3'!$P7 -> 176 | F6: ='T4'!$P7 -> 194 | G6: ='T5'!$P7 -> 172 | H6: ='T6'!$P7 -> 178 | I6: ='T7'!$P7 -> 165 | J6: =SUM(C6:I6) -> 1243 | K6: 1
B7: GAZELEC CLERMONT | C7: ='T1'!$P8 -> 186 | D7: ='T2'!$P8 -> 184 | E7: ='T3'!$P8 -> 173 | F7: ='T4'!$P8 -> 199 | G7: ='T5'!$P8 -> 192 | H7: ='T6'!$P8 -> 205 | I7: ='T7'!$P8 -> 183 | J7: =SUM(C7:I7) -> 1322 | K7: 4
B8: MAURIAC | C8: ='T1'!$P12 -> 194 | D8: ='T2'!$P12 -> 204 | E8: ='T3'!$P12 -> 185 | F8: ='T4'!$P12 -> 203 | G8: ='T5'!$P12 -> 207 | H8: ='T6'!$P12 -> 207 | I8: ='T7'!$P12 -> 201 | J8: =SUM(C8:I8) -> 1401 | K8: 5
B9: VAL D'AUZON | C9: ='T1'!$P10 -> 180 | D9: ='T2'!$P10 -> 193 | E9: ='T3'!$P10 -> 175 | F9: ='T4'!$P10 -> 213 | G9: ='T5'!$P10 -> 187 | H9: ='T6'!$P10 -> 185 | I9: ='T7'!$P10 -> 182 | J9: =SUM(C9:I9) -> 1315 | K9: 2
B10: CHARADE | C10: ='T1'!$P11 -> 186 | D10: ='T2'!$P11 -> 189 | E10: ='T3'!$P11 -> 174 | F10: ='T4'!$P11 -> 208 | G10: ='T5'!$P11 -> 188 | H10: ='T6'!$P11 -> 192 | I10: ='T7'!$P11 -> 181 | J10: =SUM(C10:I10) -> 1318 | K10: 3
B11: MONTPENSIER | C11: ='T1'!$P13 -> 183 | D11: ='T2'!$P13 -> 270 | E11: ='T3'!$P13 -> 270 | F11: ='T4'!$P13 -> 238 | G11: ='T5'!$P13 -> 270 | H11: ='T6'!$P13 -> 190 | I11: ='T7'!$P13 -> 183 | J11: =SUM(C11:I11) -> 1604 | K11: 6
B12: GAZELEC MOULINS/VICHY | C12: ='T1'!$P9 -> 270 | D12: ='T2'!$P9 -> 270 | E12: ='T3'!$P9 -> 270 | F12: ='T4'!$P9 -> 270 | G12: ='T5'!$P9 -> 270 | H12: ='T6'!$P9 -> 270 | I12: ='T7'!$P9 -> 270 | J12: =SUM(C12:I12) -> 1890 | K12: 7

Sheet T1
A1: F P P - ISAPP T1 GOLF DE MONTPENSIER 26 MARS 2026
A3: RIOM
A4: NOM | B4: PRENOM | C4: Colonne1 | D4: Catégorie | E4: BRUT | G4: TOP 3 BRUT
A5: BRIDIER | B5: Elisabeth | C5: =TRIM(CONCATENATE(B5,A5)) -> ElisabethBRIDIER | D5: F | E5: 63 | G5: =SMALL(Tableau3[BRUT],1) -> 53 | J5: INDIVIDUEL DAMES | L5: SCORE Brut | M5: CLASSEMENT
A6: CLUZEL | B6: Jean Claude | C6: =TRIM(CONCATENATE(B6,A6)) -> Jean ClaudeCLUZEL | D6: M | E6: 64 | G6: =SMALL(Tableau3[BRUT],2) -> 61 | J6: {=IFERROR(INDEX(A$5:A$100, MATCH(1, (D$5:D$100="F")*(E$5:E$100=L6)*(COUNTIF(J$5:J5,A$5:A$100)=0), 0)),"")} -> BRIDIER | K6: {=IFERROR(INDEX(B$5:B$100, MATCH(1, (D$5:D$100="F")*(E$5:E$100=L6)*(COUNTIF(L$5:L5,E$5:E$100)=0), 0)),"")} -> Elisabeth | L6: {=IFERROR(SMALL(IF(D$6:D$100="F",E$6:E$100), ROW(A1)),"")} -> 63 | M6: 1 | O6: EQUIPES | P6: SCORE Brut | Q6: CLASSEMENT | S6: EQUIPES | T6: SCORE Brut | U6: CLASSEMENT
A7: JEANDREAU | B7: Alain | C7: =TRIM(CONCATENATE(B7,A7)) -> AlainJEANDREAU | D7: M | E7: 53 | G7: =SMALL(Tableau3[BRUT],3) -> 61 | J7: {=IFERROR(INDEX(A$6:A$100, MATCH(1, (D$6:D$100="F")*(E$6:E$100=L7)*(COUNTIF(J$5:J6,A$6:A$100)=0), 0)),"")} -> BOURNAT | K7: {=IFERROR(INDEX(B$6:B$100, MATCH(1, (D$6:D$100="F")*(E$6:E$100=L7)*(COUNTIF(K$5:K6,B$6:B$100)=0), 0)),"")} -> Christiane | L7: {=IFERROR(SMALL(IF((D$5:D$100="F")*(COUNTIF(L$5:L5,E$5:E$100)=0), E$5:E$100), ROW(A2)),"")} -> 63 | M7: 2 | O7: =A3 -> RIOM | P7: =SUM(G5:G7) -> 175 | Q7: =RANK(P7, P$7:P$13, 1) + COUNTIF(P$7:P7, P7) - 1 -> 1 | S7: =INDEX(O$7:O$13, MATCH(ROW(A1), Q$7:Q$13, 0)) -> RIOM | T7: =INDEX(P$7:P$13, MATCH(ROW(A1), Q$7:Q$13, 0)) -> 175 | U7: =ROW(A1) -> 1
A8: JUHLIEN | B8: Roland | C8: =TRIM(CONCATENATE(B8,A8)) -> RolandJUHLIEN | D8: M | E8: 61 | O8: =A15 -> GAZELEC CLERMONT | P8: =SUM(G15:G17) -> 186 | Q8: =RANK(P8, P$7:P$13, 1) + COUNTIF(P$7:P8, P8) - 1 -> 4 | S8: =INDEX(O$7:O$13, MATCH(ROW(A2), Q$7:Q$13, 0)) -> VAL D'AUZON | T8: =INDEX(P$7:P$13, MATCH(ROW(A2), Q$7:Q$13, 0)) -> 180 | U8: =ROW(A2) -> 2
A9: MACHAJ | B9: Jacky | C9: =TRIM(CONCATENATE(B9,A9)) -> JackyMACHAJ | D9: M | E9: 62 | O9: =A27 -> GAZELEC MOULINS/VICHY | P9: =SUM(G27:G29) -> 270 | Q9: =RANK(P9, P$7:P$13, 1) + COUNTIF(P$7:P9, P9) - 1 -> 7 | S9: =INDEX(O$7:O$13, MATCH(ROW(A3), Q$7:Q$13, 0)) -> MONTPENSIER | T9: =INDEX(P$7:P$13, MATCH(ROW(A3), Q$7:Q$13, 0)) -> 183 | U9: =ROW(A3) -> 3
A10: MOULIN | B10: Christian | C10: =TRIM(CONCATENATE(B10,A10)) -> ChristianMOULIN | D10: M | E10: 61 | J10: INDIVIDUEL MESSIEURS | L10: SCORE Brut | M10: CLASSEMENT | O10: =A35 -> VAL D'AUZON | P10: =SUM(G35:G37) -> 180 | Q10: =RANK(P10, P$7:P$13, 1) + COUNTIF(P$7:P10, P10) - 1 -> 2 | S10: =INDEX(O$7:O$13, MATCH(ROW(A4), Q$7:Q$13, 0)) -> GAZELEC CLERMONT | T10: =INDEX(P$7:P$13, MATCH(ROW(A4), Q$7:Q$13, 0)) -> 186 | U10: =ROW(A4) -> 4
A11: PEGEON | B11: Jacky | C11: =TRIM(CONCATENATE(B11,A11)) -> JackyPEGEON | D11: M | E11: 66 | J11: {=IFERROR(INDEX(A$5:A$100, MATCH(1, (D$5:D$100="M")*(E$5:E$100=L11)*(COUNTIF(J$10:J10,A$5:A$100)=0), 0)),"")} -> JEANDREAU | K11: {=IFERROR(INDEX(B$5:B$100, MATCH(1, (D$5:D$100="M")*(E$5:E$100=L11)*(COUNTIF(L$10:L10,E$5:E$100)=0), 0)),"")} -> Alain | L11: {=IFERROR(SMALL(IF(D$5:D$100="M",E$5:E$100), ROW(A1)),"")} -> 53 | M11: 1 | O11: =A47 -> CHARADE | P11: =SUM(G47:G49) -> 186 | Q11: =RANK(P11, P$7:P$13, 1) + COUNTIF(P$7:P11, P11) - 1 -> 5 | S11: =INDEX(O$7:O$13, MATCH(ROW(A5), Q$7:Q$13, 0)) -> CHARADE | T11: =INDEX(P$7:P$13, MATCH(ROW(A5), Q$7:Q$13, 0)) -> 186 | U11: =ROW(A5) -> 5
J12: {=IFERROR(INDEX(A$5:A$100, MATCH(1, (D$5:D$100="M")*(E$5:E$100=L12)*(COUNTIF(J$10:J11,A$5:A$100)=0), 0)),"")} -> BRUNEL | K12: {=IFERROR(INDEX(B$5:B$100, MATCH(1, (D$5:D$100="M")*(E$5:E$100=L12)*(COUNTIF(K$10:K11,B$5:B$100)=0), 0)),"")} -> Robert | L12: {=IFERROR(SMALL(IF(D$5:D$100="M",E$5:E$100), ROW(A2)),"")} -> 57 | M12: 2 | O12: =A58 -> MAURIAC | P12: =SUM(G58:G60) -> 194 | Q12: =RANK(P12, P$7:P$13, 1) + COUNTIF(P$7:P12, P12) - 1 -> 6 | S12: =INDEX(O$7:O$13, MATCH(ROW(A6), Q$7:Q$13, 0)) -> MAURIAC | T12: =INDEX(P$7:P$13, MATCH(ROW(A6), Q$7:Q$13, 0)) -> 194 | U12: =ROW(A6) -> 6
C13: =TRIM(CONCATENATE(B13,A13)) | J13: {=IFERROR(INDEX(A$5:A$100, MATCH(1, (D$5:D$100="M")*(E$5:E$100=L13)*(COUNTIF(J$10:J12,A$5:A$100)=0), 0)),"")} -> PERRIER | K13: {=IFERROR(INDEX(B$6:B$100, MATCH(1, (D$6:D$100="M")*(E$6:E$100=L13)*(COUNTIF(K$10:K12,B$6:B$100)=0), 0)),"")} -> Serge | L13: {=IFERROR(SMALL(IF(D$5:D$100="M",E$5:E$100), ROW(A3)),"")} -> 58 | M13: 3 | O13: =A68 -> MONTPENSIER | P13: =SUM(G68:G70) -> 183 | Q13: =RANK(P13, P$7:P$13, 1) + COUNTIF(P$7:P13, P13) - 1 -> 3 | S13: =INDEX(O$7:O$13, MATCH(ROW(A7), Q$7:Q$13, 0)) -> GAZELEC MOULINS/VICHY | T13: =INDEX(P$7:P$13, MATCH(ROW(A7), Q$7:Q$13, 0)) -> 270 | U13: =ROW(A7) -> 7
C14: =TRIM(CONCATENATE(B14,A14)) | G14: TOP 3 BRUT
A15: GAZELEC CLERMONT | G15: =SMALL(Tableau4[BRUT],1) -> 61
A16: NOM | B16: PRENOM | C16: Colonne1 | D16: Catégorie | E16: BRUT | G16: =SMALL(Tableau4[BRUT],2) -> 62 | J16: CONCOURS APPROCHE DAMES | L16: Distance | M16: Green N° 9
A17: BOURGIER | B17: Robert | C17: =TRIM(CONCATENATE(B17,A17)) -> RobertBOURGIER | D17: M | E17: 64 | G17: =SMALL(Tableau4[BRUT],3) -> 63 | J17: CARRER | K17: Jacqueline | L17: 2.96
A18: CAMBET | B18: Gérard | C18: =TRIM(CONCATENATE(B18,A18)) -> Gérard CAMBET | D18: M | E18: 63
A19: FROMAGE | B19: Gilles | C19: =TRIM(CONCATENATE(B19,A19)) -> GillesFROMAGE | D19: M | E19: 70 | J19: CONCOURS APPROCHE MESSIEURS | L19: Distance | M19: Green N° 9
A20: HESEL | B20: Jean Marc | C20: =TRIM(CONCATENATE(B20,A20)) -> Jean MarcHESEL | D20: M | E20: 62 | J20: RICHARD | K20: Jean Claude | L20: 1.12
A21: MANOUVRIER | B21: Michel | C21: =TRIM(CONCATENATE(B21,A21)) -> MichelMANOUVRIER | D21: M | E21: 64
A22: TIXIER | B22: Corinne | C22: =TRIM(CONCATENATE(B22,A22)) -> CorinneTIXIER | D22: F | E22: 76
A23: VESCOVI | B23: Gilles | C23: =TRIM(CONCATENATE(B23,A23)) -> GillesVESCOVI | D23: M | E23: 61
A24: VESCOVI | B24: Régine | C24: =TRIM(CONCATENATE(B24,A24)) -> RégineVESCOVI | D24: F | E24: 68
C25: =TRIM(CONCATENATE(B25,A25))
C26: =TRIM(CONCATENATE(B26,A26)) | G26: TOP 3 BRUT
A27: GAZELEC MOULINS/VICHY | G27: =SMALL(Tableau5[BRUT],1) -> 90
A28: NOM | B28: PRENOM | C28: Colonne1 | D28: Catégorie | E28: BRUT | G28: =SMALL(Tableau5[BRUT],2) -> 90
C29: =TRIM(CONCATENATE(B29,A29)) | E29: 90 | G29: =SMALL(Tableau5[BRUT],3) -> 90
C30: =TRIM(CONCATENATE(B30,A30)) | E30: 90
C31: =TRIM(CONCATENATE(B31,A31)) | E31: 90
C32: =TRIM(CONCATENATE(B32,A32)) | E32: 90
C33: =TRIM(CONCATENATE(B33,A33))
C34: =TRIM(CONCATENATE(B34,A34)) | G34: TOP 3 BRUT
A35: VAL D'AUZON | G35: =SMALL(Tableau6[BRUT],1) -> 57
A36: NOM | B36: PRENOM | C36: Colonne1 | D36: Catégorie | E36: BRUT | G36: =SMALL(Tableau6[BRUT],2) -> 59
A37: BRUNEL | B37: Robert | C37: =TRIM(CONCATENATE(B37,A37)) -> RobertBRUNEL | D37: M | E37: 57 | G37: =SMALL(Tableau6[BRUT],3) -> 64
A38: CIBERT GOTHON | B38: Michelle | C38: =TRIM(CONCATENATE(B38,A38)) -> MichelleCIBERT GOTHON | D38: F | E38: 67
A39: CUVIER | B39: Philippe | C39: =TRIM(CONCATENATE(B39,A39)) -> PhilippeCUVIER | D39: M | E39: 67
A40: FLEURY | B40: Bruno | C40: =TRIM(CONCATENATE(B40,A40)) -> BrunoFLEURY | D40: M | E40: 59
A41: LARIVIERE | B41: Ghislaine | C41: =TRIM(CONCATENATE(B41,A41)) -> Ghislaine LARIVIERE | D41: F | E41: 73
...

Sheet T2
A1: F P P - ISAPP T2 GOLF DE CHARADE 23 AVRIL 2026
A3: RIOM
A4: NOM | B4: PRENOM | C4: Colonne1 | D4: Catégorie | E4: BRUT | G4: TOP 3 BRUT
A5: BRIDIER | B5: Elisabeth | C5: =TRIM(CONCATENATE(B5,A5)) -> ElisabethBRIDIER | D5: F | E5: 79 | G5: =SMALL(Tableau313[BRUT],1) -> 57 | J5: INDIVIDUEL DAMES | L5: SCORE Brut | M5: CLASSEMENT
A6: JEANDREAU | B6: Alain | C6: =TRIM(CONCATENATE(B6,A6)) -> AlainJEANDREAU | D6: M | E6: 57 | G6: =SMALL(Tableau313[BRUT],2) -> 62 | J6: {=IFERROR(INDEX(A$5:A$94, MATCH(1, (D$5:D$94="F")*(E$5:E$94=L6)*(COUNTIF(J$5:J5,A$5:A$94)=0), 0)),"")} -> VESCOVI | K6: {=IFERROR(INDEX(B$5:B$94, MATCH(1, (D$5:D$94="F")*(E$5:E$94=L6)*(COUNTIF(L$5:L5,E$5:E$94)=0), 0)),"")} -> Régine | L6: {=IFERROR(SMALL(IF(D$6:D$94="F",E$6:E$94), ROW(A1)),"")} -> 67 | M6: 1 | O6: EQUIPES | P6: SCORE Brut | Q6: CLASSEMENT | S6: EQUIPES | T6: SCORE Brut | U6: CLASSEMENT
A7: MACHAJ | B7: Jacky | C7: =TRIM(CONCATENATE(B7,A7)) -> JackyMACHAJ | D7: M | E7: 64 | G7: =SMALL(Tableau313[BRUT],3) -> 64 | J7: {=IFERROR(INDEX(A$6:A$94, MATCH(1, (D$6:D$94="F")*(E$6:E$94=L7)*(COUNTIF(J$5:J6,A$6:A$94)=0), 0)),"")} -> PERRIER | K7: {=IFERROR(INDEX(B$6:B$94, MATCH(1, (D$6:D$94="F")*(E$6:E$94=L7)*(COUNTIF(K$5:K6,B$6:B$94)=0), 0)),"")} -> Huguette | L7: {=IFERROR(SMALL(IF((D$5:D$94="F")*(COUNTIF(L$5:L5,E$5:E$94)=0), E$5:E$94), ROW(A2)),"")} -> 68 | M7: 2 | O7: =A3 -> RIOM | P7: =SUM(G5:G7) -> 183 | Q7: =RANK(P7, P$7:P$13, 1) + COUNTIF(P$7:P7, P7) - 1 -> 1 | S7: =INDEX(O$7:O$13, MATCH(ROW(A1), Q$7:Q$13, 0)) -> RIOM | T7: =INDEX(P$7:P$13, MATCH(ROW(A1), Q$7:Q$13, 0)) -> 183 | U7: =ROW(A1) -> 1 | V7: 179 | W7: =T7+V7 -> 362 | X7: 1
A8: MARCUCCI | B8: Serge | C8: =TRIM(CONCATENATE(B8,A8)) -> SergeMARCUCCI | D8: M | E8: 66 | O8: =A16 -> GAZELEC CLERMONT | P8: =SUM(G18:G20) -> 184 | Q8: =RANK(P8, P$7:P$13, 1) + COUNTIF(P$7:P8, P8) - 1 -> 2 | S8: =INDEX(O$7:O$13, MATCH(ROW(A2), Q$7:Q$13, 0)) -> GAZELEC CLERMONT | T8: =INDEX(P$7:P$13, MATCH(ROW(A2), Q$7:Q$13, 0)) -> 184 | U8: =ROW(A2) -> 2 | V8: 185 | W8: =T8+V8 -> 369 | X8: 2
A9: MOULIN | B9: Christian | C9: =TRIM(CONCATENATE(B9,A9)) -> ChristianMOULIN | D9: M | E9: 62 | L9: 77 | O9: =A26 -> GAZELEC M/VICHY | P9: =SUM(G28:G30) -> 270 | Q9: =RANK(P9, P$7:P$13, 1) + COUNTIF(P$7:P9, P9) - 1 -> 6 | S9: =INDEX(O$7:O$13, MATCH(ROW(A3), Q$7:Q$13, 0)) -> CHARADE | T9: =INDEX(P$7:P$13, MATCH(ROW(A3), Q$7:Q$13, 0)) -> 189 | U9: =ROW(A3) -> 3 | V9: 190 | W9: =T9+V9 -> 379 | X9: 3
A10: PEGEON | B10: Jacky | C10: =TRIM(CONCATENATE(B10,A10)) -> JackyPEGEON | D10: M | E10: 66 | J10: INDIVIDUEL MESSIEURS | L10: SCORE Brut | M10: CLASSEMENT | O10: =A33 -> VAL D'AUZON | P10: =SUM(G35:G37) -> 193 | Q10: =RANK(P10, P$7:P$13, 1) + COUNTIF(P$7:P10, P10) - 1 -> 4 | S10: =INDEX(O$7:O$13, MATCH(ROW(A4), Q$7:Q$13, 0)) -> VAL D'AUZON | T10: =INDEX(P$7:P$13, MATCH(ROW(A4), Q$7:Q$13, 0)) -> 193 | U10: =ROW(A4) -> 4 | V10: 184 | W10: =T10+V10 -> 377 | X10: 3
A11: ROSSI | B11: Annie | C11: =TRIM(CONCATENATE(B11,A11)) -> AnnieROSSI | D11: F | E11: 73 | J11: {=IFERROR(INDEX(A$5:A$94, MATCH(1, (D$5:D$94="M")*(E$5:E$94=L11)*(COUNTIF(J$10:J10,A$5:A$94)=0), 0)),"")} -> JEANDREAU | K11: {=IFERROR(INDEX(B$5:B$94, MATCH(1, (D$5:D$94="M")*(E$5:E$94=L11)*(COUNTIF(L$10:L10,E$5:E$94)=0), 0)),"")} -> Alain | L11: {=IFERROR(SMALL(IF(D$5:D$94="M",E$5:E$94), ROW(A1)),"")} -> 57 | M11: 1 | O11: =A49 -> CHARADE | P11: =SUM(G51:G53) -> 189 | Q11: =RANK(P11, P$7:P$13, 1) + COUNTIF(P$7:P11, P11) - 1 -> 3 | S11: =INDEX(O$7:O$13, MATCH(ROW(A5), Q$7:Q$13, 0)) -> MAURIAC | T11: =INDEX(P$7:P$13, MATCH(ROW(A5), Q$7:Q$13, 0)) -> 204 | U11: =ROW(A5) -> 5 | V11: 185 | W11: =T11+V11 -> 389 | X11: 4
J12: {=IFERROR(INDEX(A$5:A$94, MATCH(1, (D$5:D$94="M")*(E$5:E$94=L12)*(COUNTIF(J$10:J11,A$5:A$94)=0), 0)),"")} -> VESCOVI | K12: {=IFERROR(INDEX(B$5:B$94, MATCH(1, (D$5:D$94="M")*(E$5:E$94=L12)*(COUNTIF(K$10:K11,B$5:B$94)=0), 0)),"")} -> Gilles | L12: {=IFERROR(SMALL(IF(D$5:D$94="M",E$5:E$94), ROW(A2)),"")} -> 59 | M12: 2 | O12: =A59 -> MAURIAC | P12: =SUM(G61:G63) -> 204 | Q12: =RANK(P12, P$7:P$13, 1) + COUNTIF(P$7:P12, P12) - 1 -> 5 | S12: =INDEX(O$7:O$13, MATCH(ROW(A6), Q$7:Q$13, 0)) -> GAZELEC M/VICHY | T12: =INDEX(P$7:P$13, MATCH(ROW(A6), Q$7:Q$13, 0)) -> 270 | U12: =ROW(A6) -> 6 | V12: 204 | W12: =T12+V12 -> 474 | X12: 5
